Workbook
Name Arbeit_Liste: Schichten!$O$5:$O$16
Name Bez_Liste: Schichten!$B$5:$B$16
Name Bezahlt_Liste: Schichten!$N$5:$N$16
Name Bundesland: Start!$C$6
Name Feiertage_aktiv: Feiertage!$T$5:$T$25
Name Firma: Start!$C$7
Name Jahr: Start!$C$5
Name Kuerzel_Auswahl: OFFSET(Schichten!$A$5,0,0,MAX(1,COUNTA(Schichten!$A$5:$A$16)),1)
Name Kuerzel_Liste: Schichten!$A$5:$A$16
Name Max_Folge: Start!$C$10
Name Min_Ruhe: Start!$C$9
Name Schicht_Tabelle: Schichten!$A$5:$P$16
Name Soll_Modus: Start!$C$8
Name Std_Liste: Schichten!$F$5:$F$16

Sheet Start
B2: Schichtplan
B3: für Teams bis 25 Personen · Feiertage automatisch · Vorlage von SEMINARON
B5: Jahr | C5: 2027 | D5: ← Jahr eintragen, alle Monatsblätter passen sich an
B6: Bundesland | C6: Nordrhein-Westfalen | D6: ← Bundesland wählen, die Feiertage passen sich an
B7: Firma oder Team (optional) | D7: ← erscheint im Titel jedes Monatsblatts
B8: Soll-Stunden berechnen nach | C8: Arbeitstagen Mo bis Fr | D8: ← oder „Kalendertagen“ (Wochenstunden ÷ 7 je Tag)
B9: Mindestruhezeit in Stunden | C9: 11 | D9: ← § 5 ArbZG: 11 Stunden. Warnung, wenn es weniger sind
B10: Höchstens Arbeitstage am Stück | C10: 6 | D10: ← Warnung ab dem nächsten Arbeitstag ohne freien Tag
B12: Mindestbesetzung je Schicht
B13: Kürzel | C13: Mo bis Fr | D13: Sa, So und Feiertage | E13: Schicht
B14: F | C14: 2 | D14: 2 | E14: =IF(B14="","",IFERROR(VLOOKUP(B14,Schicht_Tabelle,2,FALSE)&", "&IF(VLOOKUP(B14,Schicht_Tabelle,11,FALSE)<0,"keine feste Zeit",RIGHT("0"&HOUR(VLOOKUP(B14,Schicht_Tabelle,3,FALSE)),2)&":"&RIGHT("0"&MINUTE(VLOOKUP(B14,Schicht_Tabelle,3,FALSE)),2)&" bis "&RIGHT("0"&HOUR(VLOOKUP(B14,Schicht_Tabelle,4,FALSE)),2)&":"&RIGHT("0"&MINUTE(VLOOKUP(B14,Schicht_Tabelle,4,FALSE)),2)&" Uhr"),"Kürzel nicht im Blatt Schichten")) -> Früh, 06:00 bis 14:00 Uhr
B15: S | C15: 2 | D15: 2 | E15: =IF(B15="","",IFERROR(VLOOKUP(B15,Schicht_Tabelle,2,FALSE)&", "&IF(VLOOKUP(B15,Schicht_Tabelle,11,FALSE)<0,"keine feste Zeit",RIGHT("0"&HOUR(VLOOKUP(B15,Schicht_Tabelle,3,FALSE)),2)&":"&RIGHT("0"&MINUTE(VLOOKUP(B15,Schicht_Tabelle,3,FALSE)),2)&" bis "&RIGHT("0"&HOUR(VLOOKUP(B15,Schicht_Tabelle,4,FALSE)),2)&":"&RIGHT("0"&MINUTE(VLOOKUP(B15,Schicht_Tabelle,4,FALSE)),2)&" Uhr"),"Kürzel nicht im Blatt Schichten")) -> Spät, 14:00 bis 22:00 Uhr
B16: N | C16: 2 | D16: 2 | E16: =IF(B16="","",IFERROR(VLOOKUP(B16,Schicht_Tabelle,2,FALSE)&", "&IF(VLOOKUP(B16,Schicht_Tabelle,11,FALSE)<0,"keine feste Zeit",RIGHT("0"&HOUR(VLOOKUP(B16,Schicht_Tabelle,3,FALSE)),2)&":"&RIGHT("0"&MINUTE(VLOOKUP(B16,Schicht_Tabelle,3,FALSE)),2)&" bis "&RIGHT("0"&HOUR(VLOOKUP(B16,Schicht_Tabelle,4,FALSE)),2)&":"&RIGHT("0"&MINUTE(VLOOKUP(B16,Schicht_Tabelle,4,FALSE)),2)&" Uhr"),"Kürzel nicht im Blatt Schichten")) -> Nacht, 22:00 bis 06:00 Uhr
B17: T | C17: 1 | D17: 0 | E17: =IF(B17="","",IFERROR(VLOOKUP(B17,Schicht_Tabelle,2,FALSE)&", "&IF(VLOOKUP(B17,Schicht_Tabelle,11,FALSE)<0,"keine feste Zeit",RIGHT("0"&HOUR(VLOOKUP(B17,Schicht_Tabelle,3,FALSE)),2)&":"&RIGHT("0"&MINUTE(VLOOKUP(B17,Schicht_Tabelle,3,FALSE)),2)&" bis "&RIGHT("0"&HOUR(VLOOKUP(B17,Schicht_Tabelle,4,FALSE)),2)&":"&RIGHT("0"&MINUTE(VLOOKUP(B17,Schicht_Tabelle,4,FALSE)),2)&" Uhr"),"Kürzel nicht im Blatt Schichten")) -> Tag, 08:00 bis 16:30 Uhr
E18: =IF(B18="","",IFERROR(VLOOKUP(B18,Schicht_Tabelle,2,FALSE)&", "&IF(VLOOKUP(B18,Schicht_Tabelle,11,FALSE)<0,"keine feste Zeit",RIGHT("0"&HOUR(VLOOKUP(B18,Schicht_Tabelle,3,FALSE)),2)&":"&RIGHT("0"&MINUTE(VLOOKUP(B18,Schicht_Tabelle,3,FALSE)),2)&" bis "&RIGHT("0"&HOUR(VLOOKUP(B18,Schicht_Tabelle,4,FALSE)),2)&":"&RIGHT("0"&MINUTE(VLOOKUP(B18,Schicht_Tabelle,4,FALSE)),2)&" Uhr"),"Kürzel nicht im Blatt Schichten"))
B19: Leere Zeile: weiteres Kürzel eintragen, das gezählt werden soll.
B21: So geht es
B22: 1. Oben Jahr und Bundesland wählen. Datum, Wochentag, Kalenderwoche und Feiertage passen sich an.
B23: 2. Im Blatt „Schichten“ Kürzel, Beginn, Ende und Pause prüfen. Die Stunden rechnet die Vorlage selbst, auch über Mitternacht.
B24: 3. Im Blatt „Mitarbeitende“ Namen und Wochenstunden laut Vertrag eintragen.
B25: 4. In den Monatsblättern je Tag ein Kürzel eintragen oder aus der Liste wählen.
B26: 5. Unter dem Plan steht die Besetzung je Schicht: grün heißt Mindestbesetzung erreicht, rot heißt zu wenig.
B27: 6. Rot hinterlegtes Kürzel: Ruhezeit zum Vortag kürzer als oben eingestellt.
B28: 7. Schwarz-gelbes Kürzel: mehr Arbeitstage am Stück als oben eingestellt. Details stehen in der Spalte „Hinweise“.
B29: Gelbe Felder sind Eingabefelder. Alle anderen Werte rechnet die Vorlage. Es gibt keinen Blattschutz, Sie können alles anpassen.
B30: Tipp: Muster einer Person eintragen, etwa F F S S N N X X, markieren und am kleinen Quadrat bis zum Monatsende ziehen.
B31: Soll-Stunden: Wochenstunden ÷ 5 × Arbeitstage Mo bis Fr ohne Feiertage. Urlaub und Krankheit zählen mit den Stunden aus „Mitarbeitende“, Spalte D.
... B36: Vorlage von SEMINARON (seminaron.de). Frei verwendbar und veränderbar. Ohne Gewähr, keine Rechtsberatung. Tarifverträge und Betriebsvereinbarungen können andere Regeln vorsehen.

Sheet Schichten
A1: Schichten und Kürzel
A2: Gelbe Felder anpassen. Bis zu 12 Kürzel, bitte ohne Lücke untereinander. Die Farbe gehört zur Zeile.
K3: Hilfsspalten, bitte nicht ändern
A4: Kürzel | B4: Bezeichnung | C4: Beginn | D4: Ende | E4: Pause (Min.) | F4: Stunden | G4: Art | H4: Farbe | I4: Hinweis | K4: Beginn (Std.) | L4: Ende (Std. ab Tagesbeginn) | M4: Arbeit | N4: bezahlt abwesend | O4: Arbeitskürzel | P4: Beginn für Ruhezeit
A5: F | B5: Früh | C5: 0.25 | D5: 0.58333333 | E5: 30 | F5: =IF(AND(G5="Schicht",ISNUMBER(C5),ISNUMBER(D5)),ROUND(MOD(D5-C5,1)*24-N(E5)/60,2),0) -> 7.5 | G5: Schicht | H5: gelb | K5: =IF(AND(G5="Schicht",ISNUMBER(C5),ISNUMBER(D5)),ROUND(C5*24,4),-1) -> 6 | L5: =IF(K5<0,-999,ROUND(K5+MOD(D5-C5,1)*24,4)) -> 14 | M5: =IF(AND(A5<>"",G5="Schicht"),1,0) -> 1 | N5: =IF(AND(A5<>"",G5="Abwesenheit bezahlt"),1,0) -> 0 | O5: =IF(M5=1,A5,"#") -> F | P5: =IF(K5<0,99,K5) -> 6
A6: S | B6: Spät | C6: 0.58333333 | D6: 0.91666667 | E6: 30 | F6: =IF(AND(G6="Schicht",ISNUMBER(C6),ISNUMBER(D6)),ROUND(MOD(D6-C6,1)*24-N(E6)/60,2),0) -> 7.5 | G6: Schicht | H6: orange | K6: =IF(AND(G6="Schicht",ISNUMBER(C6),ISNUMBER(D6)),ROUND(C6*24,4),-1) -> 14 | L6: =IF(K6<0,-999,ROUND(K6+MOD(D6-C6,1)*24,4)) -> 22 | M6: =IF(AND(A6<>"",G6="Schicht"),1,0) -> 1 | N6: =IF(AND(A6<>"",G6="Abwesenheit bezahlt"),1,0) -> 0 | O6: =IF(M6=1,A6,"#") -> S | P6: =IF(K6<0,99,K6) -> 14
A7: N | B7: Nacht | C7: 0.91666667 | D7: 0.25 | E7: 30 | F7: =IF(AND(G7="Schicht",ISNUMBER(C7),ISNUMBER(D7)),ROUND(MOD(D7-C7,1)*24-N(E7)/60,2),0) -> 7.5 | G7: Schicht | H7: dunkelblau | I7: endet am Folgetag, Stunden werden richtig gerechnet | K7: =IF(AND(G7="Schicht",ISNUMBER(C7),ISNUMBER(D7)),ROUND(C7*24,4),-1) -> 22 | L7: =IF(K7<0,-999,ROUND(K7+MOD(D7-C7,1)*24,4)) -> 30 | M7: =IF(AND(A7<>"",G7="Schicht"),1,0) -> 1 | N7: =IF(AND(A7<>"",G7="Abwesenheit bezahlt"),1,0) -> 0 | O7: =IF(M7=1,A7,"#") -> N | P7: =IF(K7<0,99,K7) -> 22
A8: T | B8: Tag | C8: 0.33333333 | D8: 0.6875 | E8: 30 | F8: =IF(AND(G8="Schicht",ISNUMBER(C8),ISNUMBER(D8)),ROUND(MOD(D8-C8,1)*24-N(E8)/60,2),0) -> 8 | G8: Schicht | H8: grün | I8: Tagdienst, zum Beispiel Verwaltung oder Werkstatt | K8: =IF(AND(G8="Schicht",ISNUMBER(C8),ISNUMBER(D8)),ROUND(C8*24,4),-1) -> 8 | L8: =IF(K8<0,-999,ROUND(K8+MOD(D8-C8,1)*24,4)) -> 16.5 | M8: =IF(AND(A8<>"",G8="Schicht"),1,0) -> 1 | N8: =IF(AND(A8<>"",G8="Abwesenheit bezahlt"),1,0) -> 0 | O8: =IF(M8=1,A8,"#") -> T | P8: =IF(K8<0,99,K8) -> 8
A9: U | B9: Urlaub | F9: =IF(AND(G9="Schicht",ISNUMBER(C9),ISNUMBER(D9)),ROUND(MOD(D9-C9,1)*24-N(E9)/60,2),0) -> 0 | G9: Abwesenheit bezahlt | H9: hellblau | I9: zählt mit den Stunden aus „Mitarbeitende“, Spalte D | K9: =IF(AND(G9="Schicht",ISNUMBER(C9),ISNUMBER(D9)),ROUND(C9*24,4),-1) -> -1 | L9: =IF(K9<0,-999,ROUND(K9+MOD(D9-C9,1)*24,4)) -> -999 | M9: =IF(AND(A9<>"",G9="Schicht"),1,0) -> 0 | N9: =IF(AND(A9<>"",G9="Abwesenheit bezahlt"),1,0) -> 1 | O9: =IF(M9=1,A9,"#") -> # | P9: =IF(K9<0,99,K9) -> 99
A10: K | B10: krank | F10: =IF(AND(G10="Schicht",ISNUMBER(C10),ISNUMBER(D10)),ROUND(MOD(D10-C10,1)*24-N(E10)/60,2),0) -> 0 | G10: Abwesenheit bezahlt | H10: violett | I10: zählt mit den Stunden aus „Mitarbeitende“, Spalte D | K10: =IF(AND(G10="Schicht",ISNUMBER(C10),ISNUMBER(D10)),ROUND(C10*24,4),-1) -> -1 | L10: =IF(K10<0,-999,ROUND(K10+MOD(D10-C10,1)*24,4)) -> -999 | M10: =IF(AND(A10<>"",G10="Schicht"),1,0) -> 0 | N10: =IF(AND(A10<>"",G10="Abwesenheit bezahlt"),1,0) -> 1 | O10: =IF(M10=1,A10,"#") -> # | P10: =IF(K10<0,99,K10) -> 99
A11: X | B11: frei | F11: =IF(AND(G11="Schicht",ISNUMBER(C11),ISNUMBER(D11)),ROUND(MOD(D11-C11,1)*24-N(E11)/60,2),0) -> 0 | G11: frei | H11: grau | I11: freier Tag, zählt keine Stunden | K11: =IF(AND(G11="Schicht",ISNUMBER(C11),ISNUMBER(D11)),ROUND(C11*24,4),-1) -> -1 | L11: =IF(K11<0,-999,ROUND(K11+MOD(D11-C11,1)*24,4)) -> -999 | M11: =IF(AND(A11<>"",G11="Schicht"),1,0) -> 0 | N11: =IF(AND(A11<>"",G11="Abwesenheit bezahlt"),1,0) -> 0 | O11: =IF(M11=1,A11,"#") -> # | P11: =IF(K11<0,99,K11) -> 99
F12: =IF(AND(G12="Schicht",ISNUMBER(C12),ISNUMBER(D12)),ROUND(MOD(D12-C12,1)*24-N(E12)/60,2),0) -> 0 | H12: mint | I12: frei für eigene Kürzel, zum Beispiel Z für Zwischenschicht | K12: =IF(AND(G12="Schicht",ISNUMBER(C12),ISNUMBER(D12)),ROUND(C12*24,4),-1) -> -1 | L12: =IF(K12<0,-999,ROUND(K12+MOD(D12-C12,1)*24,4)) -> -999 | M12: =IF(AND(A12<>"",G12="Schicht"),1,0) -> 0 | N12: =IF(AND(A12<>"",G12="Abwesenheit bezahlt"),1,0) -> 0 | O12: =IF(M12=1,A12,"#") -> # | P12: =IF(K12<0,99,K12) -> 99
F13: =IF(AND(G13="Schicht",ISNUMBER(C13),ISNUMBER(D13)),ROUND(MOD(D13-C13,1)*24-N(E13)/60,2),0) -> 0 | H13: rosa | K13: =IF(AND(G13="Schicht",ISNUMBER(C13),ISNUMBER(D13)),ROUND(C13*24,4),-1) -> -1 | L13: =IF(K13<0,-999,ROUND(K13+MOD(D13-C13,1)*24,4)) -> -999 | M13: =IF(AND(A13<>"",G13="Schicht"),1,0) -> 0 | N13: =IF(AND(A13<>"",G13="Abwesenheit bezahlt"),1,0) -> 0 | O13: =IF(M13=1,A13,"#") -> # | P13: =IF(K13<0,99,K13) -> 99
F14: =IF(AND(G14="Schicht",ISNUMBER(C14),ISNUMBER(D14)),ROUND(MOD(D14-C14,1)*24-N(E14)/60,2),0) -> 0 | H14: sand | K14: =IF(AND(G14="Schicht",ISNUMBER(C14),ISNUMBER(D14)),ROUND(C14*24,4),-1) -> -1 | L14: =IF(K14<0,-999,ROUND(K14+MOD(D14-C14,1)*24,4)) -> -999 | M14: =IF(AND(A14<>"",G14="Schicht"),1,0) -> 0 | N14: =IF(AND(A14<>"",G14="Abwesenheit bezahlt"),1,0) -> 0 | O14: =IF(M14=1,A14,"#") -> # | P14: =IF(K14<0,99,K14) -> 99
F15: =IF(AND(G15="Schicht",ISNUMBER(C15),ISNUMBER(D15)),ROUND(MOD(D15-C15,1)*24-N(E15)/60,2),0) -> 0 | H15: blaugrau | K15: =IF(AND(G15="Schicht",ISNUMBER(C15),ISNUMBER(D15)),ROUND(C15*24,4),-1) -> -1 | L15: =IF(K15<0,-999,ROUND(K15+MOD(D15-C15,1)*24,4)) -> -999 | M15: =IF(AND(A15<>"",G15="Schicht"),1,0) -> 0 | N15: =IF(AND(A15<>"",G15="Abwesenheit bezahlt"),1,0) -> 0 | O15: =IF(M15=1,A15,"#") -> # | P15: =IF(K15<0,99,K15) -> 99
F16: =IF(AND(G16="Schicht",ISNUMBER(C16),ISNUMBER(D16)),ROUND(MOD(D16-C16,1)*24-N(E16)/60,2),0) -> 0 | H16: apricot | K16: =IF(AND(G16="Schicht",ISNUMBER(C16),ISNUMBER(D16)),ROUND(C16*24,4),-1) -> -1 | L16: =IF(K16<0,-999,ROUND(K16+MOD(D16-C16,1)*24,4)) -> -999 | M16: =IF(AND(A16<>"",G16="Schicht"),1,0) -> 0 | N16: =IF(AND(A16<>"",G16="Abwesenheit bezahlt"),1,0) -> 0 | O16: =IF(M16=1,A16,"#") -> # | P16: =IF(K16<0,99,K16) -> 99
A18: Stunden = Ende minus Beginn minus Pause. Endet eine Schicht nach Mitternacht (Ende kleiner als Beginn), rechnet die Vorlage automatisch über den Tageswechsel.
A19: Wird die Pause bei Ihnen bezahlt und als Arbeitszeit gezählt, tragen Sie bei Pause 0 ein.
A20: Art „Schicht“ zählt Stunden und Arbeitstage. „Abwesenheit bezahlt“ (Urlaub, krank) zählt mit den Stunden je Abwesenheitstag aus dem Blatt „Mitarbeitende“. „frei“ zählt nichts.
A21: Pausen nach § 4 ArbZG: mindestens 30 Minuten bei mehr als 6 Stunden Arbeit, 45 Minuten bei mehr als 9 Stunden.
A22: Die Zählspalten in den Monatsblättern zählen die Kürzel der Zeilen 1, 2, 3, 5 und 6 (Standard: F, S, N, U, K).
A23: Zeitumstellung (letzter Sonntag im März und im Oktober): In dieser Nacht ist die Nachtschicht eine Stunde kürzer bzw. länger. Legen Sie dafür bei Bedarf ein eigenes Kürzel an.

Sheet Mitarbeitende
A1: ="Mitarbeitende und Jahresübersicht "&Jahr -> Mitarbeitende und Jahresübersicht 2027
A2: Gelbe Felder ausfüllen, der Rest rechnet sich aus den Monatsblättern.
A3: ="Sonntage im Jahr "&Jahr&": "&SUM(Jan:Dez!$B$42:$AF$42)&". Nach § 11 ArbZG müssen mindestens 15 Sonntage im Jahr frei bleiben." -> Sonntage im Jahr 2027: 52. Nach § 11 ArbZG müssen mindestens 15 Sonntage im Jahr frei bleiben.
E4: Stunden im Jahr | H4: Anzahl im Jahr
A5: Name | B5: Gruppe oder Bereich | C5: Wochenstunden laut Vertrag | D5: Stunden je Urlaubs- oder Krankheitstag | E5: Soll-Stunden (geplante Monate) | F5: Ist-Stunden | G5: Saldo | H5: =INDEX(Bez_Liste,1)&" ("&INDEX(Kuerzel_Liste,1)&")" -> Früh (F) | I5: =INDEX(Bez_Liste,2)&" ("&INDEX(Kuerzel_Liste,2)&")" -> Spät (S) | J5: =INDEX(Bez_Liste,3)&" ("&INDEX(Kuerzel_Liste,3)&")" -> Nacht (N) | K5: =INDEX(Bez_Liste,5)&" ("&INDEX(Kuerzel_Liste,5)&")" -> Urlaub (U) | L5: =INDEX(Bez_Liste,6)&" ("&INDEX(Kuerzel_Liste,6)&")" -> krank (K) | M5: Sonntage gearbeitet | N5: Sonntage frei
D6: =IF(C6="","",C6/5) | E6: =IF(A6="","",SUM(Jan:Dez!AR6)) | F6: =IF(A6="","",SUM(Jan:Dez!AI6)) | G6: =IF(A6="","",F6-E6) | H6: =IF(A6="","",SUM(Jan:Dez!AK6)) | I6: =IF(A6="","",SUM(Jan:Dez!AL6)) | J6: =IF(A6="","",SUM(Jan:Dez!AM6)) | K6: =IF(A6="","",SUM(Jan:Dez!AN6)) | L6: =IF(A6="","",SUM(Jan:Dez!AO6)) | M6: =IF(A6="","",SUM(Jan:Dez!AP6)) | N6: =IF(A6="","",SUM(Jan:Dez!$B$42:$AF$42)-M6)
D7: =IF(C7="","",C7/5) | E7: =IF(A7="","",SUM(Jan:Dez!AR7)) | F7: =IF(A7="","",SUM(Jan:Dez!AI7)) | G7: =IF(A7="","",F7-E7) | H7: =IF(A7="","",SUM(Jan:Dez!AK7)) | I7: =IF(A7="","",SUM(Jan:Dez!AL7)) | J7: =IF(A7="","",SUM(Jan:Dez!AM7)) | K7: =IF(A7="","",SUM(Jan:Dez!AN7)) | L7: =IF(A7="","",SUM(Jan:Dez!AO7)) | M7: =IF(A7="","",SUM(Jan:Dez!AP7)) | N7: =IF(A7="","",SUM(Jan:Dez!$B$42:$AF$42)-M7)
D8: =IF(C8="","",C8/5) | E8: =IF(A8="","",SUM(Jan:Dez!AR8)) | F8: =IF(A8="","",SUM(Jan:Dez!AI8)) | G8: =IF(A8="","",F8-E8) | H8: =IF(A8="","",SUM(Jan:Dez!AK8)) | I8: =IF(A8="","",SUM(Jan:Dez!AL8)) | J8: =IF(A8="","",SUM(Jan:Dez!AM8)) | K8: =IF(A8="","",SUM(Jan:Dez!AN8)) | L8: =IF(A8="","",SUM(Jan:Dez!AO8)) | M8: =IF(A8="","",SUM(Jan:Dez!AP8)) | N8: =IF(A8="","",SUM(Jan:Dez!$B$42:$AF$42)-M8)
D9: =IF(C9="","",C9/5) | E9: =IF(A9="","",SUM(Jan:Dez!AR9)) | F9: =IF(A9="","",SUM(Jan:Dez!AI9)) | G9: =IF(A9="","",F9-E9) | H9: =IF(A9="","",SUM(Jan:Dez!AK9)) | I9: =IF(A9="","",SUM(Jan:Dez!AL9)) | J9: =IF(A9="","",SUM(Jan:Dez!AM9)) | K9: =IF(A9="","",SUM(Jan:Dez!AN9)) | L9: =IF(A9="","",SUM(Jan:Dez!AO9)) | M9: =IF(A9="","",SUM(Jan:Dez!AP9)) | N9: =IF(A9="","",SUM(Jan:Dez!$B$42:$AF$42)-M9)
D10: =IF(C10="","",C10/5) | E10: =IF(A10="","",SUM(Jan:Dez!AR10)) | F10: =IF(A10="","",SUM(Jan:Dez!AI10)) | G10: =IF(A10="","",F10-E10) | H10: =IF(A10="","",SUM(Jan:Dez!AK10)) | I10: =IF(A10="","",SUM(Jan:Dez!AL10)) | J10: =IF(A10="","",SUM(Jan:Dez!AM10)) | K10: =IF(A10="","",SUM(Jan:Dez!AN10)) | L10: =IF(A10="","",SUM(Jan:Dez!AO10)) | M10: =IF(A10="","",SUM(Jan:Dez!AP10)) | N10: =IF(A10="","",SUM(Jan:Dez!$B$42:$AF$42)-M10)
D11: =IF(C11="","",C11/5) | E11: =IF(A11="","",SUM(Jan:Dez!AR11)) | F11: =IF(A11="","",SUM(Jan:Dez!AI11)) | G11: =IF(A11="","",F11-E11) | H11: =IF(A11="","",SUM(Jan:Dez!AK11)) | I11: =IF(A11="","",SUM(Jan:Dez!AL11)) | J11: =IF(A11="","",SUM(Jan:Dez!AM11)) | K11: =IF(A11="","",SUM(Jan:Dez!AN11)) | L11: =IF(A11="","",SUM(Jan:Dez!AO11)) | M11: =IF(A11="","",SUM(Jan:Dez!AP11)) | N11: =IF(A11="","",SUM(Jan:Dez!$B$42:$AF$42)-M11)
D12: =IF(C12="","",C12/5) | E12: =IF(A12="","",SUM(Jan:Dez!AR12)) | F12: =IF(A12="","",SUM(Jan:Dez!AI12)) | G12: =IF(A12="","",F12-E12) | H12: =IF(A12="","",SUM(Jan:Dez!AK12)) | I12: =IF(A12="","",SUM(Jan:Dez!AL12)) | J12: =IF(A12="","",SUM(Jan:Dez!AM12)) | K12: =IF(A12="","",SUM(Jan:Dez!AN12)) | L12: =IF(A12="","",SUM(Jan:Dez!AO12)) | M12: =IF(A12="","",SUM(Jan:Dez!AP12)) | N12: =IF(A12="","",SUM(Jan:Dez!$B$42:$AF$42)-M12)
D13: =IF(C13="","",C13/5) | E13: =IF(A13="","",SUM(Jan:Dez!AR13)) | F13: =IF(A13="","",SUM(Jan:Dez!AI13)) | G13: =IF(A13="","",F13-E13) | H13: =IF(A13="","",SUM(Jan:Dez!AK13)) | I13: =IF(A13="","",SUM(Jan:Dez!AL13)) | J13: =IF(A13="","",SUM(Jan:Dez!AM13)) | K13: =IF(A13="","",SUM(Jan:Dez!AN13)) | L13: =IF(A13="","",SUM(Jan:Dez!AO13)) | M13: =IF(A13="","",SUM(Jan:Dez!AP13)) | N13: =IF(A13="","",SUM(Jan:Dez!$B$42:$AF$42)-M13)
D14: =IF(C14="","",C14/5) | E14: =IF(A14="","",SUM(Jan:Dez!AR14)) | F14: =IF(A14="","",SUM(Jan:Dez!AI14)) | G14: =IF(A14="","",F14-E14) | H14: =IF(A14="","",SUM(Jan:Dez!AK14)) | I14: =IF(A14="","",SUM(Jan:Dez!AL14)) | J14: =IF(A14="","",SUM(Jan:Dez!AM14)) | K14: =IF(A14="","",SUM(Jan:Dez!AN14)) | L14: =IF(A14="","",SUM(Jan:Dez!AO14)) | M14: =IF(A14="","",SUM(Jan:Dez!AP14)) | N14: =IF(A14="","",SUM(Jan:Dez!$B$42:$AF$42)-M14)
D15: =IF(C15="","",C15/5) | E15: =IF(A15="","",SUM(Jan:Dez!AR15)) | F15: =IF(A15="","",SUM(Jan:Dez!AI15)) | G15: =IF(A15="","",F15-E15) | H15: =IF(A15="","",SUM(Jan:Dez!AK15)) | I15: =IF(A15="","",SUM(Jan:Dez!AL15)) | J15: =IF(A15="","",SUM(Jan:Dez!AM15)) | K15: =IF(A15="","",SUM(Jan:Dez!AN15)) | L15: =IF(A15="","",SUM(Jan:Dez!AO15)) | M15: =IF(A15="","",SUM(Jan:Dez!AP15)) | N15: =IF(A15="","",SUM(Jan:Dez!$B$42:$AF$42)-M15)
D16: =IF(C16="","",C16/5) | E16: =IF(A16="","",SUM(Jan:Dez!AR16)) | F16: =IF(A16="","",SUM(Jan:Dez!AI16)) | G16: =IF(A16="","",F16-E16) | H16: =IF(A16="","",SUM(Jan:Dez!AK16)) | I16: =IF(A16="","",SUM(Jan:Dez!AL16)) | J16: =IF(A16="","",SUM(Jan:Dez!AM16)) | K16: =IF(A16="","",SUM(Jan:Dez!AN16)) | L16: =IF(A16="","",SUM(Jan:Dez!AO16)) | M16: =IF(A16="","",SUM(Jan:Dez!AP16)) | N16: =IF(A16="","",SUM(Jan:Dez!$B$42:$AF$42)-M16)
D17: =IF(C17="","",C17/5) | E17: =IF(A17="","",SUM(Jan:Dez!AR17)) | F17: =IF(A17="","",SUM(Jan:Dez!AI17)) | G17: =IF(A17="","",F17-E17) | H17: =IF(A17="","",SUM(Jan:Dez!AK17)) | I17: =IF(A17="","",SUM(Jan:Dez!AL17)) | J17: =IF(A17="","",SUM(Jan:Dez!AM17)) | K17: =IF(A17="","",SUM(Jan:Dez!AN17)) | L17: =IF(A17="","",SUM(Jan:Dez!AO17)) | M17: =IF(A17="","",SUM(Jan:Dez!AP17)) | N17: =IF(A17="","",SUM(Jan:Dez!$B$42:$AF$42)-M17)
... D30: =IF(C30="","",C30/5) | E30: =IF(A30="","",SUM(Jan:Dez!AR30)) | F30: =IF(A30="","",SUM(Jan:Dez!AI30)) | G30: =IF(A30="","",F30-E30) | H30: =IF(A30="","",SUM(Jan:Dez!AK30)) | I30: =IF(A30="","",SUM(Jan:Dez!AL30)) | J30: =IF(A30="","",SUM(Jan:Dez!AM30)) | K30: =IF(A30="","",SUM(Jan:Dez!AN30)) | L30: =IF(A30="","",SUM(Jan:Dez!AO30)) | M30: =IF(A30="","",SUM(Jan:Dez!AP30)) | N30: =IF(A30="","",SUM(Jan:Dez!$B$42:$AF$42)-M30)
A32: Spalte D ist vorbelegt mit Wochenstunden ÷ 5. Arbeitet jemand zum Beispiel 4 Tage pro Woche, tragen Sie hier die Stunden eines Arbeitstags ein (32 ÷ 4 = 8).
A33: Soll-Stunden zählen nur für Monate, in denen für die Person schon etwas eingetragen ist. So bleibt der Saldo während des Jahres aussagekräftig.
A34: Saldo positiv: Plus-Stunden, negativ: Minus-Stunden.
A35: Sonntage gearbeitet: Tage, an denen eine Schicht am Sonntag beginnt. Nachtschichten, die am Samstag beginnen, reichen in den Sonntag hinein: bitte selbst mitzählen.

Sheet Jan
A1: ="Schichtplan Januar "&Jahr&IF(Firma="",""," · "&Firma) -> Schichtplan Januar 2027
A2: ="Bundesland: "&Bundesland&" · Soll-Arbeitstage Mo bis Fr: "&SUM(B43:AF43)&" · Mindestruhezeit: "&Min_Ruhe&" Std. · höchstens "&Max_Folge&" Arbeitstage am Stück" -> Bundesland: Nordrhein-Westfalen · Soll-Arbeitstage Mo bis Fr: 20 · Mindestruhezeit: 11 Std. · höchstens 6 Arbeitstage am Stück
A3: KW | B3: =IF(B4="","",IF(OR(WEEKDAY(B4,2)=1,DAY(B4)=1),INT((B4-DATE(YEAR(B4-WEEKDAY(B4-1)+4),1,3)+WEEKDAY(DATE(YEAR(B4-WEEKDAY(B4-1)+4),1,3))+5)/7),"")) -> 53 | C3: =IF(C4="","",IF(OR(WEEKDAY(C4,2)=1,DAY(C4)=1),INT((C4-DATE(YEAR(C4-WEEKDAY(C4-1)+4),1,3)+WEEKDAY(DATE(YEAR(C4-WEEKDAY(C4-1)+4),1,3))+5)/7),"")) | D3: =IF(D4="","",IF(OR(WEEKDAY(D4,2)=1,DAY(D4)=1),INT((D4-DATE(YEAR(D4-WEEKDAY(D4-1)+4),1,3)+WEEKDAY(DATE(YEAR(D4-WEEKDAY(D4-1)+4),1,3))+5)/7),"")) | E3: =IF(E4="","",IF(OR(WEEKDAY(E4,2)=1,DAY(E4)=1),INT((E4-DATE(YEAR(E4-WEEKDAY(E4-1)+4),1,3)+WEEKDAY(DATE(YEAR(E4-WEEKDAY(E4-1)+4),1,3))+5)/7),"")) -> 1 | F3: =IF(F4="","",IF(OR(WEEKDAY(F4,2)=1,DAY(F4)=1),INT((F4-DATE(YEAR(F4-WEEKDAY(F4-1)+4),1,3)+WEEKDAY(DATE(YEAR(F4-WEEKDAY(F4-1)+4),1,3))+5)/7),"")) | G3: =IF(G4="","",IF(OR(WEEKDAY(G4,2)=1,DAY(G4)=1),INT((G4-DATE(YEAR(G4-WEEKDAY(G4-1)+4),1,3)+WEEKDAY(DATE(YEAR(G4-WEEKDAY(G4-1)+4),1,3))+5)/7),"")) | H3: =IF(H4="","",IF(OR(WEEKDAY(H4,2)=1,DAY(H4)=1),INT((H4-DATE(YEAR(H4-WEEKDAY(H4-1)+4),1,3)+WEEKDAY(DATE(YEAR(H4-WEEKDAY(H4-1)+4),1,3))+5)/7),"")) | I3: =IF(I4="","",IF(OR(WEEKDAY(I4,2)=1,DAY(I4)=1),INT((I4-DATE(YEAR(I4-WEEKDAY(I4-1)+4),1,3)+WEEKDAY(DATE(YEAR(I4-WEEKDAY(I4-1)+4),1,3))+5)/7),"")) | ... AF3: =IF(AF4="","",IF(OR(WEEKDAY(AF4,2)=1,DAY(AF4)=1),INT((AF4-DATE(YEAR(AF4-WEEKDAY(AF4-1)+4),1,3)+WEEKDAY(DATE(YEAR(AF4-WEEKDAY(AF4-1)+4),1,3))+5)/7),""))
A4: Tag | B4: =IF(MONTH(DATE(Jahr,1,1))=1,DATE(Jahr,1,1),"") -> 46388 | C4: =IF(MONTH(DATE(Jahr,1,2))=1,DATE(Jahr,1,2),"") -> 46389 | D4: =IF(MONTH(DATE(Jahr,1,3))=1,DATE(Jahr,1,3),"") -> 46390 | E4: =IF(MONTH(DATE(Jahr,1,4))=1,DATE(Jahr,1,4),"") -> 46391 | F4: =IF(MONTH(DATE(Jahr,1,5))=1,DATE(Jahr,1,5),"") -> 46392 | G4: =IF(MONTH(DATE(Jahr,1,6))=1,DATE(Jahr,1,6),"") -> 46393 | H4: =IF(MONTH(DATE(Jahr,1,7))=1,DATE(Jahr,1,7),"") -> 46394 | I4: =IF(MONTH(DATE(Jahr,1,8))=1,DATE(Jahr,1,8),"") -> 46395 | J4: =IF(MONTH(DATE(Jahr,1,9))=1,DATE(Jahr,1,9),"") -> 46396 | K4: =IF(MONTH(DATE(Jahr,1,10))=1,DATE(Jahr,1,10),"") -> 46397 | L4: =IF(MONTH(DATE(Jahr,1,11))=1,DATE(Jahr,1,11),"") -> 46398 | M4: =IF(MONTH(DATE(Jahr,1,12))=1,DATE(Jahr,1,12),"") -> 46399 | N4: =IF(MONTH(DATE(Jahr,1,13))=1,DATE(Jahr,1,13),"") -> 46400 | O4: =IF(MONTH(DATE(Jahr,1,14))=1,DATE(Jahr,1,14),"") -> 46401 | P4: =IF(MONTH(DATE(Jahr,1,15))=1,DATE(Jahr,1,15),"") -> 46402 | Q4: =IF(MONTH(DATE(Jahr,1,16))=1,DATE(Jahr,1,16),"") -> 46403 | R4: =IF(MONTH(DATE(Jahr,1,17))=1,DATE(Jahr,1,17),"") -> 46404 | S4: =IF(MONTH(DATE(Jahr,1,18))=1,DATE(Jahr,1,18),"") -> 46405 | T4: =IF(MONTH(DATE(Jahr,1,19))=1,DATE(Jahr,1,19),"") -> 46406 | U4: =IF(MONTH(DATE(Jahr,1,20))=1,DATE(Jahr,1,20),"") -> 46407 | V4: =IF(MONTH(DATE(Jahr,1,21))=1,DATE(Jahr,1,21),"") -> 46408 | W4: =IF(MONTH(DATE(Jahr,1,22))=1,DATE(Jahr,1,22),"") -> 46409 | X4: =IF(MONTH(DATE(Jahr,1,23))=1,DATE(Jahr,1,23),"") -> 46410 | Y4: =IF(MONTH(DATE(Jahr,1,24))=1,DATE(Jahr,1,24),"") -> 46411 | Z4: =IF(MONTH(DATE(Jahr,1,25))=1,DATE(Jahr,1,25),"") -> 46412 | AA4: =IF(MONTH(DATE(Jahr,1,26))=1,DATE(Jahr,1,26),"") -> 46413 | AB4: =IF(MONTH(DATE(Jahr,1,27))=1,DATE(Jahr,1,27),"") -> 46414 | AC4: =IF(MONTH(DATE(Jahr,1,28))=1,DATE(Jahr,1,28),"") -> 46415 | AD4: =IF(MONTH(DATE(Jahr,1,29))=1,DATE(Jahr,1,29),"") -> 46416 | AE4: =IF(MONTH(DATE(Jahr,1,30))=1,DATE(Jahr,1,30),"") -> 46417 | AF4: =IF(MONTH(DATE(Jahr,1,31))=1,DATE(Jahr,1,31),"") -> 46418 | AH4: Stunden | AK4: Anzahl | AS4: Hilfsspalten: Schichtende, Tage am Stück, Ruhezeit
A5: Name | B5: =B4 -> 46388 | C5: =C4 -> 46389 | D5: =D4 -> 46390 | E5: =E4 -> 46391 | F5: =F4 -> 46392 | G5: =G4 -> 46393 | H5: =H4 -> 46394 | I5: =I4 -> 46395 | ... AF5: =AF4 -> 46418 | AH5: Soll | AI5: Ist | AJ5: Saldo | AK5: =INDEX(Kuerzel_Liste,1)&"" -> F | AL5: =INDEX(Kuerzel_Liste,2)&"" -> S | AM5: =INDEX(Kuerzel_Liste,3)&"" -> N | AN5: =INDEX(Kuerzel_Liste,5)&"" -> U | AO5: =INDEX(Kuerzel_Liste,6)&"" -> K | AP5: So. | AQ5: Hinweise
A6: =IF(Mitarbeitende!A6="","",Mitarbeitende!A6) | AH6: =IF(OR($A6="",N(Mitarbeitende!$C6)=0),"",IF(Soll_Modus="Kalendertagen",Mitarbeitende!$C6/7*COUNT($B$4:$AF$4),Mitarbeitende!$C6/5*SUM($B$43:$AF$43))) | AI6: =IF($A6="","",SUMPRODUCT(COUNTIF($B6:$AF6,Kuerzel_Liste)*Std_Liste)+SUMPRODUCT(COUNTIF($B6:$AF6,Kuerzel_Liste)*Bezahlt_Liste)*N(Mitarbeitende!$D6)) | AJ6: =IF(OR($A6="",AH6="",COUNTA($B6:$AF6)=0),"",AI6-AH6) | AK6: =IF(OR($A6="",AK$5=""),"",COUNTIF($B6:$AF6,AK$5)) | AL6: =IF(OR($A6="",AL$5=""),"",COUNTIF($B6:$AF6,AL$5)) | AM6: =IF(OR($A6="",AM$5=""),"",COUNTIF($B6:$AF6,AM$5)) | AN6: =IF(OR($A6="",AN$5=""),"",COUNTIF($B6:$AF6,AN$5)) | AO6: =IF(OR($A6="",AO$5=""),"",COUNTIF($B6:$AF6,AO$5)) | AP6: =IF($A6="","",SUMPRODUCT($B$42:$AF$42*(COUNTIF(Arbeit_Liste,$B6:$AF6)>0))) | AQ6: =IF($A6="","",IF(SUM(DC6:EG6)>0,SUM(DC6:EG6)&"x Ruhezeit","")&IF(AND(SUM(DC6:EG6)>0,MAX(BX6:DB6)>Max_Folge),", ","")&IF(MAX(BX6:DB6)>Max_Folge,MAX(BX6:DB6)&" Tage am Stück","")) | AR6: =IF(COUNTA($B6:$AF6)>0,N(AH6),0) -> 0 | AS6: =IF(B$4="",-999,IFERROR(VLOOKUP(B6,Schicht_Tabelle,12,0),-999)) -> -999 | AT6: =IF(C$4="",AS6,IFERROR(VLOOKUP(C6,Schicht_Tabelle,12,0),-999)) -> -999 | AU6: =IF(D$4="",AT6,IFERROR(VLOOKUP(D6,Schicht_Tabelle,12,0),-999)) -> -999 | AV6: =IF(E$4="",AU6,IFERROR(VLOOKUP(E6,Schicht_Tabelle,12,0),-999)) -> -999 | AW6: =IF(F$4="",AV6,IFERROR(VLOOKUP(F6,Schicht_Tabelle,12,0),-999)) -> -999 | AX6: =IF(G$4="",AW6,IFERROR(VLOOKUP(G6,Schicht_Tabelle,12,0),-999)) -> -999 | AY6: =IF(H$4="",AX6,IFERROR(VLOOKUP(H6,Schicht_Tabelle,12,0),-999)) -> -999 | AZ6: =IF(I$4="",AY6,IFERROR(VLOOKUP(I6,Schicht_Tabelle,12,0),-999)) -> -999 | BA6: =IF(J$4="",AZ6,IFERROR(VLOOKUP(J6,Schicht_Tabelle,12,0),-999)) -> -999 | ... BW6: =IF(AF$4="",BV6,IFERROR(VLOOKUP(AF6,Schicht_Tabelle,12,0),-999)) -> -999 | BX6: =IF(B$4="",0,IF(IFERROR(VLOOKUP(B6,Schicht_Tabelle,13,0),0)=1,0+1,0)) -> 0 | BY6: =IF(C$4="",BX6,IF(IFERROR(VLOOKUP(C6,Schicht_Tabelle,13,0),0)=1,BX6+1,0)) -> 0 | BZ6: =IF(D$4="",BY6,IF(IFERROR(VLOOKUP(D6,Schicht_Tabelle,13,0),0)=1,BY6+1,0)) -> 0 | CA6: =IF(E$4="",BZ6,IF(IFERROR(VLOOKUP(E6,Schicht_Tabelle,13,0),0)=1,BZ6+1,0)) -> 0 | CB6: =IF(F$4="",CA6,IF(IFERROR(VLOOKUP(F6,Schicht_Tabelle,13,0),0)=1,CA6+1,0)) -> 0 | CC6: =IF(G$4="",CB6,IF(IFERROR(VLOOKUP(G6,Schicht_Tabelle,13,0),0)=1,CB6+1,0)) -> 0 | CD6: =IF(H$4="",CC6,IF(IFERROR(VLOOKUP(H6,Schicht_Tabelle,13,0),0)=1,CC6+1,0)) -> 0 | CE6: =IF(I$4="",CD6,IF(IFERROR(VLOOKUP(I6,Schicht_Tabelle,13,0),0)=1,CD6+1,0)) -> 0 | CF6: =IF(J$4="",CE6,IF(IFERROR(VLOOKUP(J6,Schicht_Tabelle,13,0),0)=1,CE6+1,0)) -> 0 | ... DB6: =IF(AF$4="",DA6,IF(IFERROR(VLOOKUP(AF6,Schicht_Tabelle,13,0),0)=1,DA6+1,0)) -> 0 | DC6: =IF(B$4="",0,N(ROUND(24+IFERROR(VLOOKUP(B6,Schicht_Tabelle,16,0),99)--999,2)<Min_Ruhe)) -> 0 | DD6: =IF(C$4="",0,N(ROUND(24+IFERROR(VLOOKUP(C6,Schicht_Tabelle,16,0),99)-AS6,2)<Min_Ruhe)) -> 0 | DE6: =IF(D$4="",0,N(ROUND(24+IFERROR(VLOOKUP(D6,Schicht_Tabelle,16,0),99)-AT6,2)<Min_Ruhe)) -> 0 | DF6: =IF(E$4="",0,N(ROUND(24+IFERROR(VLOOKUP(E6,Schicht_Tabelle,16,0),99)-AU6,2)<Min_Ruhe)) -> 0 | DG6: =IF(F$4="",0,N(ROUND(24+IFERROR(VLOOKUP(F6,Schicht_Tabelle,16,0),99)-AV6,2)<Min_Ruhe)) -> 0 | DH6: =IF(G$4="",0,N(ROUND(24+IFERROR(VLOOKUP(G6,Schicht_Tabelle,16,0),99)-AW6,2)<Min_Ruhe)) -> 0 | DI6: =IF(H$4="",0,N(ROUND(24+IFERROR(VLOOKUP(H6,Schicht_Tabelle,16,0),99)-AX6,2)<Min_Ruhe)) -> 0 | DJ6: =IF(I$4="",0,N(ROUND(24+IFERROR(VLOOKUP(I6,Schicht_Tabelle,16,0),99)-AY6,2)<Min_Ruhe)) -> 0 | DK6: =IF(J$4="",0,N(ROUND(24+IFERROR(VLOOKUP(J6,Schicht_Tabelle,16,0),99)-AZ6,2)<Min_Ruhe)) -> 0 | ... EG6: =IF(AF$4="",0,N(ROUND(24+IFERROR(VLOOKUP(AF6,Schicht_Tabelle,16,0),99)-BV6,2)<Min_Ruhe)) -> 0
A7: =IF(Mitarbeitende!A7="","",Mitarbeitende!A7) | AH7: =IF(OR($A7="",N(Mitarbeitende!$C7)=0),"",IF(Soll_Modus="Kalendertagen",Mitarbeitende!$C7/7*COUNT($B$4:$AF$4),Mitarbeitende!$C7/5*SUM($B$43:$AF$43))) | AI7: =IF($A7="","",SUMPRODUCT(COUNTIF($B7:$AF7,Kuerzel_Liste)*Std_Liste)+SUMPRODUCT(COUNTIF($B7:$AF7,Kuerzel_Liste)*Bezahlt_Liste)*N(Mitarbeitende!$D7)) | AJ7: =IF(OR($A7="",AH7="",COUNTA($B7:$AF7)=0),"",AI7-AH7) | AK7: =IF(OR($A7="",AK$5=""),"",COUNTIF($B7:$AF7,AK$5)) | AL7: =IF(OR($A7="",AL$5=""),"",COUNTIF($B7:$AF7,AL$5)) | AM7: =IF(OR($A7="",AM$5=""),"",COUNTIF($B7:$AF7,AM$5)) | AN7: =IF(OR($A7="",AN$5=""),"",COUNTIF($B7:$AF7,AN$5)) | AO7: =IF(OR($A7="",AO$5=""),"",COUNTIF($B7:$AF7,AO$5)) | AP7: =IF($A7="","",SUMPRODUCT($B$42:$AF$42*(COUNTIF(Arbeit_Liste,$B7:$AF7)>0))) | AQ7: =IF($A7="","",IF(SUM(DC7:EG7)>0,SUM(DC7:EG7)&"x Ruhezeit","")&IF(AND(SUM(DC7:EG7)>0,MAX(BX7:DB7)>Max_Folge),", ","")&IF(MAX(BX7:DB7)>Max_Folge,MAX(BX7:DB7)&" Tage am Stück","")) | AR7: =IF(COUNTA($B7:$AF7)>0,N(AH7),0) -> 0 | AS7: =IF(B$4="",-999,IFERROR(VLOOKUP(B7,Schicht_Tabelle,12,0),-999)) -> -999 | AT7: =IF(C$4="",AS7,IFERROR(VLOOKUP(C7,Schicht_Tabelle,12,0),-999)) -> -999 | AU7: =IF(D$4="",AT7,IFERROR(VLOOKUP(D7,Schicht_Tabelle,12,0),-999)) -> -999 | AV7: =IF(E$4="",AU7,IFERROR(VLOOKUP(E7,Schicht_Tabelle,12,0),-999)) -> -999 | AW7: =IF(F$4="",AV7,IFERROR(VLOOKUP(F7,Schicht_Tabelle,12,0),-999)) -> -999 | AX7: =IF(G$4="",AW7,IFERROR(VLOOKUP(G7,Schicht_Tabelle,12,0),-999)) -> -999 | AY7: =IF(H$4="",AX7,IFERROR(VLOOKUP(H7,Schicht_Tabelle,12,0),-999)) -> -999 | AZ7: =IF(I$4="",AY7,IFERROR(VLOOKUP(I7,Schicht_Tabelle,12,0),-999)) -> -999 | BA7: =IF(J$4="",AZ7,IFERROR(VLOOKUP(J7,Schicht_Tabelle,12,0),-999)) -> -999 | ... BW7: =IF(AF$4="",BV7,IFERROR(VLOOKUP(AF7,Schicht_Tabelle,12,0),-999)) -> -999 | BX7: =IF(B$4="",0,IF(IFERROR(VLOOKUP(B7,Schicht_Tabelle,13,0),0)=1,0+1,0)) -> 0 | BY7: =IF(C$4="",BX7,IF(IFERROR(VLOOKUP(C7,Schicht_Tabelle,13,0),0)=1,BX7+1,0)) -> 0 | BZ7: =IF(D$4="",BY7,IF(IFERROR(VLOOKUP(D7,Schicht_Tabelle,13,0),0)=1,BY7+1,0)) -> 0 | CA7: =IF(E$4="",BZ7,IF(IFERROR(VLOOKUP(E7,Schicht_Tabelle,13,0),0)=1,BZ7+1,0)) -> 0 | CB7: =IF(F$4="",CA7,IF(IFERROR(VLOOKUP(F7,Schicht_Tabelle,13,0),0)=1,CA7+1,0)) -> 0 | CC7: =IF(G$4="",CB7,IF(IFERROR(VLOOKUP(G7,Schicht_Tabelle,13,0),0)=1,CB7+1,0)) -> 0 | CD7: =IF(H$4="",CC7,IF(IFERROR(VLOOKUP(H7,Schicht_Tabelle,13,0),0)=1,CC7+1,0)) -> 0 | CE7: =IF(I$4="",CD7,IF(IFERROR(VLOOKUP(I7,Schicht_Tabelle,13,0),0)=1,CD7+1,0)) -> 0 | CF7: =IF(J$4="",CE7,IF(IFERROR(VLOOKUP(J7,Schicht_Tabelle,13,0),0)=1,CE7+1,0)) -> 0 | ... DB7: =IF(AF$4="",DA7,IF(IFERROR(VLOOKUP(AF7,Schicht_Tabelle,13,0),0)=1,DA7+1,0)) -> 0 | DC7: =IF(B$4="",0,N(ROUND(24+IFERROR(VLOOKUP(B7,Schicht_Tabelle,16,0),99)--999,2)<Min_Ruhe)) -> 0 | DD7: =IF(C$4="",0,N(ROUND(24+IFERROR(VLOOKUP(C7,Schicht_Tabelle,16,0),99)-AS7,2)<Min_Ruhe)) -> 0 | DE7: =IF(D$4="",0,N(ROUND(24+IFERROR(VLOOKUP(D7,Schicht_Tabelle,16,0),99)-AT7,2)<Min_Ruhe)) -> 0 | DF7: =IF(E$4="",0,N(ROUND(24+IFERROR(VLOOKUP(E7,Schicht_Tabelle,16,0),99)-AU7,2)<Min_Ruhe)) -> 0 | DG7: =IF(F$4="",0,N(ROUND(24+IFERROR(VLOOKUP(F7,Schicht_Tabelle,16,0),99)-AV7,2)<Min_Ruhe)) -> 0 | DH7: =IF(G$4="",0,N(ROUND(24+IFERROR(VLOOKUP(G7,Schicht_Tabelle,16,0),99)-AW7,2)<Min_Ruhe)) -> 0 | DI7: =IF(H$4="",0,N(ROUND(24+IFERROR(VLOOKUP(H7,Schicht_Tabelle,16,0),99)-AX7,2)<Min_Ruhe)) -> 0 | DJ7: =IF(I$4="",0,N(ROUND(24+IFERROR(VLOOKUP(I7,Schicht_Tabelle,16,0),99)-AY7,2)<Min_Ruhe)) -> 0 | DK7: =IF(J$4="",0,N(ROUND(24+IFERROR(VLOOKUP(J7,Schicht_Tabelle,16,0),99)-AZ7,2)<Min_Ruhe)) -> 0 | ... EG7: =IF(AF$4="",0,N(ROUND(24+IFERROR(VLOOKUP(AF7,Schicht_Tabelle,16,0),99)-BV7,2)<Min_Ruhe)) -> 0
A8: =IF(Mitarbeitende!A8="","",Mitarbeitende!A8) | AH8: =IF(OR($A8="",N(Mitarbeitende!$C8)=0),"",IF(Soll_Modus="Kalendertagen",Mitarbeitende!$C8/7*COUNT($B$4:$AF$4),Mitarbeitende!$C8/5*SUM($B$43:$AF$43))) | AI8: =IF($A8="","",SUMPRODUCT(COUNTIF($B8:$AF8,Kuerzel_Liste)*Std_Liste)+SUMPRODUCT(COUNTIF($B8:$AF8,Kuerzel_Liste)*Bezahlt_Liste)*N(Mitarbeitende!$D8)) | AJ8: =IF(OR($A8="",AH8="",COUNTA($B8:$AF8)=0),"",AI8-AH8) | AK8: =IF(OR($A8="",AK$5=""),"",COUNTIF($B8:$AF8,AK$5)) | AL8: =IF(OR($A8="",AL$5=""),"",COUNTIF($B8:$AF8,AL$5)) | AM8: =IF(OR($A8="",AM$5=""),"",COUNTIF($B8:$AF8,AM$5)) | AN8: =IF(OR($A8="",AN$5=""),"",COUNTIF($B8:$AF8,AN$5)) | AO8: =IF(OR($A8="",AO$5=""),"",COUNTIF($B8:$AF8,AO$5)) | AP8: =IF($A8="","",SUMPRODUCT($B$42:$AF$42*(COUNTIF(Arbeit_Liste,$B8:$AF8)>0))) | AQ8: =IF($A8="","",IF(SUM(DC8:EG8)>0,SUM(DC8:EG8)&"x Ruhezeit","")&IF(AND(SUM(DC8:EG8)>0,MAX(BX8:DB8)>Max_Folge),", ","")&IF(MAX(BX8:DB8)>Max_Folge,MAX(BX8:DB8)&" Tage am Stück","")) | AR8: =IF(COUNTA($B8:$AF8)>0,N(AH8),0) -> 0 | AS8: =IF(B$4="",-999,IFERROR(VLOOKUP(B8,Schicht_Tabelle,12,0),-999)) -> -999 | AT8: =IF(C$4="",AS8,IFERROR(VLOOKUP(C8,Schicht_Tabelle,12,0),-999)) -> -999 | AU8: =IF(D$4="",AT8,IFERROR(VLOOKUP(D8,Schicht_Tabelle,12,0),-999)) -> -999 | AV8: =IF(E$4="",AU8,IFERROR(VLOOKUP(E8,Schicht_Tabelle,12,0),-999)) -> -999 | AW8: =IF(F$4="",AV8,IFERROR(VLOOKUP(F8,Schicht_Tabelle,12,0),-999)) -> -999 | AX8: =IF(G$4="",AW8,IFERROR(VLOOKUP(G8,Schicht_Tabelle,12,0),-999)) -> -999 | AY8: =IF(H$4="",AX8,IFERROR(VLOOKUP(H8,Schicht_Tabelle,12,0),-999)) -> -999 | AZ8: =IF(I$4="",AY8,IFERROR(VLOOKUP(I8,Schicht_Tabelle,12,0),-999)) -> -999 | BA8: =IF(J$4="",AZ8,IFERROR(VLOOKUP(J8,Schicht_Tabelle,12,0),-999)) -> -999 | ... BW8: =IF(AF$4="",BV8,IFERROR(VLOOKUP(AF8,Schicht_Tabelle,12,0),-999)) -> -999 | BX8: =IF(B$4="",0,IF(IFERROR(VLOOKUP(B8,Schicht_Tabelle,13,0),0)=1,0+1,0)) -> 0 | BY8: =IF(C$4="",BX8,IF(IFERROR(VLOOKUP(C8,Schicht_Tabelle,13,0),0)=1,BX8+1,0)) -> 0 | BZ8: =IF(D$4="",BY8,IF(IFERROR(VLOOKUP(D8,Schicht_Tabelle,13,0),0)=1,BY8+1,0)) -> 0 | CA8: =IF(E$4="",BZ8,IF(IFERROR(VLOOKUP(E8,Schicht_Tabelle,13,0),0)=1,BZ8+1,0)) -> 0 | CB8: =IF(F$4="",CA8,IF(IFERROR(VLOOKUP(F8,Schicht_Tabelle,13,0),0)=1,CA8+1,0)) -> 0 | CC8: =IF(G$4="",CB8,IF(IFERROR(VLOOKUP(G8,Schicht_Tabelle,13,0),0)=1,CB8+1,0)) -> 0 | CD8: =IF(H$4="",CC8,IF(IFERROR(VLOOKUP(H8,Schicht_Tabelle,13,0),0)=1,CC8+1,0)) -> 0 | CE8: =IF(I$4="",CD8,IF(IFERROR(VLOOKUP(I8,Schicht_Tabelle,13,0),0)=1,CD8+1,0)) -> 0 | CF8: =IF(J$4="",CE8,IF(IFERROR(VLOOKUP(J8,Schicht_Tabelle,13,0),0)=1,CE8+1,0)) -> 0 | ... DB8: =IF(AF$4="",DA8,IF(IFERROR(VLOOKUP(AF8,Schicht_Tabelle,13,0),0)=1,DA8+1,0)) -> 0 | DC8: =IF(B$4="",0,N(ROUND(24+IFERROR(VLOOKUP(B8,Schicht_Tabelle,16,0),99)--999,2)<Min_Ruhe)) -> 0 | DD8: =IF(C$4="",0,N(ROUND(24+IFERROR(VLOOKUP(C8,Schicht_Tabelle,16,0),99)-AS8,2)<Min_Ruhe)) -> 0 | DE8: =IF(D$4="",0,N(ROUND(24+IFERROR(VLOOKUP(D8,Schicht_Tabelle,16,0),99)-AT8,2)<Min_Ruhe)) -> 0 | DF8: =IF(E$4="",0,N(ROUND(24+IFERROR(VLOOKUP(E8,Schicht_Tabelle,16,0),99)-AU8,2)<Min_Ruhe)) -> 0 | DG8: =IF(F$4="",0,N(ROUND(24+IFERROR(VLOOKUP(F8,Schicht_Tabelle,16,0),99)-AV8,2)<Min_Ruhe)) -> 0 | DH8: =IF(G$4="",0,N(ROUND(24+IFERROR(VLOOKUP(G8,Schicht_Tabelle,16,0),99)-AW8,2)<Min_Ruhe)) -> 0 | DI8: =IF(H$4="",0,N(ROUND(24+IFERROR(VLOOKUP(H8,Schicht_Tabelle,16,0),99)-AX8,2)<Min_Ruhe)) -> 0 | DJ8: =IF(I$4="",0,N(ROUND(24+IFERROR(VLOOKUP(I8,Schicht_Tabelle,16,0),99)-AY8,2)<Min_Ruhe)) -> 0 | DK8: =IF(J$4="",0,N(ROUND(24+IFERROR(VLOOKUP(J8,Schicht_Tabelle,16,0),99)-AZ8,2)<Min_Ruhe)) -> 0 | ... EG8: =IF(AF$4="",0,N(ROUND(24+IFERROR(VLOOKUP(AF8,Schicht_Tabelle,16,0),99)-BV8,2)<Min_Ruhe)) -> 0
A9: =IF(Mitarbeitende!A9="","",Mitarbeitende!A9) | AH9: =IF(OR($A9="",N(Mitarbeitende!$C9)=0),"",IF(Soll_Modus="Kalendertagen",Mitarbeitende!$C9/7*COUNT($B$4:$AF$4),Mitarbeitende!$C9/5*SUM($B$43:$AF$43))) | AI9: =IF($A9="","",SUMPRODUCT(COUNTIF($B9:$AF9,Kuerzel_Liste)*Std_Liste)+SUMPRODUCT(COUNTIF($B9:$AF9,Kuerzel_Liste)*Bezahlt_Liste)*N(Mitarbeitende!$D9)) | AJ9: =IF(OR($A9="",AH9="",COUNTA($B9:$AF9)=0),"",AI9-AH9) | AK9: =IF(OR($A9="",AK$5=""),"",COUNTIF($B9:$AF9,AK$5)) | AL9: =IF(OR($A9="",AL$5=""),"",COUNTIF($B9:$AF9,AL$5)) | AM9: =IF(OR($A9="",AM$5=""),"",COUNTIF($B9:$AF9,AM$5)) | AN9: =IF(OR($A9="",AN$5=""),"",COUNTIF($B9:$AF9,AN$5)) | AO9: =IF(OR($A9="",AO$5=""),"",COUNTIF($B9:$AF9,AO$5)) | AP9: =IF($A9="","",SUMPRODUCT($B$42:$AF$42*(COUNTIF(Arbeit_Liste,$B9:$AF9)>0))) | AQ9: =IF($A9="","",IF(SUM(DC9:EG9)>0,SUM(DC9:EG9)&"x Ruhezeit","")&IF(AND(SUM(DC9:EG9)>0,MAX(BX9:DB9)>Max_Folge),", ","")&IF(MAX(BX9:DB9)>Max_Folge,MAX(BX9:DB9)&" Tage am Stück","")) | AR9: =IF(COUNTA($B9:$AF9)>0,N(AH9),0) -> 0 | AS9: =IF(B$4="",-999,IFERROR(VLOOKUP(B9,Schicht_Tabelle,12,0),-999)) -> -999 | AT9: =IF(C$4="",AS9,IFERROR(VLOOKUP(C9,Schicht_Tabelle,12,0),-999)) -> -999 | AU9: =IF(D$4="",AT9,IFERROR(VLOOKUP(D9,Schicht_Tabelle,12,0),-999)) -> -999 | AV9: =IF(E$4="",AU9,IFERROR(VLOOKUP(E9,Schicht_Tabelle,12,0),-999)) -> -999 | AW9: =IF(F$4="",AV9,IFERROR(VLOOKUP(F9,Schicht_Tabelle,12,0),-999)) -> -999 | AX9: =IF(G$4="",AW9,IFERROR(VLOOKUP(G9,Schicht_Tabelle,12,0),-999)) -> -999 | AY9: =IF(H$4="",AX9,IFERROR(VLOOKUP(H9,Schicht_Tabelle,12,0),-999)) -> -999 | AZ9: =IF(I$4="",AY9,IFERROR(VLOOKUP(I9,Schicht_Tabelle,12,0),-999)) -> -999 | BA9: =IF(J$4="",AZ9,IFERROR(VLOOKUP(J9,Schicht_Tabelle,12,0),-999)) -> -999 | ... BW9: =IF(AF$4="",BV9,IFERROR(VLOOKUP(AF9,Schicht_Tabelle,12,0),-999)) -> -999 | BX9: =IF(B$4="",0,IF(IFERROR(VLOOKUP(B9,Schicht_Tabelle,13,0),0)=1,0+1,0)) -> 0 | BY9: =IF(C$4="",BX9,IF(IFERROR(VLOOKUP(C9,Schicht_Tabelle,13,0),0)=1,BX9+1,0)) -> 0 | BZ9: =IF(D$4="",BY9,IF(IFERROR(VLOOKUP(D9,Schicht_Tabelle,13,0),0)=1,BY9+1,0)) -> 0 | CA9: =IF(E$4="",BZ9,IF(IFERROR(VLOOKUP(E9,Schicht_Tabelle,13,0),0)=1,BZ9+1,0)) -> 0 | CB9: =IF(F$4="",CA9,IF(IFERROR(VLOOKUP(F9,Schicht_Tabelle,13,0),0)=1,CA9+1,0)) -> 0 | CC9: =IF(G$4="",CB9,IF(IFERROR(VLOOKUP(G9,Schicht_Tabelle,13,0),0)=1,CB9+1,0)) -> 0 | CD9: =IF(H$4="",CC9,IF(IFERROR(VLOOKUP(H9,Schicht_Tabelle,13,0),0)=1,CC9+1,0)) -> 0 | CE9: =IF(I$4="",CD9,IF(IFERROR(VLOOKUP(I9,Schicht_Tabelle,13,0),0)=1,CD9+1,0)) -> 0 | CF9: =IF(J$4="",CE9,IF(IFERROR(VLOOKUP(J9,Schicht_Tabelle,13,0),0)=1,CE9+1,0)) -> 0 | ... DB9: =IF(AF$4="",DA9,IF(IFERROR(VLOOKUP(AF9,Schicht_Tabelle,13,0),0)=1,DA9+1,0)) -> 0 | DC9: =IF(B$4="",0,N(ROUND(24+IFERROR(VLOOKUP(B9,Schicht_Tabelle,16,0),99)--999,2)<Min_Ruhe)) -> 0 | DD9: =IF(C$4="",0,N(ROUND(24+IFERROR(VLOOKUP(C9,Schicht_Tabelle,16,0),99)-AS9,2)<Min_Ruhe)) -> 0 | DE9: =IF(D$4="",0,N(ROUND(24+IFERROR(VLOOKUP(D9,Schicht_Tabelle,16,0),99)-AT9,2)<Min_Ruhe)) -> 0 | DF9: =IF(E$4="",0,N(ROUND(24+IFERROR(VLOOKUP(E9,Schicht_Tabelle,16,0),99)-AU9,2)<Min_Ruhe)) -> 0 | DG9: =IF(F$4="",0,N(ROUND(24+IFERROR(VLOOKUP(F9,Schicht_Tabelle,16,0),99)-AV9,2)<Min_Ruhe)) -> 0 | DH9: =IF(G$4="",0,N(ROUND(24+IFERROR(VLOOKUP(G9,Schicht_Tabelle,16,0),99)-AW9,2)<Min_Ruhe)) -> 0 | DI9: =IF(H$4="",0,N(ROUND(24+IFERROR(VLOOKUP(H9,Schicht_Tabelle,16,0),99)-AX9,2)<Min_Ruhe)) -> 0 | DJ9: =IF(I$4="",0,N(ROUND(24+IFERROR(VLOOKUP(I9,Schicht_Tabelle,16,0),99)-AY9,2)<Min_Ruhe)) -> 0 | DK9: =IF(J$4="",0,N(ROUND(24+IFERROR(VLOOKUP(J9,Schicht_Tabelle,16,0),99)-AZ9,2)<Min_Ruhe)) -> 0 | ... EG9: =IF(AF$4="",0,N(ROUND(24+IFERROR(VLOOKUP(AF9,Schicht_Tabelle,16,0),99)-BV9,2)<Min_Ruhe)) -> 0
A10: =IF(Mitarbeitende!A10="","",Mitarbeitende!A10) | AH10: =IF(OR($A10="",N(Mitarbeitende!$C10)=0),"",IF(Soll_Modus="Kalendertagen",Mitarbeitende!$C10/7*COUNT($B$4:$AF$4),Mitarbeitende!$C10/5*SUM($B$43:$AF$43))) | AI10: =IF($A10="","",SUMPRODUCT(COUNTIF($B10:$AF10,Kuerzel_Liste)*Std_Liste)+SUMPRODUCT(COUNTIF($B10:$AF10,Kuerzel_Liste)*Bezahlt_Liste)*N(Mitarbeitende!$D10)) | AJ10: =IF(OR($A10="",AH10="",COUNTA($B10:$AF10)=0),"",AI10-AH10) | AK10: =IF(OR($A10="",AK$5=""),"",COUNTIF($B10:$AF10,AK$5)) | AL10: =IF(OR($A10="",AL$5=""),"",COUNTIF($B10:$AF10,AL$5)) | AM10: =IF(OR($A10="",AM$5=""),"",COUNTIF($B10:$AF10,AM$5)) | AN10: =IF(OR($A10="",AN$5=""),"",COUNTIF($B10:$AF10,AN$5)) | AO10: =IF(OR($A10="",AO$5=""),"",COUNTIF($B10:$AF10,AO$5)) | AP10: =IF($A10="","",SUMPRODUCT($B$42:$AF$42*(COUNTIF(Arbeit_Liste,$B10:$AF10)>0))) | AQ10: =IF($A10="","",IF(SUM(DC10:EG10)>0,SUM(DC10:EG10)&"x Ruhezeit","")&IF(AND(SUM(DC10:EG10)>0,MAX(BX10:DB10)>Max_Folge),", ","")&IF(MAX(BX10:DB10)>Max_Folge,MAX(BX10:DB10)&" Tage am Stück","")) | AR10: =IF(COUNTA($B10:$AF10)>0,N(AH10),0) -> 0 | AS10: =IF(B$4="",-999,IFERROR(VLOOKUP(B10,Schicht_Tabelle,12,0),-999)) -> -999 | AT10: =IF(C$4="",AS10,IFERROR(VLOOKUP(C10,Schicht_Tabelle,12,0),-999)) -> -999 | AU10: =IF(D$4="",AT10,IFERROR(VLOOKUP(D10,Schicht_Tabelle,12,0),-999)) -> -999 | AV10: =IF(E$4="",AU10,IFERROR(VLOOKUP(E10,Schicht_Tabelle,12,0),-999)) -> -999 | AW10: =IF(F$4="",AV10,IFERROR(VLOOKUP(F10,Schicht_Tabelle,12,0),-999)) -> -999 | AX10: =IF(G$4="",AW10,IFERROR(VLOOKUP(G10,Schicht_Tabelle,12,0),-999)) -> -999 | AY10: =IF(H$4="",AX10,IFERROR(VLOOKUP(H10,Schicht_Tabelle,12,0),-999)) -> -999 | AZ10: =IF(I$4="",AY10,IFERROR(VLOOKUP(I10,Schicht_Tabelle,12,0),-999)) -> -999 | BA10: =IF(J$4="",AZ10,IFERROR(VLOOKUP(J10,Schicht_Tabelle,12,0),-999)) -> -999 | ... BW10: =IF(AF$4="",BV10,IFERROR(VLOOKUP(AF10,Schicht_Tabelle,12,0),-999)) -> -999 | BX10: =IF(B$4="",0,IF(IFERROR(VLOOKUP(B10,Schicht_Tabelle,13,0),0)=1,0+1,0)) -> 0 | BY10: =IF(C$4="",BX10,IF(IFERROR(VLOOKUP(C10,Schicht_Tabelle,13,0),0)=1,BX10+1,0)) -> 0 | BZ10: =IF(D$4="",BY10,IF(IFERROR(VLOOKUP(D10,Schicht_Tabelle,13,0),0)=1,BY10+1,0)) -> 0 | CA10: =IF(E$4="",BZ10,IF(IFERROR(VLOOKUP(E10,Schicht_Tabelle,13,0),0)=1,BZ10+1,0)) -> 0 | CB10: =IF(F$4="",CA10,IF(IFERROR(VLOOKUP(F10,Schicht_Tabelle,13,0),0)=1,CA10+1,0)) -> 0 | CC10: =IF(G$4="",CB10,IF(IFERROR(VLOOKUP(G10,Schicht_Tabelle,13,0),0)=1,CB10+1,0)) -> 0 | CD10: =IF(H$4="",CC10,IF(IFERROR(VLOOKUP(H10,Schicht_Tabelle,13,0),0)=1,CC10+1,0)) -> 0 | CE10: =IF(I$4="",CD10,IF(IFERROR(VLOOKUP(I10,Schicht_Tabelle,13,0),0)=1,CD10+1,0)) -> 0 | CF10: =IF(J$4="",CE10,IF(IFERROR(VLOOKUP(J10,Schicht_Tabelle,13,0),0)=1,CE10+1,0)) -> 0 | ... DB10: =IF(AF$4="",DA10,IF(IFERROR(VLOOKUP(AF10,Schicht_Tabelle,13,0),0)=1,DA10+1,0)) -> 0 | DC10: =IF(B$4="",0,N(ROUND(24+IFERROR(VLOOKUP(B10,Schicht_Tabelle,16,0),99)--999,2)<Min_Ruhe)) -> 0 | DD10: =IF(C$4="",0,N(ROUND(24+IFERROR(VLOOKUP(C10,Schicht_Tabelle,16,0),99)-AS10,2)<Min_Ruhe)) -> 0 | DE10: =IF(D$4="",0,N(ROUND(24+IFERROR(VLOOKUP(D10,Schicht_Tabelle,16,0),99)-AT10,2)<Min_Ruhe)) -> 0 | DF10: =IF(E$4="",0,N(ROUND(24+IFERROR(VLOOKUP(E10,Schicht_Tabelle,16,0),99)-AU10,2)<Min_Ruhe)) -> 0 | DG10: =IF(F$4="",0,N(ROUND(24+IFERROR(VLOOKUP(F10,Schicht_Tabelle,16,0),99)-AV10,2)<Min_Ruhe)) -> 0 | DH10: =IF(G$4="",0,N(ROUND(24+IFERROR(VLOOKUP(G10,Schicht_Tabelle,16,0),99)-AW10,2)<Min_Ruhe)) -> 0 | DI10: =IF(H$4="",0,N(ROUND(24+IFERROR(VLOOKUP(H10,Schicht_Tabelle,16,0),99)-AX10,2)<Min_Ruhe)) -> 0 | DJ10: =IF(I$4="",0,N(ROUND(24+IFERROR(VLOOKUP(I10,Schicht_Tabelle,16,0),99)-AY10,2)<Min_Ruhe)) -> 0 | DK10: =IF(J$4="",0,N(ROUND(24+IFERROR(VLOOKUP(J10,Schicht_Tabelle,16,0),99)-AZ10,2)<Min_Ruhe)) -> 0 | ... EG10: =IF(AF$4="",0,N(ROUND(24+IFERROR(VLOOKUP(AF10,Schicht_Tabelle,16,0),99)-BV10,2)<Min_Ruhe)) -> 0
A11: =IF(Mitarbeitende!A11="","",Mitarbeitende!A11) | AH11: =IF(OR($A11="",N(Mitarbeitende!$C11)=0),"",IF(Soll_Modus="Kalendertagen",Mitarbeitende!$C11/7*COUNT($B$4:$AF$4),Mitarbeitende!$C11/5*SUM($B$43:$AF$43))) | AI11: =IF($A11="","",SUMPRODUCT(COUNTIF($B11:$AF11,Kuerzel_Liste)*Std_Liste)+SUMPRODUCT(COUNTIF($B11:$AF11,Kuerzel_Liste)*Bezahlt_Liste)*N(Mitarbeitende!$D11)) | AJ11: =IF(OR($A11="",AH11="",COUNTA($B11:$AF11)=0),"",AI11-AH11) | AK11: =IF(OR($A11="",AK$5=""),"",COUNTIF($B11:$AF11,AK$5)) | AL11: =IF(OR($A11="",AL$5=""),"",COUNTIF($B11:$AF11,AL$5)) | AM11: =IF(OR($A11="",AM$5=""),"",COUNTIF($B11:$AF11,AM$5)) | AN11: =IF(OR($A11="",AN$5=""),"",COUNTIF($B11:$AF11,AN$5)) | AO11: =IF(OR($A11="",AO$5=""),"",COUNTIF($B11:$AF11,AO$5)) | AP11: =IF($A11="","",SUMPRODUCT($B$42:$AF$42*(COUNTIF(Arbeit_Liste,$B11:$AF11)>0))) | AQ11: =IF($A11="","",IF(SUM(DC11:EG11)>0,SUM(DC11:EG11)&"x Ruhezeit","")&IF(AND(SUM(DC11:EG11)>0,MAX(BX11:DB11)>Max_Folge),", ","")&IF(MAX(BX11:DB11)>Max_Folge,MAX(BX11:DB11)&" Tage am Stück","")) | AR11: =IF(COUNTA($B11:$AF11)>0,N(AH11),0) -> 0 | AS11: =IF(B$4="",-999,IFERROR(VLOOKUP(B11,Schicht_Tabelle,12,0),-999)) -> -999 | AT11: =IF(C$4="",AS11,IFERROR(VLOOKUP(C11,Schicht_Tabelle,12,0),-999)) -> -999 | AU11: =IF(D$4="",AT11,IFERROR(VLOOKUP(D11,Schicht_Tabelle,12,0),-999)) -> -999 | AV11: =IF(E$4="",AU11,IFERROR(VLOOKUP(E11,Schicht_Tabelle,12,0),-999)) -> -999 | AW11: =IF(F$4="",AV11,IFERROR(VLOOKUP(F11,Schicht_Tabelle,12,0),-999)) -> -999 | AX11: =IF(G$4="",AW11,IFERROR(VLOOKUP(G11,Schicht_Tabelle,12,0),-999)) -> -999 | AY11: =IF(H$4="",AX11,IFERROR(VLOOKUP(H11,Schicht_Tabelle,12,0),-999)) -> -999 | AZ11: =IF(I$4="",AY11,IFERROR(VLOOKUP(I11,Schicht_Tabelle,12,0),-999)) -> -999 | BA11: =IF(J$4="",AZ11,IFERROR(VLOOKUP(J11,Schicht_Tabelle,12,0),-999)) -> -999 | ... BW11: =IF(AF$4="",BV11,IFERROR(VLOOKUP(AF11,Schicht_Tabelle,12,0),-999)) -> -999 | BX11: =IF(B$4="",0,IF(IFERROR(VLOOKUP(B11,Schicht_Tabelle,13,0),0)=1,0+1,0)) -> 0 | BY11: =IF(C$4="",BX11,IF(IFERROR(VLOOKUP(C11,Schicht_Tabelle,13,0),0)=1,BX11+1,0)) -> 0 | BZ11: =IF(D$4="",BY11,IF(IFERROR(VLOOKUP(D11,Schicht_Tabelle,13,0),0)=1,BY11+1,0)) -> 0 | CA11: =IF(E$4="",BZ11,IF(IFERROR(VLOOKUP(E11,Schicht_Tabelle,13,0),0)=1,BZ11+1,0)) -> 0 | CB11: =IF(F$4="",CA11,IF(IFERROR(VLOOKUP(F11,Schicht_Tabelle,13,0),0)=1,CA11+1,0)) -> 0 | CC11: =IF(G$4="",CB11,IF(IFERROR(VLOOKUP(G11,Schicht_Tabelle,13,0),0)=1,CB11+1,0)) -> 0 | CD11: =IF(H$4="",CC11,IF(IFERROR(VLOOKUP(H11,Schicht_Tabelle,13,0),0)=1,CC11+1,0)) -> 0 | CE11: =IF(I$4="",CD11,IF(IFERROR(VLOOKUP(I11,Schicht_Tabelle,13,0),0)=1,CD11+1,0)) -> 0 | CF11: =IF(J$4="",CE11,IF(IFERROR(VLOOKUP(J11,Schicht_Tabelle,13,0),0)=1,CE11+1,0)) -> 0 | ... DB11: =IF(AF$4="",DA11,IF(IFERROR(VLOOKUP(AF11,Schicht_Tabelle,13,0),0)=1,DA11+1,0)) -> 0 | DC11: =IF(B$4="",0,N(ROUND(24+IFERROR(VLOOKUP(B11,Schicht_Tabelle,16,0),99)--999,2)<Min_Ruhe)) -> 0 | DD11: =IF(C$4="",0,N(ROUND(24+IFERROR(VLOOKUP(C11,Schicht_Tabelle,16,0),99)-AS11,2)<Min_Ruhe)) -> 0 | DE11: =IF(D$4="",0,N(ROUND(24+IFERROR(VLOOKUP(D11,Schicht_Tabelle,16,0),99)-AT11,2)<Min_Ruhe)) -> 0 | DF11: =IF(E$4="",0,N(ROUND(24+IFERROR(VLOOKUP(E11,Schicht_Tabelle,16,0),99)-AU11,2)<Min_Ruhe)) -> 0 | DG11: =IF(F$4="",0,N(ROUND(24+IFERROR(VLOOKUP(F11,Schicht_Tabelle,16,0),99)-AV11,2)<Min_Ruhe)) -> 0 | DH11: =IF(G$4="",0,N(ROUND(24+IFERROR(VLOOKUP(G11,Schicht_Tabelle,16,0),99)-AW11,2)<Min_Ruhe)) -> 0 | DI11: =IF(H$4="",0,N(ROUND(24+IFERROR(VLOOKUP(H11,Schicht_Tabelle,16,0),99)-AX11,2)<Min_Ruhe)) -> 0 | DJ11: =IF(I$4="",0,N(ROUND(24+IFERROR(VLOOKUP(I11,Schicht_Tabelle,16,0),99)-AY11,2)<Min_Ruhe)) -> 0 | DK11: =IF(J$4="",0,N(ROUND(24+IFERROR(VLOOKUP(J11,Schicht_Tabelle,16,0),99)-AZ11,2)<Min_Ruhe)) -> 0 | ... EG11: =IF(AF$4="",0,N(ROUND(24+IFERROR(VLOOKUP(AF11,Schicht_Tabelle,16,0),99)-BV11,2)<Min_Ruhe)) -> 0
A12: =IF(Mitarbeitende!A12="","",Mitarbeitende!A12) | AH12: =IF(OR($A12="",N(Mitarbeitende!$C12)=0),"",IF(Soll_Modus="Kalendertagen",Mitarbeitende!$C12/7*COUNT($B$4:$AF$4),Mitarbeitende!$C12/5*SUM($B$43:$AF$43))) | AI12: =IF($A12="","",SUMPRODUCT(COUNTIF($B12:$AF12,Kuerzel_Liste)*Std_Liste)+SUMPRODUCT(COUNTIF($B12:$AF12,Kuerzel_Liste)*Bezahlt_Liste)*N(Mitarbeitende!$D12)) | AJ12: =IF(OR($A12="",AH12="",COUNTA($B12:$AF12)=0),"",AI12-AH12) | AK12: =IF(OR($A12="",AK$5=""),"",COUNTIF($B12:$AF12,AK$5)) | AL12: =IF(OR($A12="",AL$5=""),"",COUNTIF($B12:$AF12,AL$5)) | AM12: =IF(OR($A12="",AM$5=""),"",COUNTIF($B12:$AF12,AM$5)) | AN12: =IF(OR($A12="",AN$5=""),"",COUNTIF($B12:$AF12,AN$5)) | AO12: =IF(OR($A12="",AO$5=""),"",COUNTIF($B12:$AF12,AO$5)) | AP12: =IF($A12="","",SUMPRODUCT($B$42:$AF$42*(COUNTIF(Arbeit_Liste,$B12:$AF12)>0))) | AQ12: =IF($A12="","",IF(SUM(DC12:EG12)>0,SUM(DC12:EG12)&"x Ruhezeit","")&IF(AND(SUM(DC12:EG12)>0,MAX(BX12:DB12)>Max_Folge),", ","")&IF(MAX(BX12:DB12)>Max_Folge,MAX(BX12:DB12)&" Tage am Stück","")) | AR12: =IF(COUNTA($B12:$AF12)>0,N(AH12),0) -> 0 | AS12: =IF(B$4="",-999,IFERROR(VLOOKUP(B12,Schicht_Tabelle,12,0),-999)) -> -999 | AT12: =IF(C$4="",AS12,IFERROR(VLOOKUP(C12,Schicht_Tabelle,12,0),-999)) -> -999 | AU12: =IF(D$4="",AT12,IFERROR(VLOOKUP(D12,Schicht_Tabelle,12,0),-999)) -> -999 | AV12: =IF(E$4="",AU12,IFERROR(VLOOKUP(E12,Schicht_Tabelle,12,0),-999)) -> -999 | AW12: =IF(F$4="",AV12,IFERROR(VLOOKUP(F12,Schicht_Tabelle,12,0),-999)) -> -999 | AX12: =IF(G$4="",AW12,IFERROR(VLOOKUP(G12,Schicht_Tabelle,12,0),-999)) -> -999 | AY12: =IF(H$4="",AX12,IFERROR(VLOOKUP(H12,Schicht_Tabelle,12,0),-999)) -> -999 | AZ12: =IF(I$4="",AY12,IFERROR(VLOOKUP(I12,Schicht_Tabelle,12,0),-999)) -> -999 | BA12: =IF(J$4="",AZ12,IFERROR(VLOOKUP(J12,Schicht_Tabelle,12,0),-999)) -> -999 | ... BW12: =IF(AF$4="",BV12,IFERROR(VLOOKUP(AF12,Schicht_Tabelle,12,0),-999)) -> -999 | BX12: =IF(B$4="",0,IF(IFERROR(VLOOKUP(B12,Schicht_Tabelle,13,0),0)=1,0+1,0)) -> 0 | BY12: =IF(C$4="",BX12,IF(IFERROR(VLOOKUP(C12,Schicht_Tabelle,13,0),0)=1,BX12+1,0)) -> 0 | BZ12: =IF(D$4="",BY12,IF(IFERROR(VLOOKUP(D12,Schicht_Tabelle,13,0),0)=1,BY12+1,0)) -> 0 | CA12: =IF(E$4="",BZ12,IF(IFERROR(VLOOKUP(E12,Schicht_Tabelle,13,0),0)=1,BZ12+1,0)) -> 0 | CB12: =IF(F$4="",CA12,IF(IFERROR(VLOOKUP(F12,Schicht_Tabelle,13,0),0)=1,CA12+1,0)) -> 0 | CC12: =IF(G$4="",CB12,IF(IFERROR(VLOOKUP(G12,Schicht_Tabelle,13,0),0)=1,CB12+1,0)) -> 0 | CD12: =IF(H$4="",CC12,IF(IFERROR(VLOOKUP(H12,Schicht_Tabelle,13,0),0)=1,CC12+1,0)) -> 0 | CE12: =IF(I$4="",CD12,IF(IFERROR(VLOOKUP(I12,Schicht_Tabelle,13,0),0)=1,CD12+1,0)) -> 0 | CF12: =IF(J$4="",CE12,IF(IFERROR(VLOOKUP(J12,Schicht_Tabelle,13,0),0)=1,CE12+1,0)) -> 0 | ... DB12: =IF(AF$4="",DA12,IF(IFERROR(VLOOKUP(AF12,Schicht_Tabelle,13,0),0)=1,DA12+1,0)) -> 0 | DC12: =IF(B$4="",0,N(ROUND(24+IFERROR(VLOOKUP(B12,Schicht_Tabelle,16,0),99)--999,2)<Min_Ruhe)) -> 0 | DD12: =IF(C$4="",0,N(ROUND(24+IFERROR(VLOOKUP(C12,Schicht_Tabelle,16,0),99)-AS12,2)<Min_Ruhe)) -> 0 | DE12: =IF(D$4="",0,N(ROUND(24+IFERROR(VLOOKUP(D12,Schicht_Tabelle,16,0),99)-AT12,2)<Min_Ruhe)) -> 0 | DF12: =IF(E$4="",0,N(ROUND(24+IFERROR(VLOOKUP(E12,Schicht_Tabelle,16,0),99)-AU12,2)<Min_Ruhe)) -> 0 | DG12: =IF(F$4="",0,N(ROUND(24+IFERROR(VLOOKUP(F12,Schicht_Tabelle,16,0),99)-AV12,2)<Min_Ruhe)) -> 0 | DH12: =IF(G$4="",0,N(ROUND(24+IFERROR(VLOOKUP(G12,Schicht_Tabelle,16,0),99)-AW12,2)<Min_Ruhe)) -> 0 | DI12: =IF(H$4="",0,N(ROUND(24+IFERROR(VLOOKUP(H12,Schicht_Tabelle,16,0),99)-AX12,2)<Min_Ruhe)) -> 0 | DJ12: =IF(I$4="",0,N(ROUND(24+IFERROR(VLOOKUP(I12,Schicht_Tabelle,16,0),99)-AY12,2)<Min_Ruhe)) -> 0 | DK12: =IF(J$4="",0,N(ROUND(24+IFERROR(VLOOKUP(J12,Schicht_Tabelle,16,0),99)-AZ12,2)<Min_Ruhe)) -> 0 | ... EG12: =IF(AF$4="",0,N(ROUND(24+IFERROR(VLOOKUP(AF12,Schicht_Tabelle,16,0),99)-BV12,2)<Min_Ruhe)) -> 0
A13: =IF(Mitarbeitende!A13="","",Mitarbeitende!A13) | AH13: =IF(OR($A13="",N(Mitarbeitende!$C13)=0),"",IF(Soll_Modus="Kalendertagen",Mitarbeitende!$C13/7*COUNT($B$4:$AF$4),Mitarbeitende!$C13/5*SUM($B$43:$AF$43))) | AI13: =IF($A13="","",SUMPRODUCT(COUNTIF($B13:$AF13,Kuerzel_Liste)*Std_Liste)+SUMPRODUCT(COUNTIF($B13:$AF13,Kuerzel_Liste)*Bezahlt_Liste)*N(Mitarbeitende!$D13)) | AJ13: =IF(OR($A13="",AH13="",COUNTA($B13:$AF13)=0),"",AI13-AH13) | AK13: =IF(OR($A13="",AK$5=""),"",COUNTIF($B13:$AF13,AK$5)) | AL13: =IF(OR($A13="",AL$5=""),"",COUNTIF($B13:$AF13,AL$5)) | AM13: =IF(OR($A13="",AM$5=""),"",COUNTIF($B13:$AF13,AM$5)) | AN13: =IF(OR($A13="",AN$5=""),"",COUNTIF($B13:$AF13,AN$5)) | AO13: =IF(OR($A13="",AO$5=""),"",COUNTIF($B13:$AF13,AO$5)) | AP13: =IF($A13="","",SUMPRODUCT($B$42:$AF$42*(COUNTIF(Arbeit_Liste,$B13:$AF13)>0))) | AQ13: =IF($A13="","",IF(SUM(DC13:EG13)>0,SUM(DC13:EG13)&"x Ruhezeit","")&IF(AND(SUM(DC13:EG13)>0,MAX(BX13:DB13)>Max_Folge),", ","")&IF(MAX(BX13:DB13)>Max_Folge,MAX(BX13:DB13)&" Tage am Stück","")) | AR13: =IF(COUNTA($B13:$AF13)>0,N(AH13),0) -> 0 | AS13: =IF(B$4="",-999,IFERROR(VLOOKUP(B13,Schicht_Tabelle,12,0),-999)) -> -999 | AT13: =IF(C$4="",AS13,IFERROR(VLOOKUP(C13,Schicht_Tabelle,12,0),-999)) -> -999 | AU13: =IF(D$4="",AT13,IFERROR(VLOOKUP(D13,Schicht_Tabelle,12,0),-999)) -> -999 | AV13: =IF(E$4="",AU13,IFERROR(VLOOKUP(E13,Schicht_Tabelle,12,0),-999)) -> -999 | AW13: =IF(F$4="",AV13,IFERROR(VLOOKUP(F13,Schicht_Tabelle,12,0),-999)) -> -999 | AX13: =IF(G$4="",AW13,IFERROR(VLOOKUP(G13,Schicht_Tabelle,12,0),-999)) -> -999 | AY13: =IF(H$4="",AX13,IFERROR(VLOOKUP(H13,Schicht_Tabelle,12,0),-999)) -> -999 | AZ13: =IF(I$4="",AY13,IFERROR(VLOOKUP(I13,Schicht_Tabelle,12,0),-999)) -> -999 | BA13: =IF(J$4="",AZ13,IFERROR(VLOOKUP(J13,Schicht_Tabelle,12,0),-999)) -> -999 | ... BW13: =IF(AF$4="",BV13,IFERROR(VLOOKUP(AF13,Schicht_Tabelle,12,0),-999)) -> -999 | BX13: =IF(B$4="",0,IF(IFERROR(VLOOKUP(B13,Schicht_Tabelle,13,0),0)=1,0+1,0)) -> 0 | BY13: =IF(C$4="",BX13,IF(IFERROR(VLOOKUP(C13,Schicht_Tabelle,13,0),0)=1,BX13+1,0)) -> 0 | BZ13: =IF(D$4="",BY13,IF(IFERROR(VLOOKUP(D13,Schicht_Tabelle,13,0),0)=1,BY13+1,0)) -> 0 | CA13: =IF(E$4="",BZ13,IF(IFERROR(VLOOKUP(E13,Schicht_Tabelle,13,0),0)=1,BZ13+1,0)) -> 0 | CB13: =IF(F$4="",CA13,IF(IFERROR(VLOOKUP(F13,Schicht_Tabelle,13,0),0)=1,CA13+1,0)) -> 0 | CC13: =IF(G$4="",CB13,IF(IFERROR(VLOOKUP(G13,Schicht_Tabelle,13,0),0)=1,CB13+1,0)) -> 0 | CD13: =IF(H$4="",CC13,IF(IFERROR(VLOOKUP(H13,Schicht_Tabelle,13,0),0)=1,CC13+1,0)) -> 0 | CE13: =IF(I$4="",CD13,IF(IFERROR(VLOOKUP(I13,Schicht_Tabelle,13,0),0)=1,CD13+1,0)) -> 0 | CF13: =IF(J$4="",CE13,IF(IFERROR(VLOOKUP(J13,Schicht_Tabelle,13,0),0)=1,CE13+1,0)) -> 0 | ... DB13: =IF(AF$4="",DA13,IF(IFERROR(VLOOKUP(AF13,Schicht_Tabelle,13,0),0)=1,DA13+1,0)) -> 0 | DC13: =IF(B$4="",0,N(ROUND(24+IFERROR(VLOOKUP(B13,Schicht_Tabelle,16,0),99)--999,2)<Min_Ruhe)) -> 0 | DD13: =IF(C$4="",0,N(ROUND(24+IFERROR(VLOOKUP(C13,Schicht_Tabelle,16,0),99)-AS13,2)<Min_Ruhe)) -> 0 | DE13: =IF(D$4="",0,N(ROUND(24+IFERROR(VLOOKUP(D13,Schicht_Tabelle,16,0),99)-AT13,2)<Min_Ruhe)) -> 0 | DF13: =IF(E$4="",0,N(ROUND(24+IFERROR(VLOOKUP(E13,Schicht_Tabelle,16,0),99)-AU13,2)<Min_Ruhe)) -> 0 | DG13: =IF(F$4="",0,N(ROUND(24+IFERROR(VLOOKUP(F13,Schicht_Tabelle,16,0),99)-AV13,2)<Min_Ruhe)) -> 0 | DH13: =IF(G$4="",0,N(ROUND(24+IFERROR(VLOOKUP(G13,Schicht_Tabelle,16,0),99)-AW13,2)<Min_Ruhe)) -> 0 | DI13: =IF(H$4="",0,N(ROUND(24+IFERROR(VLOOKUP(H13,Schicht_Tabelle,16,0),99)-AX13,2)<Min_Ruhe)) -> 0 | DJ13: =IF(I$4="",0,N(ROUND(24+IFERROR(VLOOKUP(I13,Schicht_Tabelle,16,0),99)-AY13,2)<Min_Ruhe)) -> 0 | DK13: =IF(J$4="",0,N(ROUND(24+IFERROR(VLOOKUP(J13,Schicht_Tabelle,16,0),99)-AZ13,2)<Min_Ruhe)) -> 0 | ... EG13: =IF(AF$4="",0,N(ROUND(24+IFERROR(VLOOKUP(AF13,Schicht_Tabelle,16,0),99)-BV13,2)<Min_Ruhe)) -> 0
A14: =IF(Mitarbeitende!A14="","",Mitarbeitende!A14) | AH14: =IF(OR($A14="",N(Mitarbeitende!$C14)=0),"",IF(Soll_Modus="Kalendertagen",Mitarbeitende!$C14/7*COUNT($B$4:$AF$4),Mitarbeitende!$C14/5*SUM($B$43:$AF$43))) | AI14: =IF($A14="","",SUMPRODUCT(COUNTIF($B14:$AF14,Kuerzel_Liste)*Std_Liste)+SUMPRODUCT(COUNTIF($B14:$AF14,Kuerzel_Liste)*Bezahlt_Liste)*N(Mitarbeitende!$D14)) | AJ14: =IF(OR($A14="",AH14="",COUNTA($B14:$AF14)=0),"",AI14-AH14) | AK14: =IF(OR($A14="",AK$5=""),"",COUNTIF($B14:$AF14,AK$5)) | AL14: =IF(OR($A14="",AL$5=""),"",COUNTIF($B14:$AF14,AL$5)) | AM14: =IF(OR($A14="",AM$5=""),"",COUNTIF($B14:$AF14,AM$5)) | AN14: =IF(OR($A14="",AN$5=""),"",COUNTIF($B14:$AF14,AN$5)) | AO14: =IF(OR($A14="",AO$5=""),"",COUNTIF($B14:$AF14,AO$5)) | AP14: =IF($A14="","",SUMPRODUCT($B$42:$AF$42*(COUNTIF(Arbeit_Liste,$B14:$AF14)>0))) | AQ14: =IF($A14="","",IF(SUM(DC14:EG14)>0,SUM(DC14:EG14)&"x Ruhezeit","")&IF(AND(SUM(DC14:EG14)>0,MAX(BX14:DB14)>Max_Folge),", ","")&IF(MAX(BX14:DB14)>Max_Folge,MAX(BX14:DB14)&" Tage am Stück","")) | AR14: =IF(COUNTA($B14:$AF14)>0,N(AH14),0) -> 0 | AS14: =IF(B$4="",-999,IFERROR(VLOOKUP(B14,Schicht_Tabelle,12,0),-999)) -> -999 | AT14: =IF(C$4="",AS14,IFERROR(VLOOKUP(C14,Schicht_Tabelle,12,0),-999)) -> -999 | AU14: =IF(D$4="",AT14,IFERROR(VLOOKUP(D14,Schicht_Tabelle,12,0),-999)) -> -999 | AV14: =IF(E$4="",AU14,IFERROR(VLOOKUP(E14,Schicht_Tabelle,12,0),-999)) -> -999 | AW14: =IF(F$4="",AV14,IFERROR(VLOOKUP(F14,Schicht_Tabelle,12,0),-999)) -> -999 | AX14: =IF(G$4="",AW14,IFERROR(VLOOKUP(G14,Schicht_Tabelle,12,0),-999)) -> -999 | AY14: =IF(H$4="",AX14,IFERROR(VLOOKUP(H14,Schicht_Tabelle,12,0),-999)) -> -999 | AZ14: =IF(I$4="",AY14,IFERROR(VLOOKUP(I14,Schicht_Tabelle,12,0),-999)) -> -999 | BA14: =IF(J$4="",AZ14,IFERROR(VLOOKUP(J14,Schicht_Tabelle,12,0),-999)) -> -999 | ... BW14: =IF(AF$4="",BV14,IFERROR(VLOOKUP(AF14,Schicht_Tabelle,12,0),-999)) -> -999 | BX14: =IF(B$4="",0,IF(IFERROR(VLOOKUP(B14,Schicht_Tabelle,13,0),0)=1,0+1,0)) -> 0 | BY14: =IF(C$4="",BX14,IF(IFERROR(VLOOKUP(C14,Schicht_Tabelle,13,0),0)=1,BX14+1,0)) -> 0 | BZ14: =IF(D$4="",BY14,IF(IFERROR(VLOOKUP(D14,Schicht_Tabelle,13,0),0)=1,BY14+1,0)) -> 0 | CA14: =IF(E$4="",BZ14,IF(IFERROR(VLOOKUP(E14,Schicht_Tabelle,13,0),0)=1,BZ14+1,0)) -> 0 | CB14: =IF(F$4="",CA14,IF(IFERROR(VLOOKUP(F14,Schicht_Tabelle,13,0),0)=1,CA14+1,0)) -> 0 | CC14: =IF(G$4="",CB14,IF(IFERROR(VLOOKUP(G14,Schicht_Tabelle,13,0),0)=1,CB14+1,0)) -> 0 | CD14: =IF(H$4="",CC14,IF(IFERROR(VLOOKUP(H14,Schicht_Tabelle,13,0),0)=1,CC14+1,0)) -> 0 | CE14: =IF(I$4="",CD14,IF(IFERROR(VLOOKUP(I14,Schicht_Tabelle,13,0),0)=1,CD14+1,0)) -> 0 | CF14: =IF(J$4="",CE14,IF(IFERROR(VLOOKUP(J14,Schicht_Tabelle,13,0),0)=1,CE14+1,0)) -> 0 | ... DB14: =IF(AF$4="",DA14,IF(IFERROR(VLOOKUP(AF14,Schicht_Tabelle,13,0),0)=1,DA14+1,0)) -> 0 | DC14: =IF(B$4="",0,N(ROUND(24+IFERROR(VLOOKUP(B14,Schicht_Tabelle,16,0),99)--999,2)<Min_Ruhe)) -> 0 | DD14: =IF(C$4="",0,N(ROUND(24+IFERROR(VLOOKUP(C14,Schicht_Tabelle,16,0),99)-AS14,2)<Min_Ruhe)) -> 0 | DE14: =IF(D$4="",0,N(ROUND(24+IFERROR(VLOOKUP(D14,Schicht_Tabelle,16,0),99)-AT14,2)<Min_Ruhe)) -> 0 | DF14: =IF(E$4="",0,N(ROUND(24+IFERROR(VLOOKUP(E14,Schicht_Tabelle,16,0),99)-AU14,2)<Min_Ruhe)) -> 0 | DG14: =IF(F$4="",0,N(ROUND(24+IFERROR(VLOOKUP(F14,Schicht_Tabelle,16,0),99)-AV14,2)<Min_Ruhe)) -> 0 | DH14: =IF(G$4="",0,N(ROUND(24+IFERROR(VLOOKUP(G14,Schicht_Tabelle,16,0),99)-AW14,2)<Min_Ruhe)) -> 0 | DI14: =IF(H$4="",0,N(ROUND(24+IFERROR(VLOOKUP(H14,Schicht_Tabelle,16,0),99)-AX14,2)<Min_Ruhe)) -> 0 | DJ14: =IF(I$4="",0,N(ROUND(24+IFERROR(VLOOKUP(I14,Schicht_Tabelle,16,0),99)-AY14,2)<Min_Ruhe)) -> 0 | DK14: =IF(J$4="",0,N(ROUND(24+IFERROR(VLOOKUP(J14,Schicht_Tabelle,16,0),99)-AZ14,2)<Min_Ruhe)) -> 0 | ... EG14: =IF(AF$4="",0,N(ROUND(24+IFERROR(VLOOKUP(AF14,Schicht_Tabelle,16,0),99)-BV14,2)<Min_Ruhe)) -> 0
A15: =IF(Mitarbeitende!A15="","",Mitarbeitende!A15) | AH15: =IF(OR($A15="",N(Mitarbeitende!$C15)=0),"",IF(Soll_Modus="Kalendertagen",Mitarbeitende!$C15/7*COUNT($B$4:$AF$4),Mitarbeitende!$C15/5*SUM($B$43:$AF$43))) | AI15: =IF($A15="","",SUMPRODUCT(COUNTIF($B15:$AF15,Kuerzel_Liste)*Std_Liste)+SUMPRODUCT(COUNTIF($B15:$AF15,Kuerzel_Liste)*Bezahlt_Liste)*N(Mitarbeitende!$D15)) | AJ15: =IF(OR($A15="",AH15="",COUNTA($B15:$AF15)=0),"",AI15-AH15) | AK15: =IF(OR($A15="",AK$5=""),"",COUNTIF($B15:$AF15,AK$5)) | AL15: =IF(OR($A15="",AL$5=""),"",COUNTIF($B15:$AF15,AL$5)) | AM15: =IF(OR($A15="",AM$5=""),"",COUNTIF($B15:$AF15,AM$5)) | AN15: =IF(OR($A15="",AN$5=""),"",COUNTIF($B15:$AF15,AN$5)) | AO15: =IF(OR($A15="",AO$5=""),"",COUNTIF($B15:$AF15,AO$5)) | AP15: =IF($A15="","",SUMPRODUCT($B$42:$AF$42*(COUNTIF(Arbeit_Liste,$B15:$AF15)>0))) | AQ15: =IF($A15="","",IF(SUM(DC15:EG15)>0,SUM(DC15:EG15)&"x Ruhezeit","")&IF(AND(SUM(DC15:EG15)>0,MAX(BX15:DB15)>Max_Folge),", ","")&IF(MAX(BX15:DB15)>Max_Folge,MAX(BX15:DB15)&" Tage am Stück","")) | AR15: =IF(COUNTA($B15:$AF15)>0,N(AH15),0) -> 0 | AS15: =IF(B$4="",-999,IFERROR(VLOOKUP(B15,Schicht_Tabelle,12,0),-999)) -> -999 | AT15: =IF(C$4="",AS15,IFERROR(VLOOKUP(C15,Schicht_Tabelle,12,0),-999)) -> -999 | AU15: =IF(D$4="",AT15,IFERROR(VLOOKUP(D15,Schicht_Tabelle,12,0),-999)) -> -999 | AV15: =IF(E$4="",AU15,IFERROR(VLOOKUP(E15,Schicht_Tabelle,12,0),-999)) -> -999 | AW15: =IF(F$4="",AV15,IFERROR(VLOOKUP(F15,Schicht_Tabelle,12,0),-999)) -> -999 | AX15: =IF(G$4="",AW15,IFERROR(VLOOKUP(G15,Schicht_Tabelle,12,0),-999)) -> -999 | AY15: =IF(H$4="",AX15,IFERROR(VLOOKUP(H15,Schicht_Tabelle,12,0),-999)) -> -999 | AZ15: =IF(I$4="",AY15,IFERROR(VLOOKUP(I15,Schicht_Tabelle,12,0),-999)) -> -999 | BA15: =IF(J$4="",AZ15,IFERROR(VLOOKUP(J15,Schicht_Tabelle,12,0),-999)) -> -999 | ... BW15: =IF(AF$4="",BV15,IFERROR(VLOOKUP(AF15,Schicht_Tabelle,12,0),-999)) -> -999 | BX15: =IF(B$4="",0,IF(IFERROR(VLOOKUP(B15,Schicht_Tabelle,13,0),0)=1,0+1,0)) -> 0 | BY15: =IF(C$4="",BX15,IF(IFERROR(VLOOKUP(C15,Schicht_Tabelle,13,0),0)=1,BX15+1,0)) -> 0 | BZ15: =IF(D$4="",BY15,IF(IFERROR(VLOOKUP(D15,Schicht_Tabelle,13,0),0)=1,BY15+1,0)) -> 0 | CA15: =IF(E$4="",BZ15,IF(IFERROR(VLOOKUP(E15,Schicht_Tabelle,13,0),0)=1,BZ15+1,0)) -> 0 | CB15: =IF(F$4="",CA15,IF(IFERROR(VLOOKUP(F15,Schicht_Tabelle,13,0),0)=1,CA15+1,0)) -> 0 | CC15: =IF(G$4="",CB15,IF(IFERROR(VLOOKUP(G15,Schicht_Tabelle,13,0),0)=1,CB15+1,0)) -> 0 | CD15: =IF(H$4="",CC15,IF(IFERROR(VLOOKUP(H15,Schicht_Tabelle,13,0),0)=1,CC15+1,0)) -> 0 | CE15: =IF(I$4="",CD15,IF(IFERROR(VLOOKUP(I15,Schicht_Tabelle,13,0),0)=1,CD15+1,0)) -> 0 | CF15: =IF(J$4="",CE15,IF(IFERROR(VLOOKUP(J15,Schicht_Tabelle,13,0),0)=1,CE15+1,0)) -> 0 | ... DB15: =IF(AF$4="",DA15,IF(IFERROR(VLOOKUP(AF15,Schicht_Tabelle,13,0),0)=1,DA15+1,0)) -> 0 | DC15: =IF(B$4="",0,N(ROUND(24+IFERROR(VLOOKUP(B15,Schicht_Tabelle,16,0),99)--999,2)<Min_Ruhe)) -> 0 | DD15: =IF(C$4="",0,N(ROUND(24+IFERROR(VLOOKUP(C15,Schicht_Tabelle,16,0),99)-AS15,2)<Min_Ruhe)) -> 0 | DE15: =IF(D$4="",0,N(ROUND(24+IFERROR(VLOOKUP(D15,Schicht_Tabelle,16,0),99)-AT15,2)<Min_Ruhe)) -> 0 | DF15: =IF(E$4="",0,N(ROUND(24+IFERROR(VLOOKUP(E15,Schicht_Tabelle,16,0),99)-AU15,2)<Min_Ruhe)) -> 0 | DG15: =IF(F$4="",0,N(ROUND(24+IFERROR(VLOOKUP(F15,Schicht_Tabelle,16,0),99)-AV15,2)<Min_Ruhe)) -> 0 | DH15: =IF(G$4="",0,N(ROUND(24+IFERROR(VLOOKUP(G15,Schicht_Tabelle,16,0),99)-AW15,2)<Min_Ruhe)) -> 0 | DI15: =IF(H$4="",0,N(ROUND(24+IFERROR(VLOOKUP(H15,Schicht_Tabelle,16,0),99)-AX15,2)<Min_Ruhe)) -> 0 | DJ15: =IF(I$4="",0,N(ROUND(24+IFERROR(VLOOKUP(I15,Schicht_Tabelle,16,0),99)-AY15,2)<Min_Ruhe)) -> 0 | DK15: =IF(J$4="",0,N(ROUND(24+IFERROR(VLOOKUP(J15,Schicht_Tabelle,16,0),99)-AZ15,2)<Min_Ruhe)) -> 0 | ... EG15: =IF(AF$4="",0,N(ROUND(24+IFERROR(VLOOKUP(AF15,Schicht_Tabelle,16,0),99)-BV15,2)<Min_Ruhe)) -> 0
A16: =IF(Mitarbeitende!A16="","",Mitarbeitende!A16) | AH16: =IF(OR($A16="",N(Mitarbeitende!$C16)=0),"",IF(Soll_Modus="Kalendertagen",Mitarbeitende!$C16/7*COUNT($B$4:$AF$4),Mitarbeitende!$C16/5*SUM($B$43:$AF$43))) | AI16: =IF($A16="","",SUMPRODUCT(COUNTIF($B16:$AF16,Kuerzel_Liste)*Std_Liste)+SUMPRODUCT(COUNTIF($B16:$AF16,Kuerzel_Liste)*Bezahlt_Liste)*N(Mitarbeitende!$D16)) | AJ16: =IF(OR($A16="",AH16="",COUNTA($B16:$AF16)=0),"",AI16-AH16) | AK16: =IF(OR($A16="",AK$5=""),"",COUNTIF($B16:$AF16,AK$5)) | AL16: =IF(OR($A16="",AL$5=""),"",COUNTIF($B16:$AF16,AL$5)) | AM16: =IF(OR($A16="",AM$5=""),"",COUNTIF($B16:$AF16,AM$5)) | AN16: =IF(OR($A16="",AN$5=""),"",COUNTIF($B16:$AF16,AN$5)) | AO16: =IF(OR($A16="",AO$5=""),"",COUNTIF($B16:$AF16,AO$5)) | AP16: =IF($A16="","",SUMPRODUCT($B$42:$AF$42*(COUNTIF(Arbeit_Liste,$B16:$AF16)>0))) | AQ16: =IF($A16="","",IF(SUM(DC16:EG16)>0,SUM(DC16:EG16)&"x Ruhezeit","")&IF(AND(SUM(DC16:EG16)>0,MAX(BX16:DB16)>Max_Folge),", ","")&IF(MAX(BX16:DB16)>Max_Folge,MAX(BX16:DB16)&" Tage am Stück","")) | AR16: =IF(COUNTA($B16:$AF16)>0,N(AH16),0) -> 0 | AS16: =IF(B$4="",-999,IFERROR(VLOOKUP(B16,Schicht_Tabelle,12,0),-999)) -> -999 | AT16: =IF(C$4="",AS16,IFERROR(VLOOKUP(C16,Schicht_Tabelle,12,0),-999)) -> -999 | AU16: =IF(D$4="",AT16,IFERROR(VLOOKUP(D16,Schicht_Tabelle,12,0),-999)) -> -999 | AV16: =IF(E$4="",AU16,IFERROR(VLOOKUP(E16,Schicht_Tabelle,12,0),-999)) -> -999 | AW16: =IF(F$4="",AV16,IFERROR(VLOOKUP(F16,Schicht_Tabelle,12,0),-999)) -> -999 | AX16: =IF(G$4="",AW16,IFERROR(VLOOKUP(G16,Schicht_Tabelle,12,0),-999)) -> -999 | AY16: =IF(H$4="",AX16,IFERROR(VLOOKUP(H16,Schicht_Tabelle,12,0),-999)) -> -999 | AZ16: =IF(I$4="",AY16,IFERROR(VLOOKUP(I16,Schicht_Tabelle,12,0),-999)) -> -999 | BA16: =IF(J$4="",AZ16,IFERROR(VLOOKUP(J16,Schicht_Tabelle,12,0),-999)) -> -999 | ... BW16: =IF(AF$4="",BV16,IFERROR(VLOOKUP(AF16,Schicht_Tabelle,12,0),-999)) -> -999 | BX16: =IF(B$4="",0,IF(IFERROR(VLOOKUP(B16,Schicht_Tabelle,13,0),0)=1,0+1,0)) -> 0 | BY16: =IF(C$4="",BX16,IF(IFERROR(VLOOKUP(C16,Schicht_Tabelle,13,0),0)=1,BX16+1,0)) -> 0 | BZ16: =IF(D$4="",BY16,IF(IFERROR(VLOOKUP(D16,Schicht_Tabelle,13,0),0)=1,BY16+1,0)) -> 0 | CA16: =IF(E$4="",BZ16,IF(IFERROR(VLOOKUP(E16,Schicht_Tabelle,13,0),0)=1,BZ16+1,0)) -> 0 | CB16: =IF(F$4="",CA16,IF(IFERROR(VLOOKUP(F16,Schicht_Tabelle,13,0),0)=1,CA16+1,0)) -> 0 | CC16: =IF(G$4="",CB16,IF(IFERROR(VLOOKUP(G16,Schicht_Tabelle,13,0),0)=1,CB16+1,0)) -> 0 | CD16: =IF(H$4="",CC16,IF(IFERROR(VLOOKUP(H16,Schicht_Tabelle,13,0),0)=1,CC16+1,0)) -> 0 | CE16: =IF(I$4="",CD16,IF(IFERROR(VLOOKUP(I16,Schicht_Tabelle,13,0),0)=1,CD16+1,0)) -> 0 | CF16: =IF(J$4="",CE16,IF(IFERROR(VLOOKUP(J16,Schicht_Tabelle,13,0),0)=1,CE16+1,0)) -> 0 | ... DB16: =IF(AF$4="",DA16,IF(IFERROR(VLOOKUP(AF16,Schicht_Tabelle,13,0),0)=1,DA16+1,0)) -> 0 | DC16: =IF(B$4="",0,N(ROUND(24+IFERROR(VLOOKUP(B16,Schicht_Tabelle,16,0),99)--999,2)<Min_Ruhe)) -> 0 | DD16: =IF(C$4="",0,N(ROUND(24+IFERROR(VLOOKUP(C16,Schicht_Tabelle,16,0),99)-AS16,2)<Min_Ruhe)) -> 0 | DE16: =IF(D$4="",0,N(ROUND(24+IFERROR(VLOOKUP(D16,Schicht_Tabelle,16,0),99)-AT16,2)<Min_Ruhe)) -> 0 | DF16: =IF(E$4="",0,N(ROUND(24+IFERROR(VLOOKUP(E16,Schicht_Tabelle,16,0),99)-AU16,2)<Min_Ruhe)) -> 0 | DG16: =IF(F$4="",0,N(ROUND(24+IFERROR(VLOOKUP(F16,Schicht_Tabelle,16,0),99)-AV16,2)<Min_Ruhe)) -> 0 | DH16: =IF(G$4="",0,N(ROUND(24+IFERROR(VLOOKUP(G16,Schicht_Tabelle,16,0),99)-AW16,2)<Min_Ruhe)) -> 0 | DI16: =IF(H$4="",0,N(ROUND(24+IFERROR(VLOOKUP(H16,Schicht_Tabelle,16,0),99)-AX16,2)<Min_Ruhe)) -> 0 | DJ16: =IF(I$4="",0,N(ROUND(24+IFERROR(VLOOKUP(I16,Schicht_Tabelle,16,0),99)-AY16,2)<Min_Ruhe)) -> 0 | DK16: =IF(J$4="",0,N(ROUND(24+IFERROR(VLOOKUP(J16,Schicht_Tabelle,16,0),99)-AZ16,2)<Min_Ruhe)) -> 0 | ... EG16: =IF(AF$4="",0,N(ROUND(24+IFERROR(VLOOKUP(AF16,Schicht_Tabelle,16,0),99)-BV16,2)<Min_Ruhe)) -> 0
A17: =IF(Mitarbeitende!A17="","",Mitarbeitende!A17) | AH17: =IF(OR($A17="",N(Mitarbeitende!$C17)=0),"",IF(Soll_Modus="Kalendertagen",Mitarbeitende!$C17/7*COUNT($B$4:$AF$4),Mitarbeitende!$C17/5*SUM($B$43:$AF$43))) | AI17: =IF($A17="","",SUMPRODUCT(COUNTIF($B17:$AF17,Kuerzel_Liste)*Std_Liste)+SUMPRODUCT(COUNTIF($B17:$AF17,Kuerzel_Liste)*Bezahlt_Liste)*N(Mitarbeitende!$D17)) | AJ17: =IF(OR($A17="",AH17="",COUNTA($B17:$AF17)=0),"",AI17-AH17) | AK17: =IF(OR($A17="",AK$5=""),"",COUNTIF($B17:$AF17,AK$5)) | AL17: =IF(OR($A17="",AL$5=""),"",COUNTIF($B17:$AF17,AL$5)) | AM17: =IF(OR($A17="",AM$5=""),"",COUNTIF($B17:$AF17,AM$5)) | AN17: =IF(OR($A17="",AN$5=""),"",COUNTIF($B17:$AF17,AN$5)) | AO17: =IF(OR($A17="",AO$5=""),"",COUNTIF($B17:$AF17,AO$5)) | AP17: =IF($A17="","",SUMPRODUCT($B$42:$AF$42*(COUNTIF(Arbeit_Liste,$B17:$AF17)>0))) | AQ17: =IF($A17="","",IF(SUM(DC17:EG17)>0,SUM(DC17:EG17)&"x Ruhezeit","")&IF(AND(SUM(DC17:EG17)>0,MAX(BX17:DB17)>Max_Folge),", ","")&IF(MAX(BX17:DB17)>Max_Folge,MAX(BX17:DB17)&" Tage am Stück","")) | AR17: =IF(COUNTA($B17:$AF17)>0,N(AH17),0) -> 0 | AS17: =IF(B$4="",-999,IFERROR(VLOOKUP(B17,Schicht_Tabelle,12,0),-999)) -> -999 | AT17: =IF(C$4="",AS17,IFERROR(VLOOKUP(C17,Schicht_Tabelle,12,0),-999)) -> -999 | AU17: =IF(D$4="",AT17,IFERROR(VLOOKUP(D17,Schicht_Tabelle,12,0),-999)) -> -999 | AV17: =IF(E$4="",AU17,IFERROR(VLOOKUP(E17,Schicht_Tabelle,12,0),-999)) -> -999 | AW17: =IF(F$4="",AV17,IFERROR(VLOOKUP(F17,Schicht_Tabelle,12,0),-999)) -> -999 | AX17: =IF(G$4="",AW17,IFERROR(VLOOKUP(G17,Schicht_Tabelle,12,0),-999)) -> -999 | AY17: =IF(H$4="",AX17,IFERROR(VLOOKUP(H17,Schicht_Tabelle,12,0),-999)) -> -999 | AZ17: =IF(I$4="",AY17,IFERROR(VLOOKUP(I17,Schicht_Tabelle,12,0),-999)) -> -999 | BA17: =IF(J$4="",AZ17,IFERROR(VLOOKUP(J17,Schicht_Tabelle,12,0),-999)) -> -999 | ... BW17: =IF(AF$4="",BV17,IFERROR(VLOOKUP(AF17,Schicht_Tabelle,12,0),-999)) -> -999 | BX17: =IF(B$4="",0,IF(IFERROR(VLOOKUP(B17,Schicht_Tabelle,13,0),0)=1,0+1,0)) -> 0 | BY17: =IF(C$4="",BX17,IF(IFERROR(VLOOKUP(C17,Schicht_Tabelle,13,0),0)=1,BX17+1,0)) -> 0 | BZ17: =IF(D$4="",BY17,IF(IFERROR(VLOOKUP(D17,Schicht_Tabelle,13,0),0)=1,BY17+1,0)) -> 0 | CA17: =IF(E$4="",BZ17,IF(IFERROR(VLOOKUP(E17,Schicht_Tabelle,13,0),0)=1,BZ17+1,0)) -> 0 | CB17: =IF(F$4="",CA17,IF(IFERROR(VLOOKUP(F17,Schicht_Tabelle,13,0),0)=1,CA17+1,0)) -> 0 | CC17: =IF(G$4="",CB17,IF(IFERROR(VLOOKUP(G17,Schicht_Tabelle,13,0),0)=1,CB17+1,0)) -> 0 | CD17: =IF(H$4="",CC17,IF(IFERROR(VLOOKUP(H17,Schicht_Tabelle,13,0),0)=1,CC17+1,0)) -> 0 | CE17: =IF(I$4="",CD17,IF(IFERROR(VLOOKUP(I17,Schicht_Tabelle,13,0),0)=1,CD17+1,0)) -> 0 | CF17: =IF(J$4="",CE17,IF(IFERROR(VLOOKUP(J17,Schicht_Tabelle,13,0),0)=1,CE17+1,0)) -> 0 | ... DB17: =IF(AF$4="",DA17,IF(IFERROR(VLOOKUP(AF17,Schicht_Tabelle,13,0),0)=1,DA17+1,0)) -> 0 | DC17: =IF(B$4="",0,N(ROUND(24+IFERROR(VLOOKUP(B17,Schicht_Tabelle,16,0),99)--999,2)<Min_Ruhe)) -> 0 | DD17: =IF(C$4="",0,N(ROUND(24+IFERROR(VLOOKUP(C17,Schicht_Tabelle,16,0),99)-AS17,2)<Min_Ruhe)) -> 0 | DE17: =IF(D$4="",0,N(ROUND(24+IFERROR(VLOOKUP(D17,Schicht_Tabelle,16,0),99)-AT17,2)<Min_Ruhe)) -> 0 | DF17: =IF(E$4="",0,N(ROUND(24+IFERROR(VLOOKUP(E17,Schicht_Tabelle,16,0),99)-AU17,2)<Min_Ruhe)) -> 0 | DG17: =IF(F$4="",0,N(ROUND(24+IFERROR(VLOOKUP(F17,Schicht_Tabelle,16,0),99)-AV17,2)<Min_Ruhe)) -> 0 | DH17: =IF(G$4="",0,N(ROUND(24+IFERROR(VLOOKUP(G17,Schicht_Tabelle,16,0),99)-AW17,2)<Min_Ruhe)) -> 0 | DI17: =IF(H$4="",0,N(ROUND(24+IFERROR(VLOOKUP(H17,Schicht_Tabelle,16,0),99)-AX17,2)<Min_Ruhe)) -> 0 | DJ17: =IF(I$4="",0,N(ROUND(24+IFERROR(VLOOKUP(I17,Schicht_Tabelle,16,0),99)-AY17,2)<Min_Ruhe)) -> 0 | DK17: =IF(J$4="",0,N(ROUND(24+IFERROR(VLOOKUP(J17,Schicht_Tabelle,16,0),99)-AZ17,2)<Min_Ruhe)) -> 0 | ... EG17: =IF(AF$4="",0,N(ROUND(24+IFERROR(VLOOKUP(AF17,Schicht_Tabelle,16,0),99)-BV17,2)<Min_Ruhe)) -> 0
... A30: =IF(Mitarbeitende!A30="","",Mitarbeitende!A30) | AH30: =IF(OR($A30="",N(Mitarbeitende!$C30)=0),"",IF(Soll_Modus="Kalendertagen",Mitarbeitende!$C30/7*COUNT($B$4:$AF$4),Mitarbeitende!$C30/5*SUM($B$43:$AF$43))) | AI30: =IF($A30="","",SUMPRODUCT(COUNTIF($B30:$AF30,Kuerzel_Liste)*Std_Liste)+SUMPRODUCT(COUNTIF($B30:$AF30,Kuerzel_Liste)*Bezahlt_Liste)*N(Mitarbeitende!$D30)) | AJ30: =IF(OR($A30="",AH30="",COUNTA($B30:$AF30)=0),"",AI30-AH30) | AK30: =IF(OR($A30="",AK$5=""),"",COUNTIF($B30:$AF30,AK$5)) | AL30: =IF(OR($A30="",AL$5=""),"",COUNTIF($B30:$AF30,AL$5)) | AM30: =IF(OR($A30="",AM$5=""),"",COUNTIF($B30:$AF30,AM$5)) | AN30: =IF(OR($A30="",AN$5=""),"",COUNTIF($B30:$AF30,AN$5)) | AO30: =IF(OR($A30="",AO$5=""),"",COUNTIF($B30:$AF30,AO$5)) | AP30: =IF($A30="","",SUMPRODUCT($B$42:$AF$42*(COUNTIF(Arbeit_Liste,$B30:$AF30)>0))) | AQ30: =IF($A30="","",IF(SUM(DC30:EG30)>0,SUM(DC30:EG30)&"x Ruhezeit","")&IF(AND(SUM(DC30:EG30)>0,MAX(BX30:DB30)>Max_Folge),", ","")&IF(MAX(BX30:DB30)>Max_Folge,MAX(BX30:DB30)&" Tage am Stück","")) | AR30: =IF(COUNTA($B30:$AF30)>0,N(AH30),0) -> 0 | AS30: =IF(B$4="",-999,IFERROR(VLOOKUP(B30,Schicht_Tabelle,12,0),-999)) -> -999 | AT30: =IF(C$4="",AS30,IFERROR(VLOOKUP(C30,Schicht_Tabelle,12,0),-999)) -> -999 | AU30: =IF(D$4="",AT30,IFERROR(VLOOKUP(D30,Schicht_Tabelle,12,0),-999)) -> -999 | AV30: =IF(E$4="",AU30,IFERROR(VLOOKUP(E30,Schicht_Tabelle,12,0),-999)) -> -999 | AW30: =IF(F$4="",AV30,IFERROR(VLOOKUP(F30,Schicht_Tabelle,12,0),-999)) -> -999 | AX30: =IF(G$4="",AW30,IFERROR(VLOOKUP(G30,Schicht_Tabelle,12,0),-999)) -> -999 | AY30: =IF(H$4="",AX30,IFERROR(VLOOKUP(H30,Schicht_Tabelle,12,0),-999)) -> -999 | AZ30: =IF(I$4="",AY30,IFERROR(VLOOKUP(I30,Schicht_Tabelle,12,0),-999)) -> -999 | BA30: =IF(J$4="",AZ30,IFERROR(VLOOKUP(J30,Schicht_Tabelle,12,0),-999)) -> -999 | ... BW30: =IF(AF$4="",BV30,IFERROR(VLOOKUP(AF30,Schicht_Tabelle,12,0),-999)) -> -999 | BX30: =IF(B$4="",0,IF(IFERROR(VLOOKUP(B30,Schicht_Tabelle,13,0),0)=1,0+1,0)) -> 0 | BY30: =IF(C$4="",BX30,IF(IFERROR(VLOOKUP(C30,Schicht_Tabelle,13,0),0)=1,BX30+1,0)) -> 0 | BZ30: =IF(D$4="",BY30,IF(IFERROR(VLOOKUP(D30,Schicht_Tabelle,13,0),0)=1,BY30+1,0)) -> 0 | CA30: =IF(E$4="",BZ30,IF(IFERROR(VLOOKUP(E30,Schicht_Tabelle,13,0),0)=1,BZ30+1,0)) -> 0 | CB30: =IF(F$4="",CA30,IF(IFERROR(VLOOKUP(F30,Schicht_Tabelle,13,0),0)=1,CA30+1,0)) -> 0 | CC30: =IF(G$4="",CB30,IF(IFERROR(VLOOKUP(G30,Schicht_Tabelle,13,0),0)=1,CB30+1,0)) -> 0 | CD30: =IF(H$4="",CC30,IF(IFERROR(VLOOKUP(H30,Schicht_Tabelle,13,0),0)=1,CC30+1,0)) -> 0 | CE30: =IF(I$4="",CD30,IF(IFERROR(VLOOKUP(I30,Schicht_Tabelle,13,0),0)=1,CD30+1,0)) -> 0 | CF30: =IF(J$4="",CE30,IF(IFERROR(VLOOKUP(J30,Schicht_Tabelle,13,0),0)=1,CE30+1,0)) -> 0 | ... DB30: =IF(AF$4="",DA30,IF(IFERROR(VLOOKUP(AF30,Schicht_Tabelle,13,0),0)=1,DA30+1,0)) -> 0 | DC30: =IF(B$4="",0,N(ROUND(24+IFERROR(VLOOKUP(B30,Schicht_Tabelle,16,0),99)--999,2)<Min_Ruhe)) -> 0 | DD30: =IF(C$4="",0,N(ROUND(24+IFERROR(VLOOKUP(C30,Schicht_Tabelle,16,0),99)-AS30,2)<Min_Ruhe)) -> 0 | DE30: =IF(D$4="",0,N(ROUND(24+IFERROR(VLOOKUP(D30,Schicht_Tabelle,16,0),99)-AT30,2)<Min_Ruhe)) -> 0 | DF30: =IF(E$4="",0,N(ROUND(24+IFERROR(VLOOKUP(E30,Schicht_Tabelle,16,0),99)-AU30,2)<Min_Ruhe)) -> 0 | DG30: =IF(F$4="",0,N(ROUND(24+IFERROR(VLOOKUP(F30,Schicht_Tabelle,16,0),99)-AV30,2)<Min_Ruhe)) -> 0 | DH30: =IF(G$4="",0,N(ROUND(24+IFERROR(VLOOKUP(G30,Schicht_Tabelle,16,0),99)-AW30,2)<Min_Ruhe)) -> 0 | DI30: =IF(H$4="",0,N(ROUND(24+IFERROR(VLOOKUP(H30,Schicht_Tabelle,16,0),99)-AX30,2)<Min_Ruhe)) -> 0 | DJ30: =IF(I$4="",0,N(ROUND(24+IFERROR(VLOOKUP(I30,Schicht_Tabelle,16,0),99)-AY30,2)<Min_Ruhe)) -> 0 | DK30: =IF(J$4="",0,N(ROUND(24+IFERROR(VLOOKUP(J30,Schicht_Tabelle,16,0),99)-AZ30,2)<Min_Ruhe)) -> 0 | ... EG30: =IF(AF$4="",0,N(ROUND(24+IFERROR(VLOOKUP(AF30,Schicht_Tabelle,16,0),99)-BV30,2)<Min_Ruhe)) -> 0
A32: Besetzung je Schicht | AH32: Min. Mo bis Fr | AI32: Min. Sa, So, Ft
A33: =IF(Start!$B$14="","",Start!$B$14&" "&IFERROR(VLOOKUP(Start!$B$14,Schicht_Tabelle,2,FALSE),"")) -> F Früh | B33: =IF(OR(B$4="",Start!$B$14=""),"",COUNTIF(B$6:B$30,Start!$B$14)) -> 0 | C33: =IF(OR(C$4="",Start!$B$14=""),"",COUNTIF(C$6:C$30,Start!$B$14)) -> 0 | D33: =IF(OR(D$4="",Start!$B$14=""),"",COUNTIF(D$6:D$30,Start!$B$14)) -> 0 | E33: =IF(OR(E$4="",Start!$B$14=""),"",COUNTIF(E$6:E$30,Start!$B$14)) -> 0 | F33: =IF(OR(F$4="",Start!$B$14=""),"",COUNTIF(F$6:F$30,Start!$B$14)) -> 0 | G33: =IF(OR(G$4="",Start!$B$14=""),"",COUNTIF(G$6:G$30,Start!$B$14)) -> 0 | H33: =IF(OR(H$4="",Start!$B$14=""),"",COUNTIF(H$6:H$30,Start!$B$14)) -> 0 | I33: =IF(OR(I$4="",Start!$B$14=""),"",COUNTIF(I$6:I$30,Start!$B$14)) -> 0 | ... AF33: =IF(OR(AF$4="",Start!$B$14=""),"",COUNTIF(AF$6:AF$30,Start!$B$14)) -> 0 | AH33: =IF(Start!$B$14="","",N(Start!$C$14)) -> 2 | AI33: =IF(Start!$B$14="","",N(Start!$D$14)) -> 2
A34: =IF(Start!$B$15="","",Start!$B$15&" "&IFERROR(VLOOKUP(Start!$B$15,Schicht_Tabelle,2,FALSE),"")) -> S Spät | B34: =IF(OR(B$4="",Start!$B$15=""),"",COUNTIF(B$6:B$30,Start!$B$15)) -> 0 | C34: =IF(OR(C$4="",Start!$B$15=""),"",COUNTIF(C$6:C$30,Start!$B$15)) -> 0 | D34: =IF(OR(D$4="",Start!$B$15=""),"",COUNTIF(D$6:D$30,Start!$B$15)) -> 0 | E34: =IF(OR(E$4="",Start!$B$15=""),"",COUNTIF(E$6:E$30,Start!$B$15)) -> 0 | F34: =IF(OR(F$4="",Start!$B$15=""),"",COUNTIF(F$6:F$30,Start!$B$15)) -> 0 | G34: =IF(OR(G$4="",Start!$B$15=""),"",COUNTIF(G$6:G$30,Start!$B$15)) -> 0 | H34: =IF(OR(H$4="",Start!$B$15=""),"",COUNTIF(H$6:H$30,Start!$B$15)) -> 0 | I34: =IF(OR(I$4="",Start!$B$15=""),"",COUNTIF(I$6:I$30,Start!$B$15)) -> 0 | ... AF34: =IF(OR(AF$4="",Start!$B$15=""),"",COUNTIF(AF$6:AF$30,Start!$B$15)) -> 0 | AH34: =IF(Start!$B$15="","",N(Start!$C$15)) -> 2 | AI34: =IF(Start!$B$15="","",N(Start!$D$15)) -> 2
A35: =IF(Start!$B$16="","",Start!$B$16&" "&IFERROR(VLOOKUP(Start!$B$16,Schicht_Tabelle,2,FALSE),"")) -> N Nacht | B35: =IF(OR(B$4="",Start!$B$16=""),"",COUNTIF(B$6:B$30,Start!$B$16)) -> 0 | C35: =IF(OR(C$4="",Start!$B$16=""),"",COUNTIF(C$6:C$30,Start!$B$16)) -> 0 | D35: =IF(OR(D$4="",Start!$B$16=""),"",COUNTIF(D$6:D$30,Start!$B$16)) -> 0 | E35: =IF(OR(E$4="",Start!$B$16=""),"",COUNTIF(E$6:E$30,Start!$B$16)) -> 0 | F35: =IF(OR(F$4="",Start!$B$16=""),"",COUNTIF(F$6:F$30,Start!$B$16)) -> 0 | G35: =IF(OR(G$4="",Start!$B$16=""),"",COUNTIF(G$6:G$30,Start!$B$16)) -> 0 | H35: =IF(OR(H$4="",Start!$B$16=""),"",COUNTIF(H$6:H$30,Start!$B$16)) -> 0 | I35: =IF(OR(I$4="",Start!$B$16=""),"",COUNTIF(I$6:I$30,Start!$B$16)) -> 0 | ... AF35: =IF(OR(AF$4="",Start!$B$16=""),"",COUNTIF(AF$6:AF$30,Start!$B$16)) -> 0 | AH35: =IF(Start!$B$16="","",N(Start!$C$16)) -> 2 | AI35: =IF(Start!$B$16="","",N(Start!$D$16)) -> 2
A36: =IF(Start!$B$17="","",Start!$B$17&" "&IFERROR(VLOOKUP(Start!$B$17,Schicht_Tabelle,2,FALSE),"")) -> T Tag | B36: =IF(OR(B$4="",Start!$B$17=""),"",COUNTIF(B$6:B$30,Start!$B$17)) -> 0 | C36: =IF(OR(C$4="",Start!$B$17=""),"",COUNTIF(C$6:C$30,Start!$B$17)) -> 0 | D36: =IF(OR(D$4="",Start!$B$17=""),"",COUNTIF(D$6:D$30,Start!$B$17)) -> 0 | E36: =IF(OR(E$4="",Start!$B$17=""),"",COUNTIF(E$6:E$30,Start!$B$17)) -> 0 | F36: =IF(OR(F$4="",Start!$B$17=""),"",COUNTIF(F$6:F$30,Start!$B$17)) -> 0 | G36: =IF(OR(G$4="",Start!$B$17=""),"",COUNTIF(G$6:G$30,Start!$B$17)) -> 0 | H36: =IF(OR(H$4="",Start!$B$17=""),"",COUNTIF(H$6:H$30,Start!$B$17)) -> 0 | I36: =IF(OR(I$4="",Start!$B$17=""),"",COUNTIF(I$6:I$30,Start!$B$17)) -> 0 | ... AF36: =IF(OR(AF$4="",Start!$B$17=""),"",COUNTIF(AF$6:AF$30,Start!$B$17)) -> 0 | AH36: =IF(Start!$B$17="","",N(Start!$C$17)) -> 1 | AI36: =IF(Start!$B$17="","",N(Start!$D$17)) -> 0
A37: =IF(Start!$B$18="","",Start!$B$18&" "&IFERROR(VLOOKUP(Start!$B$18,Schicht_Tabelle,2,FALSE),"")) | B37: =IF(OR(B$4="",Start!$B$18=""),"",COUNTIF(B$6:B$30,Start!$B$18)) | C37: =IF(OR(C$4="",Start!$B$18=""),"",COUNTIF(C$6:C$30,Start!$B$18)) | D37: =IF(OR(D$4="",Start!$B$18=""),"",COUNTIF(D$6:D$30,Start!$B$18)) | E37: =IF(OR(E$4="",Start!$B$18=""),"",COUNTIF(E$6:E$30,Start!$B$18)) | F37: =IF(OR(F$4="",Start!$B$18=""),"",COUNTIF(F$6:F$30,Start!$B$18)) | G37: =IF(OR(G$4="",Start!$B$18=""),"",COUNTIF(G$6:G$30,Start!$B$18)) | H37: =IF(OR(H$4="",Start!$B$18=""),"",COUNTIF(H$6:H$30,Start!$B$18)) | I37: =IF(OR(I$4="",Start!$B$18=""),"",COUNTIF(I$6:I$30,Start!$B$18)) | ... AF37: =IF(OR(AF$4="",Start!$B$18=""),"",COUNTIF(AF$6:AF$30,Start!$B$18)) | AH37: =IF(Start!$B$18="","",N(Start!$C$18)) | AI37: =IF(Start!$B$18="","",N(Start!$D$18))
A39: ="Rot hinterlegt: Ruhezeit unter "&Min_Ruhe&" Std. zum Vortag · Schwarz-gelb: mehr als "&Max_Folge&" Arbeitstage am Stück · Besetzung grün: Minimum erreicht, rot: zu wenig · So.: Schichten am Sonntag" -> Rot hinterlegt: Ruhezeit unter 11 Std. zum Vortag · Schwarz-gelb: mehr als 6 Arbeitstage am Stück · Besetzung grün: Minimum erreicht, rot: zu wenig · So.: Schichten am Sonntag
A40: ="Wochenenden blaugrau, Feiertage ("&Bundesland&") rosa. Soll-Stunden nach "&Soll_Modus&". Urlaub und krank zählen mit den Stunden aus dem Blatt Mitarbeitende." -> Wochenenden blaugrau, Feiertage (Nordrhein-Westfalen) rosa. Soll-Stunden nach Arbeitstagen Mo bis Fr. Urlaub und krank zählen mit den Stunden aus dem Blatt Mitarbeitende.
A41: Hilfszeilen (ausgeblendet), bitte nicht ändern
A42: Sonntag | B42: =IF(B4="",0,IF(WEEKDAY(B4,2)=7,1,0)) -> 0 | C42: =IF(C4="",0,IF(WEEKDAY(C4,2)=7,1,0)) -> 0 | D42: =IF(D4="",0,IF(WEEKDAY(D4,2)=7,1,0)) -> 1 | E42: =IF(E4="",0,IF(WEEKDAY(E4,2)=7,1,0)) -> 0 | F42: =IF(F4="",0,IF(WEEKDAY(F4,2)=7,1,0)) -> 0 | G42: =IF(G4="",0,IF(WEEKDAY(G4,2)=7,1,0)) -> 0 | H42: =IF(H4="",0,IF(WEEKDAY(H4,2)=7,1,0)) -> 0 | I42: =IF(I4="",0,IF(WEEKDAY(I4,2)=7,1,0)) -> 0 | ... AF42: =IF(AF4="",0,IF(WEEKDAY(AF4,2)=7,1,0)) -> 1
A43: Arbeitstag Mo bis Fr | B43: =IF(B4="",0,IF(WEEKDAY(B4,2)>5,0,IF(COUNTIF(Feiertage_aktiv,B4)>0,0,1))) -> 0 | C43: =IF(C4="",0,IF(WEEKDAY(C4,2)>5,0,IF(COUNTIF(Feiertage_aktiv,C4)>0,0,1))) -> 0 | D43: =IF(D4="",0,IF(WEEKDAY(D4,2)>5,0,IF(COUNTIF(Feiertage_aktiv,D4)>0,0,1))) -> 0 | E43: =IF(E4="",0,IF(WEEKDAY(E4,2)>5,0,IF(COUNTIF(Feiertage_aktiv,E4)>0,0,1))) -> 1 | F43: =IF(F4="",0,IF(WEEKDAY(F4,2)>5,0,IF(COUNTIF(Feiertage_aktiv,F4)>0,0,1))) -> 1 | G43: =IF(G4="",0,IF(WEEKDAY(G4,2)>5,0,IF(COUNTIF(Feiertage_aktiv,G4)>0,0,1))) -> 1 | H43: =IF(H4="",0,IF(WEEKDAY(H4,2)>5,0,IF(COUNTIF(Feiertage_aktiv,H4)>0,0,1))) -> 1 | I43: =IF(I4="",0,IF(WEEKDAY(I4,2)>5,0,IF(COUNTIF(Feiertage_aktiv,I4)>0,0,1))) -> 1 | ... AF43: =IF(AF4="",0,IF(WEEKDAY(AF4,2)>5,0,IF(COUNTIF(Feiertage_aktiv,AF4)>0,0,1))) -> 0
A44: Feiertag | B44: =IF(B4="",0,IF(COUNTIF(Feiertage_aktiv,B4)>0,1,0)) -> 1 | C44: =IF(C4="",0,IF(COUNTIF(Feiertage_aktiv,C4)>0,1,0)) -> 0 | D44: =IF(D4="",0,IF(COUNTIF(Feiertage_aktiv,D4)>0,1,0)) -> 0 | E44: =IF(E4="",0,IF(COUNTIF(Feiertage_aktiv,E4)>0,1,0)) -> 0 | F44: =IF(F4="",0,IF(COUNTIF(Feiertage_aktiv,F4)>0,1,0)) -> 0 | G44: =IF(G4="",0,IF(COUNTIF(Feiertage_aktiv,G4)>0,1,0)) -> 0 | H44: =IF(H4="",0,IF(COUNTIF(Feiertage_aktiv,H4)>0,1,0)) -> 0 | I44: =IF(I4="",0,IF(COUNTIF(Feiertage_aktiv,I4)>0,1,0)) -> 0 | ... AF44: =IF(AF4="",0,IF(COUNTIF(Feiertage_aktiv,AF4)>0,1,0)) -> 0

Sheet Feb
A1: ="Schichtplan Februar "&Jahr&IF(Firma="",""," · "&Firma) -> Schichtplan Februar 2027
A2: ="Bundesland: "&Bundesland&" · Soll-Arbeitstage Mo bis Fr: "&SUM(B43:AF43)&" · Mindestruhezeit: "&Min_Ruhe&" Std. · höchstens "&Max_Folge&" Arbeitstage am Stück" -> Bundesland: Nordrhein-Westfalen · Soll-Arbeitstage Mo bis Fr: 20 · Mindestruhezeit: 11 Std. · höchstens 6 Arbeitstage am Stück
A3: KW | B3: =IF(B4="","",IF(OR(WEEKDAY(B4,2)=1,DAY(B4)=1),INT((B4-DATE(YEAR(B4-WEEKDAY(B4-1)+4),1,3)+WEEKDAY(DATE(YEAR(B4-WEEKDAY(B4-1)+4),1,3))+5)/7),"")) -> 5 | C3: =IF(C4="","",IF(OR(WEEKDAY(C4,2)=1,DAY(C4)=1),INT((C4-DATE(YEAR(C4-WEEKDAY(C4-1)+4),1,3)+WEEKDAY(DATE(YEAR(C4-WEEKDAY(C4-1)+4),1,3))+5)/7),"")) | D3: =IF(D4="","",IF(OR(WEEKDAY(D4,2)=1,DAY(D4)=1),INT((D4-DATE(YEAR(D4-WEEKDAY(D4-1)+4),1,3)+WEEKDAY(DATE(YEAR(D4-WEEKDAY(D4-1)+4),1,3))+5)/7),"")) | E3: =IF(E4="","",IF(OR(WEEKDAY(E4,2)=1,DAY(E4)=1),INT((E4-DATE(YEAR(E4-WEEKDAY(E4-1)+4),1,3)+WEEKDAY(DATE(YEAR(E4-WEEKDAY(E4-1)+4),1,3))+5)/7),"")) | F3: =IF(F4="","",IF(OR(WEEKDAY(F4,2)=1,DAY(F4)=1),INT((F4-DATE(YEAR(F4-WEEKDAY(F4-1)+4),1,3)+WEEKDAY(DATE(YEAR(F4-WEEKDAY(F4-1)+4),1,3))+5)/7),"")) | G3: =IF(G4="","",IF(OR(WEEKDAY(G4,2)=1,DAY(G4)=1),INT((G4-DATE(YEAR(G4-WEEKDAY(G4-1)+4),1,3)+WEEKDAY(DATE(YEAR(G4-WEEKDAY(G4-1)+4),1,3))+5)/7),"")) | H3: =IF(H4="","",IF(OR(WEEKDAY(H4,2)=1,DAY(H4)=1),INT((H4-DATE(YEAR(H4-WEEKDAY(H4-1)+4),1,3)+WEEKDAY(DATE(YEAR(H4-WEEKDAY(H4-1)+4),1,3))+5)/7),"")) | I3: =IF(I4="","",IF(OR(WEEKDAY(I4,2)=1,DAY(I4)=1),INT((I4-DATE(YEAR(I4-WEEKDAY(I4-1)+4),1,3)+WEEKDAY(DATE(YEAR(I4-WEEKDAY(I4-1)+4),1,3))+5)/7),"")) -> 6 | ... AF3: =IF(AF4="","",IF(OR(WEEKDAY(AF4,2)=1,DAY(AF4)=1),INT((AF4-DATE(YEAR(AF4-WEEKDAY(AF4-1)+4),1,3)+WEEKDAY(DATE(YEAR(AF4-WEEKDAY(AF4-1)+4),1,3))+5)/7),""))
A4: Tag | B4: =IF(MONTH(DATE(Jahr,2,1))=2,DATE(Jahr,2,1),"") -> 46419 | C4: =IF(MONTH(DATE(Jahr,2,2))=2,DATE(Jahr,2,2),"") -> 46420 | D4: =IF(MONTH(DATE(Jahr,2,3))=2,DATE(Jahr,2,3),"") -> 46421 | E4: =IF(MONTH(DATE(Jahr,2,4))=2,DATE(Jahr,2,4),"") -> 46422 | F4: =IF(MONTH(DATE(Jahr,2,5))=2,DATE(Jahr,2,5),"") -> 46423 | G4: =IF(MONTH(DATE(Jahr,2,6))=2,DATE(Jahr,2,6),"") -> 46424 | H4: =IF(MONTH(DATE(Jahr,2,7))=2,DATE(Jahr,2,7),"") -> 46425 | I4: =IF(MONTH(DATE(Jahr,2,8))=2,DATE(Jahr,2,8),"") -> 46426 | J4: =IF(MONTH(DATE(Jahr,2,9))=2,DATE(Jahr,2,9),"") -> 46427 | K4: =IF(MONTH(DATE(Jahr,2,10))=2,DATE(Jahr,2,10),"") -> 46428 | L4: =IF(MONTH(DATE(Jahr,2,11))=2,DATE(Jahr,2,11),"") -> 46429 | M4: =IF(MONTH(DATE(Jahr,2,12))=2,DATE(Jahr,2,12),"") -> 46430 | N4: =IF(MONTH(DATE(Jahr,2,13))=2,DATE(Jahr,2,13),"") -> 46431 | O4: =IF(MONTH(DATE(Jahr,2,14))=2,DATE(Jahr,2,14),"") -> 46432 | P4: =IF(MONTH(DATE(Jahr,2,15))=2,DATE(Jahr,2,15),"") -> 46433 | Q4: =IF(MONTH(DATE(Jahr,2,16))=2,DATE(Jahr,2,16),"") -> 46434 | R4: =IF(MONTH(DATE(Jahr,2,17))=2,DATE(Jahr,2,17),"") -> 46435 | S4: =IF(MONTH(DATE(Jahr,2,18))=2,DATE(Jahr,2,18),"") -> 46436 | T4: =IF(MONTH(DATE(Jahr,2,19))=2,DATE(Jahr,2,19),"") -> 46437 | U4: =IF(MONTH(DATE(Jahr,2,20))=2,DATE(Jahr,2,20),"") -> 46438 | V4: =IF(MONTH(DATE(Jahr,2,21))=2,DATE(Jahr,2,21),"") -> 46439 | W4: =IF(MONTH(DATE(Jahr,2,22))=2,DATE(Jahr,2,22),"") -> 46440 | X4: =IF(MONTH(DATE(Jahr,2,23))=2,DATE(Jahr,2,23),"") -> 46441 | Y4: =IF(MONTH(DATE(Jahr,2,24))=2,DATE(Jahr,2,24),"") -> 46442 | Z4: =IF(MONTH(DATE(Jahr,2,25))=2,DATE(Jahr,2,25),"") -> 46443 | AA4: =IF(MONTH(DATE(Jahr,2,26))=2,DATE(Jahr,2,26),"") -> 46444 | AB4: =IF(MONTH(DATE(Jahr,2,27))=2,DATE(Jahr,2,27),"") -> 46445 | AC4: =IF(MONTH(DATE(Jahr,2,28))=2,DATE(Jahr,2,28),"") -> 46446 | AD4: =IF(MONTH(DATE(Jahr,2,29))=2,DATE(Jahr,2,29),"") | AE4: =IF(MONTH(DATE(Jahr,2,30))=2,DATE(Jahr,2,30),"") | AF4: =IF(MONTH(DATE(Jahr,2,31))=2,DATE(Jahr,2,31),"") | AH4: Stunden | AK4: Anzahl | AS4: Hilfsspalten: Schichtende, Tage am Stück, Ruhezeit
A5: Name | B5: =B4 -> 46419 | C5: =C4 -> 46420 | D5: =D4 -> 46421 | E5: =E4 -> 46422 | F5: =F4 -> 46423 | G5: =G4 -> 46424 | H5: =H4 -> 46425 | I5: =I4 -> 46426 | ... AF5: =AF4 | AH5: Soll | AI5: Ist | AJ5: Saldo | AK5: =INDEX(Kuerzel_Liste,1)&"" -> F | AL5: =INDEX(Kuerzel_Liste,2)&"" -> S | AM5: =INDEX(Kuerzel_Liste,3)&"" -> N | AN5: =INDEX(Kuerzel_Liste,5)&"" -> U | AO5: =INDEX(Kuerzel_Liste,6)&"" -> K | AP5: So. | AQ5: Hinweise
A6: =IF(Mitarbeitende!A6="","",Mitarbeitende!A6) | AH6: =IF(OR($A6="",N(Mitarbeitende!$C6)=0),"",IF(Soll_Modus="Kalendertagen",Mitarbeitende!$C6/7*COUNT($B$4:$AF$4),Mitarbeitende!$C6/5*SUM($B$43:$AF$43))) | AI6: =IF($A6="","",SUMPRODUCT(COUNTIF($B6:$AF6,Kuerzel_Liste)*Std_Liste)+SUMPRODUCT(COUNTIF($B6:$AF6,Kuerzel_Liste)*Bezahlt_Liste)*N(Mitarbeitende!$D6)) | AJ6: =IF(OR($A6="",AH6="",COUNTA($B6:$AF6)=0),"",AI6-AH6) | AK6: =IF(OR($A6="",AK$5=""),"",COUNTIF($B6:$AF6,AK$5)) | AL6: =IF(OR($A6="",AL$5=""),"",COUNTIF($B6:$AF6,AL$5)) | AM6: =IF(OR($A6="",AM$5=""),"",COUNTIF($B6:$AF6,AM$5)) | AN6: =IF(OR($A6="",AN$5=""),"",COUNTIF($B6:$AF6,AN$5)) | AO6: =IF(OR($A6="",AO$5=""),"",COUNTIF($B6:$AF6,AO$5)) | AP6: =IF($A6="","",SUMPRODUCT($B$42:$AF$42*(COUNTIF(Arbeit_Liste,$B6:$AF6)>0))) | AQ6: =IF($A6="","",IF(SUM(DC6:EG6)>0,SUM(DC6:EG6)&"x Ruhezeit","")&IF(AND(SUM(DC6:EG6)>0,MAX(BX6:DB6)>Max_Folge),", ","")&IF(MAX(BX6:DB6)>Max_Folge,MAX(BX6:DB6)&" Tage am Stück","")) | AR6: =IF(COUNTA($B6:$AF6)>0,N(AH6),0) -> 0 | AS6: =IF(B$4="",Jan!BW6,IFERROR(VLOOKUP(B6,Schicht_Tabelle,12,0),-999)) -> -999 | AT6: =IF(C$4="",AS6,IFERROR(VLOOKUP(C6,Schicht_Tabelle,12,0),-999)) -> -999 | AU6: =IF(D$4="",AT6,IFERROR(VLOOKUP(D6,Schicht_Tabelle,12,0),-999)) -> -999 | AV6: =IF(E$4="",AU6,IFERROR(VLOOKUP(E6,Schicht_Tabelle,12,0),-999)) -> -999 | AW6: =IF(F$4="",AV6,IFERROR(VLOOKUP(F6,Schicht_Tabelle,12,0),-999)) -> -999 | AX6: =IF(G$4="",AW6,IFERROR(VLOOKUP(G6,Schicht_Tabelle,12,0),-999)) -> -999 | AY6: =IF(H$4="",AX6,IFERROR(VLOOKUP(H6,Schicht_Tabelle,12,0),-999)) -> -999 | AZ6: =IF(I$4="",AY6,IFERROR(VLOOKUP(I6,Schicht_Tabelle,12,0),-999)) -> -999 | BA6: =IF(J$4="",AZ6,IFERROR(VLOOKUP(J6,Schicht_Tabelle,12,0),-999)) -> -999 | ... BW6: =IF(AF$4="",BV6,IFERROR(VLOOKUP(AF6,Schicht_Tabelle,12,0),-999)) -> -999 | BX6: =IF(B$4="",Jan!DB6,IF(IFERROR(VLOOKUP(B6,Schicht_Tabelle,13,0),0)=1,Jan!DB6+1,0)) -> 0 | BY6: =IF(C$4="",BX6,IF(IFERROR(VLOOKUP(C6,Schicht_Tabelle,13,0),0)=1,BX6+1,0)) -> 0 | BZ6: =IF(D$4="",BY6,IF(IFERROR(VLOOKUP(D6,Schicht_Tabelle,13,0),0)=1,BY6+1,0)) -> 0 | CA6: =IF(E$4="",BZ6,IF(IFERROR(VLOOKUP(E6,Schicht_Tabelle,13,0),0)=1,BZ6+1,0)) -> 0 | CB6: =IF(F$4="",CA6,IF(IFERROR(VLOOKUP(F6,Schicht_Tabelle,13,0),0)=1,CA6+1,0)) -> 0 | CC6: =IF(G$4="",CB6,IF(IFERROR(VLOOKUP(G6,Schicht_Tabelle,13,0),0)=1,CB6+1,0)) -> 0 | CD6: =IF(H$4="",CC6,IF(IFERROR(VLOOKUP(H6,Schicht_Tabelle,13,0),0)=1,CC6+1,0)) -> 0 | CE6: =IF(I$4="",CD6,IF(IFERROR(VLOOKUP(I6,Schicht_Tabelle,13,0),0)=1,CD6+1,0)) -> 0 | CF6: =IF(J$4="",CE6,IF(IFERROR(VLOOKUP(J6,Schicht_Tabelle,13,0),0)=1,CE6+1,0)) -> 0 | ... DB6: =IF(AF$4="",DA6,IF(IFERROR(VLOOKUP(AF6,Schicht_Tabelle,13,0),0)=1,DA6+1,0)) -> 0 | DC6: =IF(B$4="",0,N(ROUND(24+IFERROR(VLOOKUP(B6,Schicht_Tabelle,16,0),99)-Jan!BW6,2)<Min_Ruhe)) -> 0 | DD6: =IF(C$4="",0,N(ROUND(24+IFERROR(VLOOKUP(C6,Schicht_Tabelle,16,0),99)-AS6,2)<Min_Ruhe)) -> 0 | DE6: =IF(D$4="",0,N(ROUND(24+IFERROR(VLOOKUP(D6,Schicht_Tabelle,16,0),99)-AT6,2)<Min_Ruhe)) -> 0 | DF6: =IF(E$4="",0,N(ROUND(24+IFERROR(VLOOKUP(E6,Schicht_Tabelle,16,0),99)-AU6,2)<Min_Ruhe)) -> 0 | DG6: =IF(F$4="",0,N(ROUND(24+IFERROR(VLOOKUP(F6,Schicht_Tabelle,16,0),99)-AV6,2)<Min_Ruhe)) -> 0 | DH6: =IF(G$4="",0,N(ROUND(24+IFERROR(VLOOKUP(G6,Schicht_Tabelle,16,0),99)-AW6,2)<Min_Ruhe)) -> 0 | DI6: =IF(H$4="",0,N(ROUND(24+IFERROR(VLOOKUP(H6,Schicht_Tabelle,16,0),99)-AX6,2)<Min_Ruhe)) -> 0 | DJ6: =IF(I$4="",0,N(ROUND(24+IFERROR(VLOOKUP(I6,Schicht_Tabelle,16,0),99)-AY6,2)<Min_Ruhe)) -> 0 | DK6: =IF(J$4="",0,N(ROUND(24+IFERROR(VLOOKUP(J6,Schicht_Tabelle,16,0),99)-AZ6,2)<Min_Ruhe)) -> 0 | ... EG6: =IF(AF$4="",0,N(ROUND(24+IFERROR(VLOOKUP(AF6,Schicht_Tabelle,16,0),99)-BV6,2)<Min_Ruhe)) -> 0
A7: =IF(Mitarbeitende!A7="","",Mitarbeitende!A7) | AH7: =IF(OR($A7="",N(Mitarbeitende!$C7)=0),"",IF(Soll_Modus="Kalendertagen",Mitarbeitende!$C7/7*COUNT($B$4:$AF$4),Mitarbeitende!$C7/5*SUM($B$43:$AF$43))) | AI7: =IF($A7="","",SUMPRODUCT(COUNTIF($B7:$AF7,Kuerzel_Liste)*Std_Liste)+SUMPRODUCT(COUNTIF($B7:$AF7,Kuerzel_Liste)*Bezahlt_Liste)*N(Mitarbeitende!$D7)) | AJ7: =IF(OR($A7="",AH7="",COUNTA($B7:$AF7)=0),"",AI7-AH7) | AK7: =IF(OR($A7="",AK$5=""),"",COUNTIF($B7:$AF7,AK$5)) | AL7: =IF(OR($A7="",AL$5=""),"",COUNTIF($B7:$AF7,AL$5)) | AM7: =IF(OR($A7="",AM$5=""),"",COUNTIF($B7:$AF7,AM$5)) | AN7: =IF(OR($A7="",AN$5=""),"",COUNTIF($B7:$AF7,AN$5)) | AO7: =IF(OR($A7="",AO$5=""),"",COUNTIF($B7:$AF7,AO$5)) | AP7: =IF($A7="","",SUMPRODUCT($B$42:$AF$42*(COUNTIF(Arbeit_Liste,$B7:$AF7)>0))) | AQ7: =IF($A7="","",IF(SUM(DC7:EG7)>0,SUM(DC7:EG7)&"x Ruhezeit","")&IF(AND(SUM(DC7:EG7)>0,MAX(BX7:DB7)>Max_Folge),", ","")&IF(MAX(BX7:DB7)>Max_Folge,MAX(BX7:DB7)&" Tage am Stück","")) | AR7: =IF(COUNTA($B7:$AF7)>0,N(AH7),0) -> 0 | AS7: =IF(B$4="",Jan!BW7,IFERROR(VLOOKUP(B7,Schicht_Tabelle,12,0),-999)) -> -999 | AT7: =IF(C$4="",AS7,IFERROR(VLOOKUP(C7,Schicht_Tabelle,12,0),-999)) -> -999 | AU7: =IF(D$4="",AT7,IFERROR(VLOOKUP(D7,Schicht_Tabelle,12,0),-999)) -> -999 | AV7: =IF(E$4="",AU7,IFERROR(VLOOKUP(E7,Schicht_Tabelle,12,0),-999)) -> -999 | AW7: =IF(F$4="",AV7,IFERROR(VLOOKUP(F7,Schicht_Tabelle,12,0),-999)) -> -999 | AX7: =IF(G$4="",AW7,IFERROR(VLOOKUP(G7,Schicht_Tabelle,12,0),-999)) -> -999 | AY7: =IF(H$4="",AX7,IFERROR(VLOOKUP(H7,Schicht_Tabelle,12,0),-999)) -> -999 | AZ7: =IF(I$4="",AY7,IFERROR(VLOOKUP(I7,Schicht_Tabelle,12,0),-999)) -> -999 | BA7: =IF(J$4="",AZ7,IFERROR(VLOOKUP(J7,Schicht_Tabelle,12,0),-999)) -> -999 | ... BW7: =IF(AF$4="",BV7,IFERROR(VLOOKUP(AF7,Schicht_Tabelle,12,0),-999)) -> -999 | BX7: =IF(B$4="",Jan!DB7,IF(IFERROR(VLOOKUP(B7,Schicht_Tabelle,13,0),0)=1,Jan!DB7+1,0)) -> 0 | BY7: =IF(C$4="",BX7,IF(IFERROR(VLOOKUP(C7,Schicht_Tabelle,13,0),0)=1,BX7+1,0)) -> 0 | BZ7: =IF(D$4="",BY7,IF(IFERROR(VLOOKUP(D7,Schicht_Tabelle,13,0),0)=1,BY7+1,0)) -> 0 | CA7: =IF(E$4="",BZ7,IF(IFERROR(VLOOKUP(E7,Schicht_Tabelle,13,0),0)=1,BZ7+1,0)) -> 0 | CB7: =IF(F$4="",CA7,IF(IFERROR(VLOOKUP(F7,Schicht_Tabelle,13,0),0)=1,CA7+1,0)) -> 0 | CC7: =IF(G$4="",CB7,IF(IFERROR(VLOOKUP(G7,Schicht_Tabelle,13,0),0)=1,CB7+1,0)) -> 0 | CD7: =IF(H$4="",CC7,IF(IFERROR(VLOOKUP(H7,Schicht_Tabelle,13,0),0)=1,CC7+1,0)) -> 0 | CE7: =IF(I$4="",CD7,IF(IFERROR(VLOOKUP(I7,Schicht_Tabelle,13,0),0)=1,CD7+1,0)) -> 0 | CF7: =IF(J$4="",CE7,IF(IFERROR(VLOOKUP(J7,Schicht_Tabelle,13,0),0)=1,CE7+1,0)) -> 0 | ... DB7: =IF(AF$4="",DA7,IF(IFERROR(VLOOKUP(AF7,Schicht_Tabelle,13,0),0)=1,DA7+1,0)) -> 0 | DC7: =IF(B$4="",0,N(ROUND(24+IFERROR(VLOOKUP(B7,Schicht_Tabelle,16,0),99)-Jan!BW7,2)<Min_Ruhe)) -> 0 | DD7: =IF(C$4="",0,N(ROUND(24+IFERROR(VLOOKUP(C7,Schicht_Tabelle,16,0),99)-AS7,2)<Min_Ruhe)) -> 0 | DE7: =IF(D$4="",0,N(ROUND(24+IFERROR(VLOOKUP(D7,Schicht_Tabelle,16,0),99)-AT7,2)<Min_Ruhe)) -> 0 | DF7: =IF(E$4="",0,N(ROUND(24+IFERROR(VLOOKUP(E7,Schicht_Tabelle,16,0),99)-AU7,2)<Min_Ruhe)) -> 0 | DG7: =IF(F$4="",0,N(ROUND(24+IFERROR(VLOOKUP(F7,Schicht_Tabelle,16,0),99)-AV7,2)<Min_Ruhe)) -> 0 | DH7: =IF(G$4="",0,N(ROUND(24+IFERROR(VLOOKUP(G7,Schicht_Tabelle,16,0),99)-AW7,2)<Min_Ruhe)) -> 0 | DI7: =IF(H$4="",0,N(ROUND(24+IFERROR(VLOOKUP(H7,Schicht_Tabelle,16,0),99)-AX7,2)<Min_Ruhe)) -> 0 | DJ7: =IF(I$4="",0,N(ROUND(24+IFERROR(VLOOKUP(I7,Schicht_Tabelle,16,0),99)-AY7,2)<Min_Ruhe)) -> 0 | DK7: =IF(J$4="",0,N(ROUND(24+IFERROR(VLOOKUP(J7,Schicht_Tabelle,16,0),99)-AZ7,2)<Min_Ruhe)) -> 0 | ... EG7: =IF(AF$4="",0,N(ROUND(24+IFERROR(VLOOKUP(AF7,Schicht_Tabelle,16,0),99)-BV7,2)<Min_Ruhe)) -> 0
A8: =IF(Mitarbeitende!A8="","",Mitarbeitende!A8) | AH8: =IF(OR($A8="",N(Mitarbeitende!$C8)=0),"",IF(Soll_Modus="Kalendertagen",Mitarbeitende!$C8/7*COUNT($B$4:$AF$4),Mitarbeitende!$C8/5*SUM($B$43:$AF$43))) | AI8: =IF($A8="","",SUMPRODUCT(COUNTIF($B8:$AF8,Kuerzel_Liste)*Std_Liste)+SUMPRODUCT(COUNTIF($B8:$AF8,Kuerzel_Liste)*Bezahlt_Liste)*N(Mitarbeitende!$D8)) | AJ8: =IF(OR($A8="",AH8="",COUNTA($B8:$AF8)=0),"",AI8-AH8) | AK8: =IF(OR($A8="",AK$5=""),"",COUNTIF($B8:$AF8,AK$5)) | AL8: =IF(OR($A8="",AL$5=""),"",COUNTIF($B8:$AF8,AL$5)) | AM8: =IF(OR($A8="",AM$5=""),"",COUNTIF($B8:$AF8,AM$5)) | AN8: =IF(OR($A8="",AN$5=""),"",COUNTIF($B8:$AF8,AN$5)) | AO8: =IF(OR($A8="",AO$5=""),"",COUNTIF($B8:$AF8,AO$5)) | AP8: =IF($A8="","",SUMPRODUCT($B$42:$AF$42*(COUNTIF(Arbeit_Liste,$B8:$AF8)>0))) | AQ8: =IF($A8="","",IF(SUM(DC8:EG8)>0,SUM(DC8:EG8)&"x Ruhezeit","")&IF(AND(SUM(DC8:EG8)>0,MAX(BX8:DB8)>Max_Folge),", ","")&IF(MAX(BX8:DB8)>Max_Folge,MAX(BX8:DB8)&" Tage am Stück","")) | AR8: =IF(COUNTA($B8:$AF8)>0,N(AH8),0) -> 0 | AS8: =IF(B$4="",Jan!BW8,IFERROR(VLOOKUP(B8,Schicht_Tabelle,12,0),-999)) -> -999 | AT8: =IF(C$4="",AS8,IFERROR(VLOOKUP(C8,Schicht_Tabelle,12,0),-999)) -> -999 | AU8: =IF(D$4="",AT8,IFERROR(VLOOKUP(D8,Schicht_Tabelle,12,0),-999)) -> -999 | AV8: =IF(E$4="",AU8,IFERROR(VLOOKUP(E8,Schicht_Tabelle,12,0),-999)) -> -999 | AW8: =IF(F$4="",AV8,IFERROR(VLOOKUP(F8,Schicht_Tabelle,12,0),-999)) -> -999 | AX8: =IF(G$4="",AW8,IFERROR(VLOOKUP(G8,Schicht_Tabelle,12,0),-999)) -> -999 | AY8: =IF(H$4="",AX8,IFERROR(VLOOKUP(H8,Schicht_Tabelle,12,0),-999)) -> -999 | AZ8: =IF(I$4="",AY8,IFERROR(VLOOKUP(I8,Schicht_Tabelle,12,0),-999)) -> -999 | BA8: =IF(J$4="",AZ8,IFERROR(VLOOKUP(J8,Schicht_Tabelle,12,0),-999)) -> -999 | ... BW8: =IF(AF$4="",BV8,IFERROR(VLOOKUP(AF8,Schicht_Tabelle,12,0),-999)) -> -999 | BX8: =IF(B$4="",Jan!DB8,IF(IFERROR(VLOOKUP(B8,Schicht_Tabelle,13,0),0)=1,Jan!DB8+1,0)) -> 0 | BY8: =IF(C$4="",BX8,IF(IFERROR(VLOOKUP(C8,Schicht_Tabelle,13,0),0)=1,BX8+1,0)) -> 0 | BZ8: =IF(D$4="",BY8,IF(IFERROR(VLOOKUP(D8,Schicht_Tabelle,13,0),0)=1,BY8+1,0)) -> 0 | CA8: =IF(E$4="",BZ8,IF(IFERROR(VLOOKUP(E8,Schicht_Tabelle,13,0),0)=1,BZ8+1,0)) -> 0 | CB8: =IF(F$4="",CA8,IF(IFERROR(VLOOKUP(F8,Schicht_Tabelle,13,0),0)=1,CA8+1,0)) -> 0 | CC8: =IF(G$4="",CB8,IF(IFERROR(VLOOKUP(G8,Schicht_Tabelle,13,0),0)=1,CB8+1,0)) -> 0 | CD8: =IF(H$4="",CC8,IF(IFERROR(VLOOKUP(H8,Schicht_Tabelle,13,0),0)=1,CC8+1,0)) -> 0 | CE8: =IF(I$4="",CD8,IF(IFERROR(VLOOKUP(I8,Schicht_Tabelle,13,0),0)=1,CD8+1,0)) -> 0 | CF8: =IF(J$4="",CE8,IF(IFERROR(VLOOKUP(J8,Schicht_Tabelle,13,0),0)=1,CE8+1,0)) -> 0 | ... DB8: =IF(AF$4="",DA8,IF(IFERROR(VLOOKUP(AF8,Schicht_Tabelle,13,0),0)=1,DA8+1,0)) -> 0 | DC8: =IF(B$4="",0,N(ROUND(24+IFERROR(VLOOKUP(B8,Schicht_Tabelle,16,0),99)-Jan!BW8,2)<Min_Ruhe)) -> 0 | DD8: =IF(C$4="",0,N(ROUND(24+IFERROR(VLOOKUP(C8,Schicht_Tabelle,16,0),99)-AS8,2)<Min_Ruhe)) -> 0 | DE8: =IF(D$4="",0,N(ROUND(24+IFERROR(VLOOKUP(D8,Schicht_Tabelle,16,0),99)-AT8,2)<Min_Ruhe)) -> 0 | DF8: =IF(E$4="",0,N(ROUND(24+IFERROR(VLOOKUP(E8,Schicht_Tabelle,16,0),99)-AU8,2)<Min_Ruhe)) -> 0 | DG8: =IF(F$4="",0,N(ROUND(24+IFERROR(VLOOKUP(F8,Schicht_Tabelle,16,0),99)-AV8,2)<Min_Ruhe)) -> 0 | DH8: =IF(G$4="",0,N(ROUND(24+IFERROR(VLOOKUP(G8,Schicht_Tabelle,16,0),99)-AW8,2)<Min_Ruhe)) -> 0 | DI8: =IF(H$4="",0,N(ROUND(24+IFERROR(VLOOKUP(H8,Schicht_Tabelle,16,0),99)-AX8,2)<Min_Ruhe)) -> 0 | DJ8: =IF(I$4="",0,N(ROUND(24+IFERROR(VLOOKUP(I8,Schicht_Tabelle,16,0),99)-AY8,2)<Min_Ruhe)) -> 0 | DK8: =IF(J$4="",0,N(ROUND(24+IFERROR(VLOOKUP(J8,Schicht_Tabelle,16,0),99)-AZ8,2)<Min_Ruhe)) -> 0 | ... EG8: =IF(AF$4="",0,N(ROUND(24+IFERROR(VLOOKUP(AF8,Schicht_Tabelle,16,0),99)-BV8,2)<Min_Ruhe)) -> 0
A9: =IF(Mitarbeitende!A9="","",Mitarbeitende!A9) | AH9: =IF(OR($A9="",N(Mitarbeitende!$C9)=0),"",IF(Soll_Modus="Kalendertagen",Mitarbeitende!$C9/7*COUNT($B$4:$AF$4),Mitarbeitende!$C9/5*SUM($B$43:$AF$43))) | AI9: =IF($A9="","",SUMPRODUCT(COUNTIF($B9:$AF9,Kuerzel_Liste)*Std_Liste)+SUMPRODUCT(COUNTIF($B9:$AF9,Kuerzel_Liste)*Bezahlt_Liste)*N(Mitarbeitende!$D9)) | AJ9: =IF(OR($A9="",AH9="",COUNTA($B9:$AF9)=0),"",AI9-AH9) | AK9: =IF(OR($A9="",AK$5=""),"",COUNTIF($B9:$AF9,AK$5)) | AL9: =IF(OR($A9="",AL$5=""),"",COUNTIF($B9:$AF9,AL$5)) | AM9: =IF(OR($A9="",AM$5=""),"",COUNTIF($B9:$AF9,AM$5)) | AN9: =IF(OR($A9="",AN$5=""),"",COUNTIF($B9:$AF9,AN$5)) | AO9: =IF(OR($A9="",AO$5=""),"",COUNTIF($B9:$AF9,AO$5)) | AP9: =IF($A9="","",SUMPRODUCT($B$42:$AF$42*(COUNTIF(Arbeit_Liste,$B9:$AF9)>0))) | AQ9: =IF($A9="","",IF(SUM(DC9:EG9)>0,SUM(DC9:EG9)&"x Ruhezeit","")&IF(AND(SUM(DC9:EG9)>0,MAX(BX9:DB9)>Max_Folge),", ","")&IF(MAX(BX9:DB9)>Max_Folge,MAX(BX9:DB9)&" Tage am Stück","")) | AR9: =IF(COUNTA($B9:$AF9)>0,N(AH9),0) -> 0 | AS9: =IF(B$4="",Jan!BW9,IFERROR(VLOOKUP(B9,Schicht_Tabelle,12,0),-999)) -> -999 | AT9: =IF(C$4="",AS9,IFERROR(VLOOKUP(C9,Schicht_Tabelle,12,0),-999)) -> -999 | AU9: =IF(D$4="",AT9,IFERROR(VLOOKUP(D9,Schicht_Tabelle,12,0),-999)) -> -999 | AV9: =IF(E$4="",AU9,IFERROR(VLOOKUP(E9,Schicht_Tabelle,12,0),-999)) -> -999 | AW9: =IF(F$4="",AV9,IFERROR(VLOOKUP(F9,Schicht_Tabelle,12,0),-999)) -> -999 | AX9: =IF(G$4="",AW9,IFERROR(VLOOKUP(G9,Schicht_Tabelle,12,0),-999)) -> -999 | AY9: =IF(H$4="",AX9,IFERROR(VLOOKUP(H9,Schicht_Tabelle,12,0),-999)) -> -999 | AZ9: =IF(I$4="",AY9,IFERROR(VLOOKUP(I9,Schicht_Tabelle,12,0),-999)) -> -999 | BA9: =IF(J$4="",AZ9,IFERROR(VLOOKUP(J9,Schicht_Tabelle,12,0),-999)) -> -999 | ... BW9: =IF(AF$4="",BV9,IFERROR(VLOOKUP(AF9,Schicht_Tabelle,12,0),-999)) -> -999 | BX9: =IF(B$4="",Jan!DB9,IF(IFERROR(VLOOKUP(B9,Schicht_Tabelle,13,0),0)=1,Jan!DB9+1,0)) -> 0 | BY9: =IF(C$4="",BX9,IF(IFERROR(VLOOKUP(C9,Schicht_Tabelle,13,0),0)=1,BX9+1,0)) -> 0 | BZ9: =IF(D$4="",BY9,IF(IFERROR(VLOOKUP(D9,Schicht_Tabelle,13,0),0)=1,BY9+1,0)) -> 0 | CA9: =IF(E$4="",BZ9,IF(IFERROR(VLOOKUP(E9,Schicht_Tabelle,13,0),0)=1,BZ9+1,0)) -> 0 | CB9: =IF(F$4="",CA9,IF(IFERROR(VLOOKUP(F9,Schicht_Tabelle,13,0),0)=1,CA9+1,0)) -> 0 | CC9: =IF(G$4="",CB9,IF(IFERROR(VLOOKUP(G9,Schicht_Tabelle,13,0),0)=1,CB9+1,0)) -> 0 | CD9: =IF(H$4="",CC9,IF(IFERROR(VLOOKUP(H9,Schicht_Tabelle,13,0),0)=1,CC9+1,0)) -> 0 | CE9: =IF(I$4="",CD9,IF(IFERROR(VLOOKUP(I9,Schicht_Tabelle,13,0),0)=1,CD9+1,0)) -> 0 | CF9: =IF(J$4="",CE9,IF(IFERROR(VLOOKUP(J9,Schicht_Tabelle,13,0),0)=1,CE9+1,0)) -> 0 | ... DB9: =IF(AF$4="",DA9,IF(IFERROR(VLOOKUP(AF9,Schicht_Tabelle,13,0),0)=1,DA9+1,0)) -> 0 | DC9: =IF(B$4="",0,N(ROUND(24+IFERROR(VLOOKUP(B9,Schicht_Tabelle,16,0),99)-Jan!BW9,2)<Min_Ruhe)) -> 0 | DD9: =IF(C$4="",0,N(ROUND(24+IFERROR(VLOOKUP(C9,Schicht_Tabelle,16,0),99)-AS9,2)<Min_Ruhe)) -> 0 | DE9: =IF(D$4="",0,N(ROUND(24+IFERROR(VLOOKUP(D9,Schicht_Tabelle,16,0),99)-AT9,2)<Min_Ruhe)) -> 0 | DF9: =IF(E$4="",0,N(ROUND(24+IFERROR(VLOOKUP(E9,Schicht_Tabelle,16,0),99)-AU9,2)<Min_Ruhe)) -> 0 | DG9: =IF(F$4="",0,N(ROUND(24+IFERROR(VLOOKUP(F9,Schicht_Tabelle,16,0),99)-AV9,2)<Min_Ruhe)) -> 0 | DH9: =IF(G$4="",0,N(ROUND(24+IFERROR(VLOOKUP(G9,Schicht_Tabelle,16,0),99)-AW9,2)<Min_Ruhe)) -> 0 | DI9: =IF(H$4="",0,N(ROUND(24+IFERROR(VLOOKUP(H9,Schicht_Tabelle,16,0),99)-AX9,2)<Min_Ruhe)) -> 0 | DJ9: =IF(I$4="",0,N(ROUND(24+IFERROR(VLOOKUP(I9,Schicht_Tabelle,16,0),99)-AY9,2)<Min_Ruhe)) -> 0 | DK9: =IF(J$4="",0,N(ROUND(24+IFERROR(VLOOKUP(J9,Schicht_Tabelle,16,0),99)-AZ9,2)<Min_Ruhe)) -> 0 | ... EG9: =IF(AF$4="",0,N(ROUND(24+IFERROR(VLOOKUP(AF9,Schicht_Tabelle,16,0),99)-BV9,2)<Min_Ruhe)) -> 0
A10: =IF(Mitarbeitende!A10="","",Mitarbeitende!A10) | AH10: =IF(OR($A10="",N(Mitarbeitende!$C10)=0),"",IF(Soll_Modus="Kalendertagen",Mitarbeitende!$C10/7*COUNT($B$4:$AF$4),Mitarbeitende!$C10/5*SUM($B$43:$AF$43))) | AI10: =IF($A10="","",SUMPRODUCT(COUNTIF($B10:$AF10,Kuerzel_Liste)*Std_Liste)+SUMPRODUCT(COUNTIF($B10:$AF10,Kuerzel_Liste)*Bezahlt_Liste)*N(Mitarbeitende!$D10)) | AJ10: =IF(OR($A10="",AH10="",COUNTA($B10:$AF10)=0),"",AI10-AH10) | AK10: =IF(OR($A10="",AK$5=""),"",COUNTIF($B10:$AF10,AK$5)) | AL10: =IF(OR($A10="",AL$5=""),"",COUNTIF($B10:$AF10,AL$5)) | AM10: =IF(OR($A10="",AM$5=""),"",COUNTIF($B10:$AF10,AM$5)) | AN10: =IF(OR($A10="",AN$5=""),"",COUNTIF($B10:$AF10,AN$5)) | AO10: =IF(OR($A10="",AO$5=""),"",COUNTIF($B10:$AF10,AO$5)) | AP10: =IF($A10="","",SUMPRODUCT($B$42:$AF$42*(COUNTIF(Arbeit_Liste,$B10:$AF10)>0))) | AQ10: =IF($A10="","",IF(SUM(DC10:EG10)>0,SUM(DC10:EG10)&"x Ruhezeit","")&IF(AND(SUM(DC10:EG10)>0,MAX(BX10:DB10)>Max_Folge),", ","")&IF(MAX(BX10:DB10)>Max_Folge,MAX(BX10:DB10)&" Tage am Stück","")) | AR10: =IF(COUNTA($B10:$AF10)>0,N(AH10),0) -> 0 | AS10: =IF(B$4="",Jan!BW10,IFERROR(VLOOKUP(B10,Schicht_Tabelle,12,0),-999)) -> -999 | AT10: =IF(C$4="",AS10,IFERROR(VLOOKUP(C10,Schicht_Tabelle,12,0),-999)) -> -999 | AU10: =IF(D$4="",AT10,IFERROR(VLOOKUP(D10,Schicht_Tabelle,12,0),-999)) -> -999 | AV10: =IF(E$4="",AU10,IFERROR(VLOOKUP(E10,Schicht_Tabelle,12,0),-999)) -> -999 | AW10: =IF(F$4="",AV10,IFERROR(VLOOKUP(F10,Schicht_Tabelle,12,0),-999)) -> -999 | AX10: =IF(G$4="",AW10,IFERROR(VLOOKUP(G10,Schicht_Tabelle,12,0),-999)) -> -999 | AY10: =IF(H$4="",AX10,IFERROR(VLOOKUP(H10,Schicht_Tabelle,12,0),-999)) -> -999 | AZ10: =IF(I$4="",AY10,IFERROR(VLOOKUP(I10,Schicht_Tabelle,12,0),-999)) -> -999 | BA10: =IF(J$4="",AZ10,IFERROR(VLOOKUP(J10,Schicht_Tabelle,12,0),-999)) -> -999 | ... BW10: =IF(AF$4="",BV10,IFERROR(VLOOKUP(AF10,Schicht_Tabelle,12,0),-999)) -> -999 | BX10: =IF(B$4="",Jan!DB10,IF(IFERROR(VLOOKUP(B10,Schicht_Tabelle,13,0),0)=1,Jan!DB10+1,0)) -> 0 | BY10: =IF(C$4="",BX10,IF(IFERROR(VLOOKUP(C10,Schicht_Tabelle,13,0),0)=1,BX10+1,0)) -> 0 | BZ10: =IF(D$4="",BY10,IF(IFERROR(VLOOKUP(D10,Schicht_Tabelle,13,0),0)=1,BY10+1,0)) -> 0 | CA10: =IF(E$4="",BZ10,IF(IFERROR(VLOOKUP(E10,Schicht_Tabelle,13,0),0)=1,BZ10+1,0)) -> 0 | CB10: =IF(F$4="",CA10,IF(IFERROR(VLOOKUP(F10,Schicht_Tabelle,13,0),0)=1,CA10+1,0)) -> 0 | CC10: =IF(G$4="",CB10,IF(IFERROR(VLOOKUP(G10,Schicht_Tabelle,13,0),0)=1,CB10+1,0)) -> 0 | CD10: =IF(H$4="",CC10,IF(IFERROR(VLOOKUP(H10,Schicht_Tabelle,13,0),0)=1,CC10+1,0)) -> 0 | CE10: =IF(I$4="",CD10,IF(IFERROR(VLOOKUP(I10,Schicht_Tabelle,13,0),0)=1,CD10+1,0)) -> 0 | CF10: =IF(J$4="",CE10,IF(IFERROR(VLOOKUP(J10,Schicht_Tabelle,13,0),0)=1,CE10+1,0)) -> 0 | ... DB10: =IF(AF$4="",DA10,IF(IFERROR(VLOOKUP(AF10,Schicht_Tabelle,13,0),0)=1,DA10+1,0)) -> 0 | DC10: =IF(B$4="",0,N(ROUND(24+IFERROR(VLOOKUP(B10,Schicht_Tabelle,16,0),99)-Jan!BW10,2)<Min_Ruhe)) -> 0 | DD10: =IF(C$4="",0,N(ROUND(24+IFERROR(VLOOKUP(C10,Schicht_Tabelle,16,0),99)-AS10,2)<Min_Ruhe)) -> 0 | DE10: =IF(D$4="",0,N(ROUND(24+IFERROR(VLOOKUP(D10,Schicht_Tabelle,16,0),99)-AT10,2)<Min_Ruhe)) -> 0 | DF10: =IF(E$4="",0,N(ROUND(24+IFERROR(VLOOKUP(E10,Schicht_Tabelle,16,0),99)-AU10,2)<Min_Ruhe)) -> 0 | DG10: =IF(F$4="",0,N(ROUND(24+IFERROR(VLOOKUP(F10,Schicht_Tabelle,16,0),99)-AV10,2)<Min_Ruhe)) -> 0 | DH10: =IF(G$4="",0,N(ROUND(24+IFERROR(VLOOKUP(G10,Schicht_Tabelle,16,0),99)-AW10,2)<Min_Ruhe)) -> 0 | DI10: =IF(H$4="",0,N(ROUND(24+IFERROR(VLOOKUP(H10,Schicht_Tabelle,16,0),99)-AX10,2)<Min_Ruhe)) -> 0 | DJ10: =IF(I$4="",0,N(ROUND(24+IFERROR(VLOOKUP(I10,Schicht_Tabelle,16,0),99)-AY10,2)<Min_Ruhe)) -> 0 | DK10: =IF(J$4="",0,N(ROUND(24+IFERROR(VLOOKUP(J10,Schicht_Tabelle,16,0),99)-AZ10,2)<Min_Ruhe)) -> 0 | ... EG10: =IF(AF$4="",0,N(ROUND(24+IFERROR(VLOOKUP(AF10,Schicht_Tabelle,16,0),99)-BV10,2)<Min_Ruhe)) -> 0
A11: =IF(Mitarbeitende!A11="","",Mitarbeitende!A11) | AH11: =IF(OR($A11="",N(Mitarbeitende!$C11)=0),"",IF(Soll_Modus="Kalendertagen",Mitarbeitende!$C11/7*COUNT($B$4:$AF$4),Mitarbeitende!$C11/5*SUM($B$43:$AF$43))) | AI11: =IF($A11="","",SUMPRODUCT(COUNTIF($B11:$AF11,Kuerzel_Liste)*Std_Liste)+SUMPRODUCT(COUNTIF($B11:$AF11,Kuerzel_Liste)*Bezahlt_Liste)*N(Mitarbeitende!$D11)) | AJ11: =IF(OR($A11="",AH11="",COUNTA($B11:$AF11)=0),"",AI11-AH11) | AK11: =IF(OR($A11="",AK$5=""),"",COUNTIF($B11:$AF11,AK$5)) | AL11: =IF(OR($A11="",AL$5=""),"",COUNTIF($B11:$AF11,AL$5)) | AM11: =IF(OR($A11="",AM$5=""),"",COUNTIF($B11:$AF11,AM$5)) | AN11: =IF(OR($A11="",AN$5=""),"",COUNTIF($B11:$AF11,AN$5)) | AO11: =IF(OR($A11="",AO$5=""),"",COUNTIF($B11:$AF11,AO$5)) | AP11: =IF($A11="","",SUMPRODUCT($B$42:$AF$42*(COUNTIF(Arbeit_Liste,$B11:$AF11)>0))) | AQ11: =IF($A11="","",IF(SUM(DC11:EG11)>0,SUM(DC11:EG11)&"x Ruhezeit","")&IF(AND(SUM(DC11:EG11)>0,MAX(BX11:DB11)>Max_Folge),", ","")&IF(MAX(BX11:DB11)>Max_Folge,MAX(BX11:DB11)&" Tage am Stück","")) | AR11: =IF(COUNTA($B11:$AF11)>0,N(AH11),0) -> 0 | AS11: =IF(B$4="",Jan!BW11,IFERROR(VLOOKUP(B11,Schicht_Tabelle,12,0),-999)) -> -999 | AT11: =IF(C$4="",AS11,IFERROR(VLOOKUP(C11,Schicht_Tabelle,12,0),-999)) -> -999 | AU11: =IF(D$4="",AT11,IFERROR(VLOOKUP(D11,Schicht_Tabelle,12,0),-999)) -> -999 | AV11: =IF(E$4="",AU11,IFERROR(VLOOKUP(E11,Schicht_Tabelle,12,0),-999)) -> -999 | AW11: =IF(F$4="",AV11,IFERROR(VLOOKUP(F11,Schicht_Tabelle,12,0),-999)) -> -999 | AX11: =IF(G$4="",AW11,IFERROR(VLOOKUP(G11,Schicht_Tabelle,12,0),-999)) -> -999 | AY11: =IF(H$4="",AX11,IFERROR(VLOOKUP(H11,Schicht_Tabelle,12,0),-999)) -> -999 | AZ11: =IF(I$4="",AY11,IFERROR(VLOOKUP(I11,Schicht_Tabelle,12,0),-999)) -> -999 | BA11: =IF(J$4="",AZ11,IFERROR(VLOOKUP(J11,Schicht_Tabelle,12,0),-999)) -> -999 | ... BW11: =IF(AF$4="",BV11,IFERROR(VLOOKUP(AF11,Schicht_Tabelle,12,0),-999)) -> -999 | BX11: =IF(B$4="",Jan!DB11,IF(IFERROR(VLOOKUP(B11,Schicht_Tabelle,13,0),0)=1,Jan!DB11+1,0)) -> 0 | BY11: =IF(C$4="",BX11,IF(IFERROR(VLOOKUP(C11,Schicht_Tabelle,13,0),0)=1,BX11+1,0)) -> 0 | BZ11: =IF(D$4="",BY11,IF(IFERROR(VLOOKUP(D11,Schicht_Tabelle,13,0),0)=1,BY11+1,0)) -> 0 | CA11: =IF(E$4="",BZ11,IF(IFERROR(VLOOKUP(E11,Schicht_Tabelle,13,0),0)=1,BZ11+1,0)) -> 0 | CB11: =IF(F$4="",CA11,IF(IFERROR(VLOOKUP(F11,Schicht_Tabelle,13,0),0)=1,CA11+1,0)) -> 0 | CC11: =IF(G$4="",CB11,IF(IFERROR(VLOOKUP(G11,Schicht_Tabelle,13,0),0)=1,CB11+1,0)) -> 0 | CD11: =IF(H$4="",CC11,IF(IFERROR(VLOOKUP(H11,Schicht_Tabelle,13,0),0)=1,CC11+1,0)) -> 0 | CE11: =IF(I$4="",CD11,IF(IFERROR(VLOOKUP(I11,Schicht_Tabelle,13,0),0)=1,CD11+1,0)) -> 0 | CF11: =IF(J$4="",CE11,IF(IFERROR(VLOOKUP(J11,Schicht_Tabelle,13,0),0)=1,CE11+1,0)) -> 0 | ... DB11: =IF(AF$4="",DA11,IF(IFERROR(VLOOKUP(AF11,Schicht_Tabelle,13,0),0)=1,DA11+1,0)) -> 0 | DC11: =IF(B$4="",0,N(ROUND(24+IFERROR(VLOOKUP(B11,Schicht_Tabelle,16,0),99)-Jan!BW11,2)<Min_Ruhe)) -> 0 | DD11: =IF(C$4="",0,N(ROUND(24+IFERROR(VLOOKUP(C11,Schicht_Tabelle,16,0),99)-AS11,2)<Min_Ruhe)) -> 0 | DE11: =IF(D$4="",0,N(ROUND(24+IFERROR(VLOOKUP(D11,Schicht_Tabelle,16,0),99)-AT11,2)<Min_Ruhe)) -> 0 | DF11: =IF(E$4="",0,N(ROUND(24+IFERROR(VLOOKUP(E11,Schicht_Tabelle,16,0),99)-AU11,2)<Min_Ruhe)) -> 0 | DG11: =IF(F$4="",0,N(ROUND(24+IFERROR(VLOOKUP(F11,Schicht_Tabelle,16,0),99)-AV11,2)<Min_Ruhe)) -> 0 | DH11: =IF(G$4="",0,N(ROUND(24+IFERROR(VLOOKUP(G11,Schicht_Tabelle,16,0),99)-AW11,2)<Min_Ruhe)) -> 0 | DI11: =IF(H$4="",0,N(ROUND(24+IFERROR(VLOOKUP(H11,Schicht_Tabelle,16,0),99)-AX11,2)<Min_Ruhe)) -> 0 | DJ11: =IF(I$4="",0,N(ROUND(24+IFERROR(VLOOKUP(I11,Schicht_Tabelle,16,0),99)-AY11,2)<Min_Ruhe)) -> 0 | DK11: =IF(J$4="",0,N(ROUND(24+IFERROR(VLOOKUP(J11,Schicht_Tabelle,16,0),99)-AZ11,2)<Min_Ruhe)) -> 0 | ... EG11: =IF(AF$4="",0,N(ROUND(24+IFERROR(VLOOKUP(AF11,Schicht_Tabelle,16,0),99)-BV11,2)<Min_Ruhe)) -> 0
A12: =IF(Mitarbeitende!A12="","",Mitarbeitende!A12) | AH12: =IF(OR($A12="",N(Mitarbeitende!$C12)=0),"",IF(Soll_Modus="Kalendertagen",Mitarbeitende!$C12/7*COUNT($B$4:$AF$4),Mitarbeitende!$C12/5*SUM($B$43:$AF$43))) | AI12: =IF($A12="","",SUMPRODUCT(COUNTIF($B12:$AF12,Kuerzel_Liste)*Std_Liste)+SUMPRODUCT(COUNTIF($B12:$AF12,Kuerzel_Liste)*Bezahlt_Liste)*N(Mitarbeitende!$D12)) | AJ12: =IF(OR($A12="",AH12="",COUNTA($B12:$AF12)=0),"",AI12-AH12) | AK12: =IF(OR($A12="",AK$5=""),"",COUNTIF($B12:$AF12,AK$5)) | AL12: =IF(OR($A12="",AL$5=""),"",COUNTIF($B12:$AF12,AL$5)) | AM12: =IF(OR($A12="",AM$5=""),"",COUNTIF($B12:$AF12,AM$5)) | AN12: =IF(OR($A12="",AN$5=""),"",COUNTIF($B12:$AF12,AN$5)) | AO12: =IF(OR($A12="",AO$5=""),"",COUNTIF($B12:$AF12,AO$5)) | AP12: =IF($A12="","",SUMPRODUCT($B$42:$AF$42*(COUNTIF(Arbeit_Liste,$B12:$AF12)>0))) | AQ12: =IF($A12="","",IF(SUM(DC12:EG12)>0,SUM(DC12:EG12)&"x Ruhezeit","")&IF(AND(SUM(DC12:EG12)>0,MAX(BX12:DB12)>Max_Folge),", ","")&IF(MAX(BX12:DB12)>Max_Folge,MAX(BX12:DB12)&" Tage am Stück","")) | AR12: =IF(COUNTA($B12:$AF12)>0,N(AH12),0) -> 0 | AS12: =IF(B$4="",Jan!BW12,IFERROR(VLOOKUP(B12,Schicht_Tabelle,12,0),-999)) -> -999 | AT12: =IF(C$4="",AS12,IFERROR(VLOOKUP(C12,Schicht_Tabelle,12,0),-999)) -> -999 | AU12: =IF(D$4="",AT12,IFERROR(VLOOKUP(D12,Schicht_Tabelle,12,0),-999)) -> -999 | AV12: =IF(E$4="",AU12,IFERROR(VLOOKUP(E12,Schicht_Tabelle,12,0),-999)) -> -999 | AW12: =IF(F$4="",AV12,IFERROR(VLOOKUP(F12,Schicht_Tabelle,12,0),-999)) -> -999 | AX12: =IF(G$4="",AW12,IFERROR(VLOOKUP(G12,Schicht_Tabelle,12,0),-999)) -> -999 | AY12: =IF(H$4="",AX12,IFERROR(VLOOKUP(H12,Schicht_Tabelle,12,0),-999)) -> -999 | AZ12: =IF(I$4="",AY12,IFERROR(VLOOKUP(I12,Schicht_Tabelle,12,0),-999)) -> -999 | BA12: =IF(J$4="",AZ12,IFERROR(VLOOKUP(J12,Schicht_Tabelle,12,0),-999)) -> -999 | ... BW12: =IF(AF$4="",BV12,IFERROR(VLOOKUP(AF12,Schicht_Tabelle,12,0),-999)) -> -999 | BX12: =IF(B$4="",Jan!DB12,IF(IFERROR(VLOOKUP(B12,Schicht_Tabelle,13,0),0)=1,Jan!DB12+1,0)) -> 0 | BY12: =IF(C$4="",BX12,IF(IFERROR(VLOOKUP(C12,Schicht_Tabelle,13,0),0)=1,BX12+1,0)) -> 0 | BZ12: =IF(D$4="",BY12,IF(IFERROR(VLOOKUP(D12,Schicht_Tabelle,13,0),0)=1,BY12+1,0)) -> 0 | CA12: =IF(E$4="",BZ12,IF(IFERROR(VLOOKUP(E12,Schicht_Tabelle,13,0),0)=1,BZ12+1,0)) -> 0 | CB12: =IF(F$4="",CA12,IF(IFERROR(VLOOKUP(F12,Schicht_Tabelle,13,0),0)=1,CA12+1,0)) -> 0 | CC12: =IF(G$4="",CB12,IF(IFERROR(VLOOKUP(G12,Schicht_Tabelle,13,0),0)=1,CB12+1,0)) -> 0 | CD12: =IF(H$4="",CC12,IF(IFERROR(VLOOKUP(H12,Schicht_Tabelle,13,0),0)=1,CC12+1,0)) -> 0 | CE12: =IF(I$4="",CD12,IF(IFERROR(VLOOKUP(I12,Schicht_Tabelle,13,0),0)=1,CD12+1,0)) -> 0 | CF12: =IF(J$4="",CE12,IF(IFERROR(VLOOKUP(J12,Schicht_Tabelle,13,0),0)=1,CE12+1,0)) -> 0 | ... DB12: =IF(AF$4="",DA12,IF(IFERROR(VLOOKUP(AF12,Schicht_Tabelle,13,0),0)=1,DA12+1,0)) -> 0 | DC12: =IF(B$4="",0,N(ROUND(24+IFERROR(VLOOKUP(B12,Schicht_Tabelle,16,0),99)-Jan!BW12,2)<Min_Ruhe)) -> 0 | DD12: =IF(C$4="",0,N(ROUND(24+IFERROR(VLOOKUP(C12,Schicht_Tabelle,16,0),99)-AS12,2)<Min_Ruhe)) -> 0 | DE12: =IF(D$4="",0,N(ROUND(24+IFERROR(VLOOKUP(D12,Schicht_Tabelle,16,0),99)-AT12,2)<Min_Ruhe)) -> 0 | DF12: =IF(E$4="",0,N(ROUND(24+IFERROR(VLOOKUP(E12,Schicht_Tabelle,16,0),99)-AU12,2)<Min_Ruhe)) -> 0 | DG12: =IF(F$4="",0,N(ROUND(24+IFERROR(VLOOKUP(F12,Schicht_Tabelle,16,0),99)-AV12,2)<Min_Ruhe)) -> 0 | DH12: =IF(G$4="",0,N(ROUND(24+IFERROR(VLOOKUP(G12,Schicht_Tabelle,16,0),99)-AW12,2)<Min_Ruhe)) -> 0 | DI12: =IF(H$4="",0,N(ROUND(24+IFERROR(VLOOKUP(H12,Schicht_Tabelle,16,0),99)-AX12,2)<Min_Ruhe)) -> 0 | DJ12: =IF(I$4="",0,N(ROUND(24+IFERROR(VLOOKUP(I12,Schicht_Tabelle,16,0),99)-AY12,2)<Min_Ruhe)) -> 0 | DK12: =IF(J$4="",0,N(ROUND(24+IFERROR(VLOOKUP(J12,Schicht_Tabelle,16,0),99)-AZ12,2)<Min_Ruhe)) -> 0 | ... EG12: =IF(AF$4="",0,N(ROUND(24+IFERROR(VLOOKUP(AF12,Schicht_Tabelle,16,0),99)-BV12,2)<Min_Ruhe)) -> 0
A13: =IF(Mitarbeitende!A13="","",Mitarbeitende!A13) | AH13: =IF(OR($A13="",N(Mitarbeitende!$C13)=0),"",IF(Soll_Modus="Kalendertagen",Mitarbeitende!$C13/7*COUNT($B$4:$AF$4),Mitarbeitende!$C13/5*SUM($B$43:$AF$43))) | AI13: =IF($A13="","",SUMPRODUCT(COUNTIF($B13:$AF13,Kuerzel_Liste)*Std_Liste)+SUMPRODUCT(COUNTIF($B13:$AF13,Kuerzel_Liste)*Bezahlt_Liste)*N(Mitarbeitende!$D13)) | AJ13: =IF(OR($A13="",AH13="",COUNTA($B13:$AF13)=0),"",AI13-AH13) | AK13: =IF(OR($A13="",AK$5=""),"",COUNTIF($B13:$AF13,AK$5)) | AL13: =IF(OR($A13="",AL$5=""),"",COUNTIF($B13:$AF13,AL$5)) | AM13: =IF(OR($A13="",AM$5=""),"",COUNTIF($B13:$AF13,AM$5)) | AN13: =IF(OR($A13="",AN$5=""),"",COUNTIF($B13:$AF13,AN$5)) | AO13: =IF(OR($A13="",AO$5=""),"",COUNTIF($B13:$AF13,AO$5)) | AP13: =IF($A13="","",SUMPRODUCT($B$42:$AF$42*(COUNTIF(Arbeit_Liste,$B13:$AF13)>0))) | AQ13: =IF($A13="","",IF(SUM(DC13:EG13)>0,SUM(DC13:EG13)&"x Ruhezeit","")&IF(AND(SUM(DC13:EG13)>0,MAX(BX13:DB13)>Max_Folge),", ","")&IF(MAX(BX13:DB13)>Max_Folge,MAX(BX13:DB13)&" Tage am Stück","")) | AR13: =IF(COUNTA($B13:$AF13)>0,N(AH13),0) -> 0 | AS13: =IF(B$4="",Jan!BW13,IFERROR(VLOOKUP(B13,Schicht_Tabelle,12,0),-999)) -> -999 | AT13: =IF(C$4="",AS13,IFERROR(VLOOKUP(C13,Schicht_Tabelle,12,0),-999)) -> -999 | AU13: =IF(D$4="",AT13,IFERROR(VLOOKUP(D13,Schicht_Tabelle,12,0),-999)) -> -999 | AV13: =IF(E$4="",AU13,IFERROR(VLOOKUP(E13,Schicht_Tabelle,12,0),-999)) -> -999 | AW13: =IF(F$4="",AV13,IFERROR(VLOOKUP(F13,Schicht_Tabelle,12,0),-999)) -> -999 | AX13: =IF(G$4="",AW13,IFERROR(VLOOKUP(G13,Schicht_Tabelle,12,0),-999)) -> -999 | AY13: =IF(H$4="",AX13,IFERROR(VLOOKUP(H13,Schicht_Tabelle,12,0),-999)) -> -999 | AZ13: =IF(I$4="",AY13,IFERROR(VLOOKUP(I13,Schicht_Tabelle,12,0),-999)) -> -999 | BA13: =IF(J$4="",AZ13,IFERROR(VLOOKUP(J13,Schicht_Tabelle,12,0),-999)) -> -999 | ... BW13: =IF(AF$4="",BV13,IFERROR(VLOOKUP(AF13,Schicht_Tabelle,12,0),-999)) -> -999 | BX13: =IF(B$4="",Jan!DB13,IF(IFERROR(VLOOKUP(B13,Schicht_Tabelle,13,0),0)=1,Jan!DB13+1,0)) -> 0 | BY13: =IF(C$4="",BX13,IF(IFERROR(VLOOKUP(C13,Schicht_Tabelle,13,0),0)=1,BX13+1,0)) -> 0 | BZ13: =IF(D$4="",BY13,IF(IFERROR(VLOOKUP(D13,Schicht_Tabelle,13,0),0)=1,BY13+1,0)) -> 0 | CA13: =IF(E$4="",BZ13,IF(IFERROR(VLOOKUP(E13,Schicht_Tabelle,13,0),0)=1,BZ13+1,0)) -> 0 | CB13: =IF(F$4="",CA13,IF(IFERROR(VLOOKUP(F13,Schicht_Tabelle,13,0),0)=1,CA13+1,0)) -> 0 | CC13: =IF(G$4="",CB13,IF(IFERROR(VLOOKUP(G13,Schicht_Tabelle,13,0),0)=1,CB13+1,0)) -> 0 | CD13: =IF(H$4="",CC13,IF(IFERROR(VLOOKUP(H13,Schicht_Tabelle,13,0),0)=1,CC13+1,0)) -> 0 | CE13: =IF(I$4="",CD13,IF(IFERROR(VLOOKUP(I13,Schicht_Tabelle,13,0),0)=1,CD13+1,0)) -> 0 | CF13: =IF(J$4="",CE13,IF(IFERROR(VLOOKUP(J13,Schicht_Tabelle,13,0),0)=1,CE13+1,0)) -> 0 | ... DB13: =IF(AF$4="",DA13,IF(IFERROR(VLOOKUP(AF13,Schicht_Tabelle,13,0),0)=1,DA13+1,0)) -> 0 | DC13: =IF(B$4="",0,N(ROUND(24+IFERROR(VLOOKUP(B13,Schicht_Tabelle,16,0),99)-Jan!BW13,2)<Min_Ruhe)) -> 0 | DD13: =IF(C$4="",0,N(ROUND(24+IFERROR(VLOOKUP(C13,Schicht_Tabelle,16,0),99)-AS13,2)<Min_Ruhe)) -> 0 | DE13: =IF(D$4="",0,N(ROUND(24+IFERROR(VLOOKUP(D13,Schicht_Tabelle,16,0),99)-AT13,2)<Min_Ruhe)) -> 0 | DF13: =IF(E$4="",0,N(ROUND(24+IFERROR(VLOOKUP(E13,Schicht_Tabelle,16,0),99)-AU13,2)<Min_Ruhe)) -> 0 | DG13: =IF(F$4="",0,N(ROUND(24+IFERROR(VLOOKUP(F13,Schicht_Tabelle,16,0),99)-AV13,2)<Min_Ruhe)) -> 0 | DH13: =IF(G$4="",0,N(ROUND(24+IFERROR(VLOOKUP(G13,Schicht_Tabelle,16,0),99)-AW13,2)<Min_Ruhe)) -> 0 | DI13: =IF(H$4="",0,N(ROUND(24+IFERROR(VLOOKUP(H13,Schicht_Tabelle,16,0),99)-AX13,2)<Min_Ruhe)) -> 0 | DJ13: =IF(I$4="",0,N(ROUND(24+IFERROR(VLOOKUP(I13,Schicht_Tabelle,16,0),99)-AY13,2)<Min_Ruhe)) -> 0 | DK13: =IF(J$4="",0,N(ROUND(24+IFERROR(VLOOKUP(J13,Schicht_Tabelle,16,0),99)-AZ13,2)<Min_Ruhe)) -> 0 | ... EG13: =IF(AF$4="",0,N(ROUND(24+IFERROR(VLOOKUP(AF13,Schicht_Tabelle,16,0),99)-BV13,2)<Min_Ruhe)) -> 0
A14: =IF(Mitarbeitende!A14="","",Mitarbeitende!A14) | AH14: =IF(OR($A14="",N(Mitarbeitende!$C14)=0),"",IF(Soll_Modus="Kalendertagen",Mitarbeitende!$C14/7*COUNT($B$4:$AF$4),Mitarbeitende!$C14/5*SUM($B$43:$AF$43))) | AI14: =IF($A14="","",SUMPRODUCT(COUNTIF($B14:$AF14,Kuerzel_Liste)*Std_Liste)+SUMPRODUCT(COUNTIF($B14:$AF14,Kuerzel_Liste)*Bezahlt_Liste)*N(Mitarbeitende!$D14)) | AJ14: =IF(OR($A14="",AH14="",COUNTA($B14:$AF14)=0),"",AI14-AH14) | AK14: =IF(OR($A14="",AK$5=""),"",COUNTIF($B14:$AF14,AK$5)) | AL14: =IF(OR($A14="",AL$5=""),"",COUNTIF($B14:$AF14,AL$5)) | AM14: =IF(OR($A14="",AM$5=""),"",COUNTIF($B14:$AF14,AM$5)) | AN14: =IF(OR($A14="",AN$5=""),"",COUNTIF($B14:$AF14,AN$5)) | AO14: =IF(OR($A14="",AO$5=""),"",COUNTIF($B14:$AF14,AO$5)) | AP14: =IF($A14="","",SUMPRODUCT($B$42:$AF$42*(COUNTIF(Arbeit_Liste,$B14:$AF14)>0))) | AQ14: =IF($A14="","",IF(SUM(DC14:EG14)>0,SUM(DC14:EG14)&"x Ruhezeit","")&IF(AND(SUM(DC14:EG14)>0,MAX(BX14:DB14)>Max_Folge),", ","")&IF(MAX(BX14:DB14)>Max_Folge,MAX(BX14:DB14)&" Tage am Stück","")) | AR14: =IF(COUNTA($B14:$AF14)>0,N(AH14),0) -> 0 | AS14: =IF(B$4="",Jan!BW14,IFERROR(VLOOKUP(B14,Schicht_Tabelle,12,0),-999)) -> -999 | AT14: =IF(C$4="",AS14,IFERROR(VLOOKUP(C14,Schicht_Tabelle,12,0),-999)) -> -999 | AU14: =IF(D$4="",AT14,IFERROR(VLOOKUP(D14,Schicht_Tabelle,12,0),-999)) -> -999 | AV14: =IF(E$4="",AU14,IFERROR(VLOOKUP(E14,Schicht_Tabelle,12,0),-999)) -> -999 | AW14: =IF(F$4="",AV14,IFERROR(VLOOKUP(F14,Schicht_Tabelle,12,0),-999)) -> -999 | AX14: =IF(G$4="",AW14,IFERROR(VLOOKUP(G14,Schicht_Tabelle,12,0),-999)) -> -999 | AY14: =IF(H$4="",AX14,IFERROR(VLOOKUP(H14,Schicht_Tabelle,12,0),-999)) -> -999 | AZ14: =IF(I$4="",AY14,IFERROR(VLOOKUP(I14,Schicht_Tabelle,12,0),-999)) -> -999 | BA14: =IF(J$4="",AZ14,IFERROR(VLOOKUP(J14,Schicht_Tabelle,12,0),-999)) -> -999 | ... BW14: =IF(AF$4="",BV14,IFERROR(VLOOKUP(AF14,Schicht_Tabelle,12,0),-999)) -> -999 | BX14: =IF(B$4="",Jan!DB14,IF(IFERROR(VLOOKUP(B14,Schicht_Tabelle,13,0),0)=1,Jan!DB14+1,0)) -> 0 | BY14: =IF(C$4="",BX14,IF(IFERROR(VLOOKUP(C14,Schicht_Tabelle,13,0),0)=1,BX14+1,0)) -> 0 | BZ14: =IF(D$4="",BY14,IF(IFERROR(VLOOKUP(D14,Schicht_Tabelle,13,0),0)=1,BY14+1,0)) -> 0 | CA14: =IF(E$4="",BZ14,IF(IFERROR(VLOOKUP(E14,Schicht_Tabelle,13,0),0)=1,BZ14+1,0)) -> 0 | CB14: =IF(F$4="",CA14,IF(IFERROR(VLOOKUP(F14,Schicht_Tabelle,13,0),0)=1,CA14+1,0)) -> 0 | CC14: =IF(G$4="",CB14,IF(IFERROR(VLOOKUP(G14,Schicht_Tabelle,13,0),0)=1,CB14+1,0)) -> 0 | CD14: =IF(H$4="",CC14,IF(IFERROR(VLOOKUP(H14,Schicht_Tabelle,13,0),0)=1,CC14+1,0)) -> 0 | CE14: =IF(I$4="",CD14,IF(IFERROR(VLOOKUP(I14,Schicht_Tabelle,13,0),0)=1,CD14+1,0)) -> 0 | CF14: =IF(J$4="",CE14,IF(IFERROR(VLOOKUP(J14,Schicht_Tabelle,13,0),0)=1,CE14+1,0)) -> 0 | ... DB14: =IF(AF$4="",DA14,IF(IFERROR(VLOOKUP(AF14,Schicht_Tabelle,13,0),0)=1,DA14+1,0)) -> 0 | DC14: =IF(B$4="",0,N(ROUND(24+IFERROR(VLOOKUP(B14,Schicht_Tabelle,16,0),99)-Jan!BW14,2)<Min_Ruhe)) -> 0 | DD14: =IF(C$4="",0,N(ROUND(24+IFERROR(VLOOKUP(C14,Schicht_Tabelle,16,0),99)-AS14,2)<Min_Ruhe)) -> 0 | DE14: =IF(D$4="",0,N(ROUND(24+IFERROR(VLOOKUP(D14,Schicht_Tabelle,16,0),99)-AT14,2)<Min_Ruhe)) -> 0 | DF14: =IF(E$4="",0,N(ROUND(24+IFERROR(VLOOKUP(E14,Schicht_Tabelle,16,0),99)-AU14,2)<Min_Ruhe)) -> 0 | DG14: =IF(F$4="",0,N(ROUND(24+IFERROR(VLOOKUP(F14,Schicht_Tabelle,16,0),99)-AV14,2)<Min_Ruhe)) -> 0 | DH14: =IF(G$4="",0,N(ROUND(24+IFERROR(VLOOKUP(G14,Schicht_Tabelle,16,0),99)-AW14,2)<Min_Ruhe)) -> 0 | DI14: =IF(H$4="",0,N(ROUND(24+IFERROR(VLOOKUP(H14,Schicht_Tabelle,16,0),99)-AX14,2)<Min_Ruhe)) -> 0 | DJ14: =IF(I$4="",0,N(ROUND(24+IFERROR(VLOOKUP(I14,Schicht_Tabelle,16,0),99)-AY14,2)<Min_Ruhe)) -> 0 | DK14: =IF(J$4="",0,N(ROUND(24+IFERROR(VLOOKUP(J14,Schicht_Tabelle,16,0),99)-AZ14,2)<Min_Ruhe)) -> 0 | ... EG14: =IF(AF$4="",0,N(ROUND(24+IFERROR(VLOOKUP(AF14,Schicht_Tabelle,16,0),99)-BV14,2)<Min_Ruhe)) -> 0
A15: =IF(Mitarbeitende!A15="","",Mitarbeitende!A15) | AH15: =IF(OR($A15="",N(Mitarbeitende!$C15)=0),"",IF(Soll_Modus="Kalendertagen",Mitarbeitende!$C15/7*COUNT($B$4:$AF$4),Mitarbeitende!$C15/5*SUM($B$43:$AF$43))) | AI15: =IF($A15="","",SUMPRODUCT(COUNTIF($B15:$AF15,Kuerzel_Liste)*Std_Liste)+SUMPRODUCT(COUNTIF($B15:$AF15,Kuerzel_Liste)*Bezahlt_Liste)*N(Mitarbeitende!$D15)) | AJ15: =IF(OR($A15="",AH15="",COUNTA($B15:$AF15)=0),"",AI15-AH15) | AK15: =IF(OR($A15="",AK$5=""),"",COUNTIF($B15:$AF15,AK$5)) | AL15: =IF(OR($A15="",AL$5=""),"",COUNTIF($B15:$AF15,AL$5)) | AM15: =IF(OR($A15="",AM$5=""),"",COUNTIF($B15:$AF15,AM$5)) | AN15: =IF(OR($A15="",AN$5=""),"",COUNTIF($B15:$AF15,AN$5)) | AO15: =IF(OR($A15="",AO$5=""),"",COUNTIF($B15:$AF15,AO$5)) | AP15: =IF($A15="","",SUMPRODUCT($B$42:$AF$42*(COUNTIF(Arbeit_Liste,$B15:$AF15)>0))) | AQ15: =IF($A15="","",IF(SUM(DC15:EG15)>0,SUM(DC15:EG15)&"x Ruhezeit","")&IF(AND(SUM(DC15:EG15)>0,MAX(BX15:DB15)>Max_Folge),", ","")&IF(MAX(BX15:DB15)>Max_Folge,MAX(BX15:DB15)&" Tage am Stück","")) | AR15: =IF(COUNTA($B15:$AF15)>0,N(AH15),0) -> 0 | AS15: =IF(B$4="",Jan!BW15,IFERROR(VLOOKUP(B15,Schicht_Tabelle,12,0),-999)) -> -999 | AT15: =IF(C$4="",AS15,IFERROR(VLOOKUP(C15,Schicht_Tabelle,12,0),-999)) -> -999 | AU15: =IF(D$4="",AT15,IFERROR(VLOOKUP(D15,Schicht_Tabelle,12,0),-999)) -> -999 | AV15: =IF(E$4="",AU15,IFERROR(VLOOKUP(E15,Schicht_Tabelle,12,0),-999)) -> -999 | AW15: =IF(F$4="",AV15,IFERROR(VLOOKUP(F15,Schicht_Tabelle,12,0),-999)) -> -999 | AX15: =IF(G$4="",AW15,IFERROR(VLOOKUP(G15,Schicht_Tabelle,12,0),-999)) -> -999 | AY15: =IF(H$4="",AX15,IFERROR(VLOOKUP(H15,Schicht_Tabelle,12,0),-999)) -> -999 | AZ15: =IF(I$4="",AY15,IFERROR(VLOOKUP(I15,Schicht_Tabelle,12,0),-999)) -> -999 | BA15: =IF(J$4="",AZ15,IFERROR(VLOOKUP(J15,Schicht_Tabelle,12,0),-999)) -> -999 | ... BW15: =IF(AF$4="",BV15,IFERROR(VLOOKUP(AF15,Schicht_Tabelle,12,0),-999)) -> -999 | BX15: =IF(B$4="",Jan!DB15,IF(IFERROR(VLOOKUP(B15,Schicht_Tabelle,13,0),0)=1,Jan!DB15+1,0)) -> 0 | BY15: =IF(C$4="",BX15,IF(IFERROR(VLOOKUP(C15,Schicht_Tabelle,13,0),0)=1,BX15+1,0)) -> 0 | BZ15: =IF(D$4="",BY15,IF(IFERROR(VLOOKUP(D15,Schicht_Tabelle,13,0),0)=1,BY15+1,0)) -> 0 | CA15: =IF(E$4="",BZ15,IF(IFERROR(VLOOKUP(E15,Schicht_Tabelle,13,0),0)=1,BZ15+1,0)) -> 0 | CB15: =IF(F$4="",CA15,IF(IFERROR(VLOOKUP(F15,Schicht_Tabelle,13,0),0)=1,CA15+1,0)) -> 0 | CC15: =IF(G$4="",CB15,IF(IFERROR(VLOOKUP(G15,Schicht_Tabelle,13,0),0)=1,CB15+1,0)) -> 0 | CD15: =IF(H$4="",CC15,IF(IFERROR(VLOOKUP(H15,Schicht_Tabelle,13,0),0)=1,CC15+1,0)) -> 0 | CE15: =IF(I$4="",CD15,IF(IFERROR(VLOOKUP(I15,Schicht_Tabelle,13,0),0)=1,CD15+1,0)) -> 0 | CF15: =IF(J$4="",CE15,IF(IFERROR(VLOOKUP(J15,Schicht_Tabelle,13,0),0)=1,CE15+1,0)) -> 0 | ... DB15: =IF(AF$4="",DA15,IF(IFERROR(VLOOKUP(AF15,Schicht_Tabelle,13,0),0)=1,DA15+1,0)) -> 0 | DC15: =IF(B$4="",0,N(ROUND(24+IFERROR(VLOOKUP(B15,Schicht_Tabelle,16,0),99)-Jan!BW15,2)<Min_Ruhe)) -> 0 | DD15: =IF(C$4="",0,N(ROUND(24+IFERROR(VLOOKUP(C15,Schicht_Tabelle,16,0),99)-AS15,2)<Min_Ruhe)) -> 0 | DE15: =IF(D$4="",0,N(ROUND(24+IFERROR(VLOOKUP(D15,Schicht_Tabelle,16,0),99)-AT15,2)<Min_Ruhe)) -> 0 | DF15: =IF(E$4="",0,N(ROUND(24+IFERROR(VLOOKUP(E15,Schicht_Tabelle,16,0),99)-AU15,2)<Min_Ruhe)) -> 0 | DG15: =IF(F$4="",0,N(ROUND(24+IFERROR(VLOOKUP(F15,Schicht_Tabelle,16,0),99)-AV15,2)<Min_Ruhe)) -> 0 | DH15: =IF(G$4="",0,N(ROUND(24+IFERROR(VLOOKUP(G15,Schicht_Tabelle,16,0),99)-AW15,2)<Min_Ruhe)) -> 0 | DI15: =IF(H$4="",0,N(ROUND(24+IFERROR(VLOOKUP(H15,Schicht_Tabelle,16,0),99)-AX15,2)<Min_Ruhe)) -> 0 | DJ15: =IF(I$4="",0,N(ROUND(24+IFERROR(VLOOKUP(I15,Schicht_Tabelle,16,0),99)-AY15,2)<Min_Ruhe)) -> 0 | DK15: =IF(J$4="",0,N(ROUND(24+IFERROR(VLOOKUP(J15,Schicht_Tabelle,16,0),99)-AZ15,2)<Min_Ruhe)) -> 0 | ... EG15: =IF(AF$4="",0,N(ROUND(24+IFERROR(VLOOKUP(AF15,Schicht_Tabelle,16,0),99)-BV15,2)<Min_Ruhe)) -> 0
A16: =IF(Mitarbeitende!A16="","",Mitarbeitende!A16) | AH16: =IF(OR($A16="",N(Mitarbeitende!$C16)=0),"",IF(Soll_Modus="Kalendertagen",Mitarbeitende!$C16/7*COUNT($B$4:$AF$4),Mitarbeitende!$C16/5*SUM($B$43:$AF$43))) | AI16: =IF($A16="","",SUMPRODUCT(COUNTIF($B16:$AF16,Kuerzel_Liste)*Std_Liste)+SUMPRODUCT(COUNTIF($B16:$AF16,Kuerzel_Liste)*Bezahlt_Liste)*N(Mitarbeitende!$D16)) | AJ16: =IF(OR($A16="",AH16="",COUNTA($B16:$AF16)=0),"",AI16-AH16) | AK16: =IF(OR($A16="",AK$5=""),"",COUNTIF($B16:$AF16,AK$5)) | AL16: =IF(OR($A16="",AL$5=""),"",COUNTIF($B16:$AF16,AL$5)) | AM16: =IF(OR($A16="",AM$5=""),"",COUNTIF($B16:$AF16,AM$5)) | AN16: =IF(OR($A16="",AN$5=""),"",COUNTIF($B16:$AF16,AN$5)) | AO16: =IF(OR($A16="",AO$5=""),"",COUNTIF($B16:$AF16,AO$5)) | AP16: =IF($A16="","",SUMPRODUCT($B$42:$AF$42*(COUNTIF(Arbeit_Liste,$B16:$AF16)>0))) | AQ16: =IF($A16="","",IF(SUM(DC16:EG16)>0,SUM(DC16:EG16)&"x Ruhezeit","")&IF(AND(SUM(DC16:EG16)>0,MAX(BX16:DB16)>Max_Folge),", ","")&IF(MAX(BX16:DB16)>Max_Folge,MAX(BX16:DB16)&" Tage am Stück","")) | AR16: =IF(COUNTA($B16:$AF16)>0,N(AH16),0) -> 0 | AS16: =IF(B$4="",Jan!BW16,IFERROR(VLOOKUP(B16,Schicht_Tabelle,12,0),-999)) -> -999 | AT16: =IF(C$4="",AS16,IFERROR(VLOOKUP(C16,Schicht_Tabelle,12,0),-999)) -> -999 | AU16: =IF(D$4="",AT16,IFERROR(VLOOKUP(D16,Schicht_Tabelle,12,0),-999)) -> -999 | AV16: =IF(E$4="",AU16,IFERROR(VLOOKUP(E16,Schicht_Tabelle,12,0),-999)) -> -999 | AW16: =IF(F$4="",AV16,IFERROR(VLOOKUP(F16,Schicht_Tabelle,12,0),-999)) -> -999 | AX16: =IF(G$4="",AW16,IFERROR(VLOOKUP(G16,Schicht_Tabelle,12,0),-999)) -> -999 | AY16: =IF(H$4="",AX16,IFERROR(VLOOKUP(H16,Schicht_Tabelle,12,0),-999)) -> -999 | AZ16: =IF(I$4="",AY16,IFERROR(VLOOKUP(I16,Schicht_Tabelle,12,0),-999)) -> -999 | BA16: =IF(J$4="",AZ16,IFERROR(VLOOKUP(J16,Schicht_Tabelle,12,0),-999)) -> -999 | ... BW16: =IF(AF$4="",BV16,IFERROR(VLOOKUP(AF16,Schicht_Tabelle,12,0),-999)) -> -999 | BX16: =IF(B$4="",Jan!DB16,IF(IFERROR(VLOOKUP(B16,Schicht_Tabelle,13,0),0)=1,Jan!DB16+1,0)) -> 0 | BY16: =IF(C$4="",BX16,IF(IFERROR(VLOOKUP(C16,Schicht_Tabelle,13,0),0)=1,BX16+1,0)) -> 0 | BZ16: =IF(D$4="",BY16,IF(IFERROR(VLOOKUP(D16,Schicht_Tabelle,13,0),0)=1,BY16+1,0)) -> 0 | CA16: =IF(E$4="",BZ16,IF(IFERROR(VLOOKUP(E16,Schicht_Tabelle,13,0),0)=1,BZ16+1,0)) -> 0 | CB16: =IF(F$4="",CA16,IF(IFERROR(VLOOKUP(F16,Schicht_Tabelle,13,0),0)=1,CA16+1,0)) -> 0 | CC16: =IF(G$4="",CB16,IF(IFERROR(VLOOKUP(G16,Schicht_Tabelle,13,0),0)=1,CB16+1,0)) -> 0 | CD16: =IF(H$4="",CC16,IF(IFERROR(VLOOKUP(H16,Schicht_Tabelle,13,0),0)=1,CC16+1,0)) -> 0 | CE16: =IF(I$4="",CD16,IF(IFERROR(VLOOKUP(I16,Schicht_Tabelle,13,0),0)=1,CD16+1,0)) -> 0 | CF16: =IF(J$4="",CE16,IF(IFERROR(VLOOKUP(J16,Schicht_Tabelle,13,0),0)=1,CE16+1,0)) -> 0 | ... DB16: =IF(AF$4="",DA16,IF(IFERROR(VLOOKUP(AF16,Schicht_Tabelle,13,0),0)=1,DA16+1,0)) -> 0 | DC16: =IF(B$4="",0,N(ROUND(24+IFERROR(VLOOKUP(B16,Schicht_Tabelle,16,0),99)-Jan!BW16,2)<Min_Ruhe)) -> 0 | DD16: =IF(C$4="",0,N(ROUND(24+IFERROR(VLOOKUP(C16,Schicht_Tabelle,16,0),99)-AS16,2)<Min_Ruhe)) -> 0 | DE16: =IF(D$4="",0,N(ROUND(24+IFERROR(VLOOKUP(D16,Schicht_Tabelle,16,0),99)-AT16,2)<Min_Ruhe)) -> 0 | DF16: =IF(E$4="",0,N(ROUND(24+IFERROR(VLOOKUP(E16,Schicht_Tabelle,16,0),99)-AU16,2)<Min_Ruhe)) -> 0 | DG16: =IF(F$4="",0,N(ROUND(24+IFERROR(VLOOKUP(F16,Schicht_Tabelle,16,0),99)-AV16,2)<Min_Ruhe)) -> 0 | DH16: =IF(G$4="",0,N(ROUND(24+IFERROR(VLOOKUP(G16,Schicht_Tabelle,16,0),99)-AW16,2)<Min_Ruhe)) -> 0 | DI16: =IF(H$4="",0,N(ROUND(24+IFERROR(VLOOKUP(H16,Schicht_Tabelle,16,0),99)-AX16,2)<Min_Ruhe)) -> 0 | DJ16: =IF(I$4="",0,N(ROUND(24+IFERROR(VLOOKUP(I16,Schicht_Tabelle,16,0),99)-AY16,2)<Min_Ruhe)) -> 0 | DK16: =IF(J$4="",0,N(ROUND(24+IFERROR(VLOOKUP(J16,Schicht_Tabelle,16,0),99)-AZ16,2)<Min_Ruhe)) -> 0 | ... EG16: =IF(AF$4="",0,N(ROUND(24+IFERROR(VLOOKUP(AF16,Schicht_Tabelle,16,0),99)-BV16,2)<Min_Ruhe)) -> 0
A17: =IF(Mitarbeitende!A17="","",Mitarbeitende!A17) | AH17: =IF(OR($A17="",N(Mitarbeitende!$C17)=0),"",IF(Soll_Modus="Kalendertagen",Mitarbeitende!$C17/7*COUNT($B$4:$AF$4),Mitarbeitende!$C17/5*SUM($B$43:$AF$43))) | AI17: =IF($A17="","",SUMPRODUCT(COUNTIF($B17:$AF17,Kuerzel_Liste)*Std_Liste)+SUMPRODUCT(COUNTIF($B17:$AF17,Kuerzel_Liste)*Bezahlt_Liste)*N(Mitarbeitende!$D17)) | AJ17: =IF(OR($A17="",AH17="",COUNTA($B17:$AF17)=0),"",AI17-AH17) | AK17: =IF(OR($A17="",AK$5=""),"",COUNTIF($B17:$AF17,AK$5)) | AL17: =IF(OR($A17="",AL$5=""),"",COUNTIF($B17:$AF17,AL$5)) | AM17: =IF(OR($A17="",AM$5=""),"",COUNTIF($B17:$AF17,AM$5)) | AN17: =IF(OR($A17="",AN$5=""),"",COUNTIF($B17:$AF17,AN$5)) | AO17: =IF(OR($A17="",AO$5=""),"",COUNTIF($B17:$AF17,AO$5)) | AP17: =IF($A17="","",SUMPRODUCT($B$42:$AF$42*(COUNTIF(Arbeit_Liste,$B17:$AF17)>0))) | AQ17: =IF($A17="","",IF(SUM(DC17:EG17)>0,SUM(DC17:EG17)&"x Ruhezeit","")&IF(AND(SUM(DC17:EG17)>0,MAX(BX17:DB17)>Max_Folge),", ","")&IF(MAX(BX17:DB17)>Max_Folge,MAX(BX17:DB17)&" Tage am Stück","")) | AR17: =IF(COUNTA($B17:$AF17)>0,N(AH17),0) -> 0 | AS17: =IF(B$4="",Jan!BW17,IFERROR(VLOOKUP(B17,Schicht_Tabelle,12,0),-999)) -> -999 | AT17: =IF(C$4="",AS17,IFERROR(VLOOKUP(C17,Schicht_Tabelle,12,0),-999)) -> -999 | AU17: =IF(D$4="",AT17,IFERROR(VLOOKUP(D17,Schicht_Tabelle,12,0),-999)) -> -999 | AV17: =IF(E$4="",AU17,IFERROR(VLOOKUP(E17,Schicht_Tabelle,12,0),-999)) -> -999 | AW17: =IF(F$4="",AV17,IFERROR(VLOOKUP(F17,Schicht_Tabelle,12,0),-999)) -> -999 | AX17: =IF(G$4="",AW17,IFERROR(VLOOKUP(G17,Schicht_Tabelle,12,0),-999)) -> -999 | AY17: =IF(H$4="",AX17,IFERROR(VLOOKUP(H17,Schicht_Tabelle,12,0),-999)) -> -999 | AZ17: =IF(I$4="",AY17,IFERROR(VLOOKUP(I17,Schicht_Tabelle,12,0),-999)) -> -999 | BA17: =IF(J$4="",AZ17,IFERROR(VLOOKUP(J17,Schicht_Tabelle,12,0),-999)) -> -999 | ... BW17: =IF(AF$4="",BV17,IFERROR(VLOOKUP(AF17,Schicht_Tabelle,12,0),-999)) -> -999 | BX17: =IF(B$4="",Jan!DB17,IF(IFERROR(VLOOKUP(B17,Schicht_Tabelle,13,0),0)=1,Jan!DB17+1,0)) -> 0 | BY17: =IF(C$4="",BX17,IF(IFERROR(VLOOKUP(C17,Schicht_Tabelle,13,0),0)=1,BX17+1,0)) -> 0 | BZ17: =IF(D$4="",BY17,IF(IFERROR(VLOOKUP(D17,Schicht_Tabelle,13,0),0)=1,BY17+1,0)) -> 0 | CA17: =IF(E$4="",BZ17,IF(IFERROR(VLOOKUP(E17,Schicht_Tabelle,13,0),0)=1,BZ17+1,0)) -> 0 | CB17: =IF(F$4="",CA17,IF(IFERROR(VLOOKUP(F17,Schicht_Tabelle,13,0),0)=1,CA17+1,0)) -> 0 | CC17: =IF(G$4="",CB17,IF(IFERROR(VLOOKUP(G17,Schicht_Tabelle,13,0),0)=1,CB17+1,0)) -> 0 | CD17: =IF(H$4="",CC17,IF(IFERROR(VLOOKUP(H17,Schicht_Tabelle,13,0),0)=1,CC17+1,0)) -> 0 | CE17: =IF(I$4="",CD17,IF(IFERROR(VLOOKUP(I17,Schicht_Tabelle,13,0),0)=1,CD17+1,0)) -> 0 | CF17: =IF(J$4="",CE17,IF(IFERROR(VLOOKUP(J17,Schicht_Tabelle,13,0),0)=1,CE17+1,0)) -> 0 | ... DB17: =IF(AF$4="",DA17,IF(IFERROR(VLOOKUP(AF17,Schicht_Tabelle,13,0),0)=1,DA17+1,0)) -> 0 | DC17: =IF(B$4="",0,N(ROUND(24+IFERROR(VLOOKUP(B17,Schicht_Tabelle,16,0),99)-Jan!BW17,2)<Min_Ruhe)) -> 0 | DD17: =IF(C$4="",0,N(ROUND(24+IFERROR(VLOOKUP(C17,Schicht_Tabelle,16,0),99)-AS17,2)<Min_Ruhe)) -> 0 | DE17: =IF(D$4="",0,N(ROUND(24+IFERROR(VLOOKUP(D17,Schicht_Tabelle,16,0),99)-AT17,2)<Min_Ruhe)) -> 0 | DF17: =IF(E$4="",0,N(ROUND(24+IFERROR(VLOOKUP(E17,Schicht_Tabelle,16,0),99)-AU17,2)<Min_Ruhe)) -> 0 | DG17: =IF(F$4="",0,N(ROUND(24+IFERROR(VLOOKUP(F17,Schicht_Tabelle,16,0),99)-AV17,2)<Min_Ruhe)) -> 0 | DH17: =IF(G$4="",0,N(ROUND(24+IFERROR(VLOOKUP(G17,Schicht_Tabelle,16,0),99)-AW17,2)<Min_Ruhe)) -> 0 | DI17: =IF(H$4="",0,N(ROUND(24+IFERROR(VLOOKUP(H17,Schicht_Tabelle,16,0),99)-AX17,2)<Min_Ruhe)) -> 0 | DJ17: =IF(I$4="",0,N(ROUND(24+IFERROR(VLOOKUP(I17,Schicht_Tabelle,16,0),99)-AY17,2)<Min_Ruhe)) -> 0 | DK17: =IF(J$4="",0,N(ROUND(24+IFERROR(VLOOKUP(J17,Schicht_Tabelle,16,0),99)-AZ17,2)<Min_Ruhe)) -> 0 | ... EG17: =IF(AF$4="",0,N(ROUND(24+IFERROR(VLOOKUP(AF17,Schicht_Tabelle,16,0),99)-BV17,2)<Min_Ruhe)) -> 0
... A30: =IF(Mitarbeitende!A30="","",Mitarbeitende!A30) | AH30: =IF(OR($A30="",N(Mitarbeitende!$C30)=0),"",IF(Soll_Modus="Kalendertagen",Mitarbeitende!$C30/7*COUNT($B$4:$AF$4),Mitarbeitende!$C30/5*SUM($B$43:$AF$43))) | AI30: =IF($A30="","",SUMPRODUCT(COUNTIF($B30:$AF30,Kuerzel_Liste)*Std_Liste)+SUMPRODUCT(COUNTIF($B30:$AF30,Kuerzel_Liste)*Bezahlt_Liste)*N(Mitarbeitende!$D30)) | AJ30: =IF(OR($A30="",AH30="",COUNTA($B30:$AF30)=0),"",AI30-AH30) | AK30: =IF(OR($A30="",AK$5=""),"",COUNTIF($B30:$AF30,AK$5)) | AL30: =IF(OR($A30="",AL$5=""),"",COUNTIF($B30:$AF30,AL$5)) | AM30: =IF(OR($A30="",AM$5=""),"",COUNTIF($B30:$AF30,AM$5)) | AN30: =IF(OR($A30="",AN$5=""),"",COUNTIF($B30:$AF30,AN$5)) | AO30: =IF(OR($A30="",AO$5=""),"",COUNTIF($B30:$AF30,AO$5)) | AP30: =IF($A30="","",SUMPRODUCT($B$42:$AF$42*(COUNTIF(Arbeit_Liste,$B30:$AF30)>0))) | AQ30: =IF($A30="","",IF(SUM(DC30:EG30)>0,SUM(DC30:EG30)&"x Ruhezeit","")&IF(AND(SUM(DC30:EG30)>0,MAX(BX30:DB30)>Max_Folge),", ","")&IF(MAX(BX30:DB30)>Max_Folge,MAX(BX30:DB30)&" Tage am Stück","")) | AR30: =IF(COUNTA($B30:$AF30)>0,N(AH30),0) -> 0 | AS30: =IF(B$4="",Jan!BW30,IFERROR(VLOOKUP(B30,Schicht_Tabelle,12,0),-999)) -> -999 | AT30: =IF(C$4="",AS30,IFERROR(VLOOKUP(C30,Schicht_Tabelle,12,0),-999)) -> -999 | AU30: =IF(D$4="",AT30,IFERROR(VLOOKUP(D30,Schicht_Tabelle,12,0),-999)) -> -999 | AV30: =IF(E$4="",AU30,IFERROR(VLOOKUP(E30,Schicht_Tabelle,12,0),-999)) -> -999 | AW30: =IF(F$4="",AV30,IFERROR(VLOOKUP(F30,Schicht_Tabelle,12,0),-999)) -> -999 | AX30: =IF(G$4="",AW30,IFERROR(VLOOKUP(G30,Schicht_Tabelle,12,0),-999)) -> -999 | AY30: =IF(H$4="",AX30,IFERROR(VLOOKUP(H30,Schicht_Tabelle,12,0),-999)) -> -999 | AZ30: =IF(I$4="",AY30,IFERROR(VLOOKUP(I30,Schicht_Tabelle,12,0),-999)) -> -999 | BA30: =IF(J$4="",AZ30,IFERROR(VLOOKUP(J30,Schicht_Tabelle,12,0),-999)) -> -999 | ... BW30: =IF(AF$4="",BV30,IFERROR(VLOOKUP(AF30,Schicht_Tabelle,12,0),-999)) -> -999 | BX30: =IF(B$4="",Jan!DB30,IF(IFERROR(VLOOKUP(B30,Schicht_Tabelle,13,0),0)=1,Jan!DB30+1,0)) -> 0 | BY30: =IF(C$4="",BX30,IF(IFERROR(VLOOKUP(C30,Schicht_Tabelle,13,0),0)=1,BX30+1,0)) -> 0 | BZ30: =IF(D$4="",BY30,IF(IFERROR(VLOOKUP(D30,Schicht_Tabelle,13,0),0)=1,BY30+1,0)) -> 0 | CA30: =IF(E$4="",BZ30,IF(IFERROR(VLOOKUP(E30,Schicht_Tabelle,13,0),0)=1,BZ30+1,0)) -> 0 | CB30: =IF(F$4="",CA30,IF(IFERROR(VLOOKUP(F30,Schicht_Tabelle,13,0),0)=1,CA30+1,0)) -> 0 | CC30: =IF(G$4="",CB30,IF(IFERROR(VLOOKUP(G30,Schicht_Tabelle,13,0),0)=1,CB30+1,0)) -> 0 | CD30: =IF(H$4="",CC30,IF(IFERROR(VLOOKUP(H30,Schicht_Tabelle,13,0),0)=1,CC30+1,0)) -> 0 | CE30: =IF(I$4="",CD30,IF(IFERROR(VLOOKUP(I30,Schicht_Tabelle,13,0),0)=1,CD30+1,0)) -> 0 | CF30: =IF(J$4="",CE30,IF(IFERROR(VLOOKUP(J30,Schicht_Tabelle,13,0),0)=1,CE30+1,0)) -> 0 | ... DB30: =IF(AF$4="",DA30,IF(IFERROR(VLOOKUP(AF30,Schicht_Tabelle,13,0),0)=1,DA30+1,0)) -> 0 | DC30: =IF(B$4="",0,N(ROUND(24+IFERROR(VLOOKUP(B30,Schicht_Tabelle,16,0),99)-Jan!BW30,2)<Min_Ruhe)) -> 0 | DD30: =IF(C$4="",0,N(ROUND(24+IFERROR(VLOOKUP(C30,Schicht_Tabelle,16,0),99)-AS30,2)<Min_Ruhe)) -> 0 | DE30: =IF(D$4="",0,N(ROUND(24+IFERROR(VLOOKUP(D30,Schicht_Tabelle,16,0),99)-AT30,2)<Min_Ruhe)) -> 0 | DF30: =IF(E$4="",0,N(ROUND(24+IFERROR(VLOOKUP(E30,Schicht_Tabelle,16,0),99)-AU30,2)<Min_Ruhe)) -> 0 | DG30: =IF(F$4="",0,N(ROUND(24+IFERROR(VLOOKUP(F30,Schicht_Tabelle,16,0),99)-AV30,2)<Min_Ruhe)) -> 0 | DH30: =IF(G$4="",0,N(ROUND(24+IFERROR(VLOOKUP(G30,Schicht_Tabelle,16,0),99)-AW30,2)<Min_Ruhe)) -> 0 | DI30: =IF(H$4="",0,N(ROUND(24+IFERROR(VLOOKUP(H30,Schicht_Tabelle,16,0),99)-AX30,2)<Min_Ruhe)) -> 0 | DJ30: =IF(I$4="",0,N(ROUND(24+IFERROR(VLOOKUP(I30,Schicht_Tabelle,16,0),99)-AY30,2)<Min_Ruhe)) -> 0 | DK30: =IF(J$4="",0,N(ROUND(24+IFERROR(VLOOKUP(J30,Schicht_Tabelle,16,0),99)-AZ30,2)<Min_Ruhe)) -> 0 | ... EG30: =IF(AF$4="",0,N(ROUND(24+IFERROR(VLOOKUP(AF30,Schicht_Tabelle,16,0),99)-BV30,2)<Min_Ruhe)) -> 0
A32: Besetzung je Schicht | AH32: Min. Mo bis Fr | AI32: Min. Sa, So, Ft
A33: =IF(Start!$B$14="","",Start!$B$14&" "&IFERROR(VLOOKUP(Start!$B$14,Schicht_Tabelle,2,FALSE),"")) -> F Früh | B33: =IF(OR(B$4="",Start!$B$14=""),"",COUNTIF(B$6:B$30,Start!$B$14)) -> 0 | C33: =IF(OR(C$4="",Start!$B$14=""),"",COUNTIF(C$6:C$30,Start!$B$14)) -> 0 | D33: =IF(OR(D$4="",Start!$B$14=""),"",COUNTIF(D$6:D$30,Start!$B$14)) -> 0 | E33: =IF(OR(E$4="",Start!$B$14=""),"",COUNTIF(E$6:E$30,Start!$B$14)) -> 0 | F33: =IF(OR(F$4="",Start!$B$14=""),"",COUNTIF(F$6:F$30,Start!$B$14)) -> 0 | G33: =IF(OR(G$4="",Start!$B$14=""),"",COUNTIF(G$6:G$30,Start!$B$14)) -> 0 | H33: =IF(OR(H$4="",Start!$B$14=""),"",COUNTIF(H$6:H$30,Start!$B$14)) -> 0 | I33: =IF(OR(I$4="",Start!$B$14=""),"",COUNTIF(I$6:I$30,Start!$B$14)) -> 0 | ... AF33: =IF(OR(AF$4="",Start!$B$14=""),"",COUNTIF(AF$6:AF$30,Start!$B$14)) | AH33: =IF(Start!$B$14="","",N(Start!$C$14)) -> 2 | AI33: =IF(Start!$B$14="","",N(Start!$D$14)) -> 2
A34: =IF(Start!$B$15="","",Start!$B$15&" "&IFERROR(VLOOKUP(Start!$B$15,Schicht_Tabelle,2,FALSE),"")) -> S Spät | B34: =IF(OR(B$4="",Start!$B$15=""),"",COUNTIF(B$6:B$30,Start!$B$15)) -> 0 | C34: =IF(OR(C$4="",Start!$B$15=""),"",COUNTIF(C$6:C$30,Start!$B$15)) -> 0 | D34: =IF(OR(D$4="",Start!$B$15=""),"",COUNTIF(D$6:D$30,Start!$B$15)) -> 0 | E34: =IF(OR(E$4="",Start!$B$15=""),"",COUNTIF(E$6:E$30,Start!$B$15)) -> 0 | F34: =IF(OR(F$4="",Start!$B$15=""),"",COUNTIF(F$6:F$30,Start!$B$15)) -> 0 | G34: =IF(OR(G$4="",Start!$B$15=""),"",COUNTIF(G$6:G$30,Start!$B$15)) -> 0 | H34: =IF(OR(H$4="",Start!$B$15=""),"",COUNTIF(H$6:H$30,Start!$B$15)) -> 0 | I34: =IF(OR(I$4="",Start!$B$15=""),"",COUNTIF(I$6:I$30,Start!$B$15)) -> 0 | ... AF34: =IF(OR(AF$4="",Start!$B$15=""),"",COUNTIF(AF$6:AF$30,Start!$B$15)) | AH34: =IF(Start!$B$15="","",N(Start!$C$15)) -> 2 | AI34: =IF(Start!$B$15="","",N(Start!$D$15)) -> 2
A35: =IF(Start!$B$16="","",Start!$B$16&" "&IFERROR(VLOOKUP(Start!$B$16,Schicht_Tabelle,2,FALSE),"")) -> N Nacht | B35: =IF(OR(B$4="",Start!$B$16=""),"",COUNTIF(B$6:B$30,Start!$B$16)) -> 0 | C35: =IF(OR(C$4="",Start!$B$16=""),"",COUNTIF(C$6:C$30,Start!$B$16)) -> 0 | D35: =IF(OR(D$4="",Start!$B$16=""),"",COUNTIF(D$6:D$30,Start!$B$16)) -> 0 | E35: =IF(OR(E$4="",Start!$B$16=""),"",COUNTIF(E$6:E$30,Start!$B$16)) -> 0 | F35: =IF(OR(F$4="",Start!$B$16=""),"",COUNTIF(F$6:F$30,Start!$B$16)) -> 0 | G35: =IF(OR(G$4="",Start!$B$16=""),"",COUNTIF(G$6:G$30,Start!$B$16)) -> 0 | H35: =IF(OR(H$4="",Start!$B$16=""),"",COUNTIF(H$6:H$30,Start!$B$16)) -> 0 | I35: =IF(OR(I$4="",Start!$B$16=""),"",COUNTIF(I$6:I$30,Start!$B$16)) -> 0 | ... AF35: =IF(OR(AF$4="",Start!$B$16=""),"",COUNTIF(AF$6:AF$30,Start!$B$16)) | AH35: =IF(Start!$B$16="","",N(Start!$C$16)) -> 2 | AI35: =IF(Start!$B$16="","",N(Start!$D$16)) -> 2
A36: =IF(Start!$B$17="","",Start!$B$17&" "&IFERROR(VLOOKUP(Start!$B$17,Schicht_Tabelle,2,FALSE),"")) -> T Tag | B36: =IF(OR(B$4="",Start!$B$17=""),"",COUNTIF(B$6:B$30,Start!$B$17)) -> 0 | C36: =IF(OR(C$4="",Start!$B$17=""),"",COUNTIF(C$6:C$30,Start!$B$17)) -> 0 | D36: =IF(OR(D$4="",Start!$B$17=""),"",COUNTIF(D$6:D$30,Start!$B$17)) -> 0 | E36: =IF(OR(E$4="",Start!$B$17=""),"",COUNTIF(E$6:E$30,Start!$B$17)) -> 0 | F36: =IF(OR(F$4="",Start!$B$17=""),"",COUNTIF(F$6:F$30,Start!$B$17)) -> 0 | G36: =IF(OR(G$4="",Start!$B$17=""),"",COUNTIF(G$6:G$30,Start!$B$17)) -> 0 | H36: =IF(OR(H$4="",Start!$B$17=""),"",COUNTIF(H$6:H$30,Start!$B$17)) -> 0 | I36: =IF(OR(I$4="",Start!$B$17=""),"",COUNTIF(I$6:I$30,Start!$B$17)) -> 0 | ... AF36: =IF(OR(AF$4="",Start!$B$17=""),"",COUNTIF(AF$6:AF$30,Start!$B$17)) | AH36: =IF(Start!$B$17="","",N(Start!$C$17)) -> 1 | AI36: =IF(Start!$B$17="","",N(Start!$D$17)) -> 0
A37: =IF(Start!$B$18="","",Start!$B$18&" "&IFERROR(VLOOKUP(Start!$B$18,Schicht_Tabelle,2,FALSE),"")) | B37: =IF(OR(B$4="",Start!$B$18=""),"",COUNTIF(B$6:B$30,Start!$B$18)) | C37: =IF(OR(C$4="",Start!$B$18=""),"",COUNTIF(C$6:C$30,Start!$B$18)) | D37: =IF(OR(D$4="",Start!$B$18=""),"",COUNTIF(D$6:D$30,Start!$B$18)) | E37: =IF(OR(E$4="",Start!$B$18=""),"",COUNTIF(E$6:E$30,Start!$B$18)) | F37: =IF(OR(F$4="",Start!$B$18=""),"",COUNTIF(F$6:F$30,Start!$B$18)) | G37: =IF(OR(G$4="",Start!$B$18=""),"",COUNTIF(G$6:G$30,Start!$B$18)) | H37: =IF(OR(H$4="",Start!$B$18=""),"",COUNTIF(H$6:H$30,Start!$B$18)) | I37: =IF(OR(I$4="",Start!$B$18=""),"",COUNTIF(I$6:I$30,Start!$B$18)) | ... AF37: =IF(OR(AF$4="",Start!$B$18=""),"",COUNTIF(AF$6:AF$30,Start!$B$18)) | AH37: =IF(Start!$B$18="","",N(Start!$C$18)) | AI37: =IF(Start!$B$18="","",N(Start!$D$18))
A39: ="Rot hinterlegt: Ruhezeit unter "&Min_Ruhe&" Std. zum Vortag · Schwarz-gelb: mehr als "&Max_Folge&" Arbeitstage am Stück · Besetzung grün: Minimum erreicht, rot: zu wenig · So.: Schichten am Sonntag" -> Rot hinterlegt: Ruhezeit unter 11 Std. zum Vortag · Schwarz-gelb: mehr als 6 Arbeitstage am Stück · Besetzung grün: Minimum erreicht, rot: zu wenig · So.: Schichten am Sonntag
A40: ="Wochenenden blaugrau, Feiertage ("&Bundesland&") rosa. Soll-Stunden nach "&Soll_Modus&". Urlaub und krank zählen mit den Stunden aus dem Blatt Mitarbeitende." -> Wochenenden blaugrau, Feiertage (Nordrhein-Westfalen) rosa. Soll-Stunden nach Arbeitstagen Mo bis Fr. Urlaub und krank zählen mit den Stunden aus dem Blatt Mitarbeitende.
A41: Hilfszeilen (ausgeblendet), bitte nicht ändern
A42: Sonntag | B42: =IF(B4="",0,IF(WEEKDAY(B4,2)=7,1,0)) -> 0 | C42: =IF(C4="",0,IF(WEEKDAY(C4,2)=7,1,0)) -> 0 | D42: =IF(D4="",0,IF(WEEKDAY(D4,2)=7,1,0)) -> 0 | E42: =IF(E4="",0,IF(WEEKDAY(E4,2)=7,1,0)) -> 0 | F42: =IF(F4="",0,IF(WEEKDAY(F4,2)=7,1,0)) -> 0 | G42: =IF(G4="",0,IF(WEEKDAY(G4,2)=7,1,0)) -> 0 | H42: =IF(H4="",0,IF(WEEKDAY(H4,2)=7,1,0)) -> 1 | I42: =IF(I4="",0,IF(WEEKDAY(I4,2)=7,1,0)) -> 0 | ... AF42: =IF(AF4="",0,IF(WEEKDAY(AF4,2)=7,1,0)) -> 0
A43: Arbeitstag Mo bis Fr | B43: =IF(B4="",0,IF(WEEKDAY(B4,2)>5,0,IF(COUNTIF(Feiertage_aktiv,B4)>0,0,1))) -> 1 | C43: =IF(C4="",0,IF(WEEKDAY(C4,2)>5,0,IF(COUNTIF(Feiertage_aktiv,C4)>0,0,1))) -> 1 | D43: =IF(D4="",0,IF(WEEKDAY(D4,2)>5,0,IF(COUNTIF(Feiertage_aktiv,D4)>0,0,1))) -> 1 | E43: =IF(E4="",0,IF(WEEKDAY(E4,2)>5,0,IF(COUNTIF(Feiertage_aktiv,E4)>0,0,1))) -> 1 | F43: =IF(F4="",0,IF(WEEKDAY(F4,2)>5,0,IF(COUNTIF(Feiertage_aktiv,F4)>0,0,1))) -> 1 | G43: =IF(G4="",0,IF(WEEKDAY(G4,2)>5,0,IF(COUNTIF(Feiertage_aktiv,G4)>0,0,1))) -> 0 | H43: =IF(H4="",0,IF(WEEKDAY(H4,2)>5,0,IF(COUNTIF(Feiertage_aktiv,H4)>0,0,1))) -> 0 | I43: =IF(I4="",0,IF(WEEKDAY(I4,2)>5,0,IF(COUNTIF(Feiertage_aktiv,I4)>0,0,1))) -> 1 | ... AF43: =IF(AF4="",0,IF(WEEKDAY(AF4,2)>5,0,IF(COUNTIF(Feiertage_aktiv,AF4)>0,0,1))) -> 0
A44: Feiertag | B44: =IF(B4="",0,IF(COUNTIF(Feiertage_aktiv,B4)>0,1,0)) -> 0 | C44: =IF(C4="",0,IF(COUNTIF(Feiertage_aktiv,C4)>0,1,0)) -> 0 | D44: =IF(D4="",0,IF(COUNTIF(Feiertage_aktiv,D4)>0,1,0)) -> 0 | E44: =IF(E4="",0,IF(COUNTIF(Feiertage_aktiv,E4)>0,1,0)) -> 0 | F44: =IF(F4="",0,IF(COUNTIF(Feiertage_aktiv,F4)>0,1,0)) -> 0 | G44: =IF(G4="",0,IF(COUNTIF(Feiertage_aktiv,G4)>0,1,0)) -> 0 | H44: =IF(H4="",0,IF(COUNTIF(Feiertage_aktiv,H4)>0,1,0)) -> 0 | I44: =IF(I4="",0,IF(COUNTIF(Feiertage_aktiv,I4)>0,1,0)) -> 0 | ... AF44: =IF(AF4="",0,IF(COUNTIF(Feiertage_aktiv,AF4)>0,1,0)) -> 0

Sheet Mär
A1: ="Schichtplan März "&Jahr&IF(Firma="",""," · "&Firma) -> Schichtplan März 2027
A2: ="Bundesland: "&Bundesland&" · Soll-Arbeitstage Mo bis Fr: "&SUM(B43:AF43)&" · Mindestruhezeit: "&Min_Ruhe&" Std. · höchstens "&Max_Folge&" Arbeitstage am Stück" -> Bundesland: Nordrhein-Westfalen · Soll-Arbeitstage Mo bis Fr: 21 · Mindestruhezeit: 11 Std. · höchstens 6 Arbeitstage am Stück
A3: KW | B3: =IF(B4="","",IF(OR(WEEKDAY(B4,2)=1,DAY(B4)=1),INT((B4-DATE(YEAR(B4-WEEKDAY(B4-1)+4),1,3)+WEEKDAY(DATE(YEAR(B4-WEEKDAY(B4-1)+4),1,3))+5)/7),"")) -> 9 | C3: =IF(C4="","",IF(OR(WEEKDAY(C4,2)=1,DAY(C4)=1),INT((C4-DATE(YEAR(C4-WEEKDAY(C4-1)+4),1,3)+WEEKDAY(DATE(YEAR(C4-WEEKDAY(C4-1)+4),1,3))+5)/7),"")) | D3: =IF(D4="","",IF(OR(WEEKDAY(D4,2)=1,DAY(D4)=1),INT((D4-DATE(YEAR(D4-WEEKDAY(D4-1)+4),1,3)+WEEKDAY(DATE(YEAR(D4-WEEKDAY(D4-1)+4),1,3))+5)/7),"")) | E3: =IF(E4="","",IF(OR(WEEKDAY(E4,2)=1,DAY(E4)=1),INT((E4-DATE(YEAR(E4-WEEKDAY(E4-1)+4),1,3)+WEEKDAY(DATE(YEAR(E4-WEEKDAY(E4-1)+4),1,3))+5)/7),"")) | F3: =IF(F4="","",IF(OR(WEEKDAY(F4,2)=1,DAY(F4)=1),INT((F4-DATE(YEAR(F4-WEEKDAY(F4-1)+4),1,3)+WEEKDAY(DATE(YEAR(F4-WEEKDAY(F4-1)+4),1,3))+5)/7),"")) | G3: =IF(G4="","",IF(OR(WEEKDAY(G4,2)=1,DAY(G4)=1),INT((G4-DATE(YEAR(G4-WEEKDAY(G4-1)+4),1,3)+WEEKDAY(DATE(YEAR(G4-WEEKDAY(G4-1)+4),1,3))+5)/7),"")) | H3: =IF(H4="","",IF(OR(WEEKDAY(H4,2)=1,DAY(H4)=1),INT((H4-DATE(YEAR(H4-WEEKDAY(H4-1)+4),1,3)+WEEKDAY(DATE(YEAR(H4-WEEKDAY(H4-1)+4),1,3))+5)/7),"")) | I3: =IF(I4="","",IF(OR(WEEKDAY(I4,2)=1,DAY(I4)=1),INT((I4-DATE(YEAR(I4-WEEKDAY(I4-1)+4),1,3)+WEEKDAY(DATE(YEAR(I4-WEEKDAY(I4-1)+4),1,3))+5)/7),"")) -> 10 | ... AF3: =IF(AF4="","",IF(OR(WEEKDAY(AF4,2)=1,DAY(AF4)=1),INT((AF4-DATE(YEAR(AF4-WEEKDAY(AF4-1)+4),1,3)+WEEKDAY(DATE(YEAR(AF4-WEEKDAY(AF4-1)+4),1,3))+5)/7),""))
A4: Tag | B4: =IF(MONTH(DATE(Jahr,3,1))=3,DATE(Jahr,3,1),"") -> 46447 | C4: =IF(MONTH(DATE(Jahr,3,2))=3,DATE(Jahr,3,2),"") -> 46448 | D4: =IF(MONTH(DATE(Jahr,3,3))=3,DATE(Jahr,3,3),"") -> 46449 | E4: =IF(MONTH(DATE(Jahr,3,4))=3,DATE(Jahr,3,4),"") -> 46450 | F4: =IF(MONTH(DATE(Jahr,3,5))=3,DATE(Jahr,3,5),"") -> 46451 | G4: =IF(MONTH(DATE(Jahr,3,6))=3,DATE(Jahr,3,6),"") -> 46452 | H4: =IF(MONTH(DATE(Jahr,3,7))=3,DATE(Jahr,3,7),"") -> 46453 | I4: =IF(MONTH(DATE(Jahr,3,8))=3,DATE(Jahr,3,8),"") -> 46454 | J4: =IF(MONTH(DATE(Jahr,3,9))=3,DATE(Jahr,3,9),"") -> 46455 | K4: =IF(MONTH(DATE(Jahr,3,10))=3,DATE(Jahr,3,10),"") -> 46456 | L4: =IF(MONTH(DATE(Jahr,3,11))=3,DATE(Jahr,3,11),"") -> 46457 | M4: =IF(MONTH(DATE(Jahr,3,12))=3,DATE(Jahr,3,12),"") -> 46458 | N4: =IF(MONTH(DATE(Jahr,3,13))=3,DATE(Jahr,3,13),"") -> 46459 | O4: =IF(MONTH(DATE(Jahr,3,14))=3,DATE(Jahr,3,14),"") -> 46460 | P4: =IF(MONTH(DATE(Jahr,3,15))=3,DATE(Jahr,3,15),"") -> 46461 | Q4: =IF(MONTH(DATE(Jahr,3,16))=3,DATE(Jahr,3,16),"") -> 46462 | R4: =IF(MONTH(DATE(Jahr,3,17))=3,DATE(Jahr,3,17),"") -> 46463 | S4: =IF(MONTH(DATE(Jahr,3,18))=3,DATE(Jahr,3,18),"") -> 46464 | T4: =IF(MONTH(DATE(Jahr,3,19))=3,DATE(Jahr,3,19),"") -> 46465 | U4: =IF(MONTH(DATE(Jahr,3,20))=3,DATE(Jahr,3,20),"") -> 46466 | V4: =IF(MONTH(DATE(Jahr,3,21))=3,DATE(Jahr,3,21),"") -> 46467 | W4: =IF(MONTH(DATE(Jahr,3,22))=3,DATE(Jahr,3,22),"") -> 46468 | X4: =IF(MONTH(DATE(Jahr,3,23))=3,DATE(Jahr,3,23),"") -> 46469 | Y4: =IF(MONTH(DATE(Jahr,3,24))=3,DATE(Jahr,3,24),"") -> 46470 | Z4: =IF(MONTH(DATE(Jahr,3,25))=3,DATE(Jahr,3,25),"") -> 46471 | AA4: =IF(MONTH(DATE(Jahr,3,26))=3,DATE(Jahr,3,26),"") -> 46472 | AB4: =IF(MONTH(DATE(Jahr,3,27))=3,DATE(Jahr,3,27),"") -> 46473 | AC4: =IF(MONTH(DATE(Jahr,3,28))=3,DATE(Jahr,3,28),"") -> 46474 | AD4: =IF(MONTH(DATE(Jahr,3,29))=3,DATE(Jahr,3,29),"") -> 46475 | AE4: =IF(MONTH(DATE(Jahr,3,30))=3,DATE(Jahr,3,30),"") -> 46476 | AF4: =IF(MONTH(DATE(Jahr,3,31))=3,DATE(Jahr,3,31),"") -> 46477 | AH4: Stunden | AK4: Anzahl | AS4: Hilfsspalten: Schichtende, Tage am Stück, Ruhezeit
A5: Name | B5: =B4 -> 46447 | C5: =C4 -> 46448 | D5: =D4 -> 46449 | E5: =E4 -> 46450 | F5: =F4 -> 46451 | G5: =G4 -> 46452 | H5: =H4 -> 46453 | I5: =I4 -> 46454 | ... AF5: =AF4 -> 46477 | AH5: Soll | AI5: Ist | AJ5: Saldo | AK5: =INDEX(Kuerzel_Liste,1)&"" -> F | AL5: =INDEX(Kuerzel_Liste,2)&"" -> S | AM5: =INDEX(Kuerzel_Liste,3)&"" -> N | AN5: =INDEX(Kuerzel_Liste,5)&"" -> U | AO5: =INDEX(Kuerzel_Liste,6)&"" -> K | AP5: So. | AQ5: Hinweise
A6: =IF(Mitarbeitende!A6="","",Mitarbeitende!A6) | AH6: =IF(OR($A6="",N(Mitarbeitende!$C6)=0),"",IF(Soll_Modus="Kalendertagen",Mitarbeitende!$C6/7*COUNT($B$4:$AF$4),Mitarbeitende!$C6/5*SUM($B$43:$AF$43))) | AI6: =IF($A6="","",SUMPRODUCT(COUNTIF($B6:$AF6,Kuerzel_Liste)*Std_Liste)+SUMPRODUCT(COUNTIF($B6:$AF6,Kuerzel_Liste)*Bezahlt_Liste)*N(Mitarbeitende!$D6)) | AJ6: =IF(OR($A6="",AH6="",COUNTA($B6:$AF6)=0),"",AI6-AH6) | AK6: =IF(OR($A6="",AK$5=""),"",COUNTIF($B6:$AF6,AK$5)) | AL6: =IF(OR($A6="",AL$5=""),"",COUNTIF($B6:$AF6,AL$5)) | AM6: =IF(OR($A6="",AM$5=""),"",COUNTIF($B6:$AF6,AM$5)) | AN6: =IF(OR($A6="",AN$5=""),"",COUNTIF($B6:$AF6,AN$5)) | AO6: =IF(OR($A6="",AO$5=""),"",COUNTIF($B6:$AF6,AO$5)) | AP6: =IF($A6="","",SUMPRODUCT($B$42:$AF$42*(COUNTIF(Arbeit_Liste,$B6:$AF6)>0))) | AQ6: =IF($A6="","",IF(SUM(DC6:EG6)>0,SUM(DC6:EG6)&"x Ruhezeit","")&IF(AND(SUM(DC6:EG6)>0,MAX(BX6:DB6)>Max_Folge),", ","")&IF(MAX(BX6:DB6)>Max_Folge,MAX(BX6:DB6)&" Tage am Stück","")) | AR6: =IF(COUNTA($B6:$AF6)>0,N(AH6),0) -> 0 | AS6: =IF(B$4="",Feb!BW6,IFERROR(VLOOKUP(B6,Schicht_Tabelle,12,0),-999)) -> -999 | AT6: =IF(C$4="",AS6,IFERROR(VLOOKUP(C6,Schicht_Tabelle,12,0),-999)) -> -999 | AU6: =IF(D$4="",AT6,IFERROR(VLOOKUP(D6,Schicht_Tabelle,12,0),-999)) -> -999 | AV6: =IF(E$4="",AU6,IFERROR(VLOOKUP(E6,Schicht_Tabelle,12,0),-999)) -> -999 | AW6: =IF(F$4="",AV6,IFERROR(VLOOKUP(F6,Schicht_Tabelle,12,0),-999)) -> -999 | AX6: =IF(G$4="",AW6,IFERROR(VLOOKUP(G6,Schicht_Tabelle,12,0),-999)) -> -999 | AY6: =IF(H$4="",AX6,IFERROR(VLOOKUP(H6,Schicht_Tabelle,12,0),-999)) -> -999 | AZ6: =IF(I$4="",AY6,IFERROR(VLOOKUP(I6,Schicht_Tabelle,12,0),-999)) -> -999 | BA6: =IF(J$4="",AZ6,IFERROR(VLOOKUP(J6,Schicht_Tabelle,12,0),-999)) -> -999 | ... BW6: =IF(AF$4="",BV6,IFERROR(VLOOKUP(AF6,Schicht_Tabelle,12,0),-999)) -> -999 | BX6: =IF(B$4="",Feb!DB6,IF(IFERROR(VLOOKUP(B6,Schicht_Tabelle,13,0),0)=1,Feb!DB6+1,0)) -> 0 | BY6: =IF(C$4="",BX6,IF(IFERROR(VLOOKUP(C6,Schicht_Tabelle,13,0),0)=1,BX6+1,0)) -> 0 | BZ6: =IF(D$4="",BY6,IF(IFERROR(VLOOKUP(D6,Schicht_Tabelle,13,0),0)=1,BY6+1,0)) -> 0 | CA6: =IF(E$4="",BZ6,IF(IFERROR(VLOOKUP(E6,Schicht_Tabelle,13,0),0)=1,BZ6+1,0)) -> 0 | CB6: =IF(F$4="",CA6,IF(IFERROR(VLOOKUP(F6,Schicht_Tabelle,13,0),0)=1,CA6+1,0)) -> 0 | CC6: =IF(G$4="",CB6,IF(IFERROR(VLOOKUP(G6,Schicht_Tabelle,13,0),0)=1,CB6+1,0)) -> 0 | CD6: =IF(H$4="",CC6,IF(IFERROR(VLOOKUP(H6,Schicht_Tabelle,13,0),0)=1,CC6+1,0)) -> 0 | CE6: =IF(I$4="",CD6,IF(IFERROR(VLOOKUP(I6,Schicht_Tabelle,13,0),0)=1,CD6+1,0)) -> 0 | CF6: =IF(J$4="",CE6,IF(IFERROR(VLOOKUP(J6,Schicht_Tabelle,13,0),0)=1,CE6+1,0)) -> 0 | ... DB6: =IF(AF$4="",DA6,IF(IFERROR(VLOOKUP(AF6,Schicht_Tabelle,13,0),0)=1,DA6+1,0)) -> 0 | DC6: =IF(B$4="",0,N(ROUND(24+IFERROR(VLOOKUP(B6,Schicht_Tabelle,16,0),99)-Feb!BW6,2)<Min_Ruhe)) -> 0 | DD6: =IF(C$4="",0,N(ROUND(24+IFERROR(VLOOKUP(C6,Schicht_Tabelle,16,0),99)-AS6,2)<Min_Ruhe)) -> 0 | DE6: =IF(D$4="",0,N(ROUND(24+IFERROR(VLOOKUP(D6,Schicht_Tabelle,16,0),99)-AT6,2)<Min_Ruhe)) -> 0 | DF6: =IF(E$4="",0,N(ROUND(24+IFERROR(VLOOKUP(E6,Schicht_Tabelle,16,0),99)-AU6,2)<Min_Ruhe)) -> 0 | DG6: =IF(F$4="",0,N(ROUND(24+IFERROR(VLOOKUP(F6,Schicht_Tabelle,16,0),99)-AV6,2)<Min_Ruhe)) -> 0 | DH6: =IF(G$4="",0,N(ROUND(24+IFERROR(VLOOKUP(G6,Schicht_Tabelle,16,0),99)-AW6,2)<Min_Ruhe)) -> 0 | DI6: =IF(H$4="",0,N(ROUND(24+IFERROR(VLOOKUP(H6,Schicht_Tabelle,16,0),99)-AX6,2)<Min_Ruhe)) -> 0 | DJ6: =IF(I$4="",0,N(ROUND(24+IFERROR(VLOOKUP(I6,Schicht_Tabelle,16,0),99)-AY6,2)<Min_Ruhe)) -> 0 | DK6: =IF(J$4="",0,N(ROUND(24+IFERROR(VLOOKUP(J6,Schicht_Tabelle,16,0),99)-AZ6,2)<Min_Ruhe)) -> 0 | ... EG6: =IF(AF$4="",0,N(ROUND(24+IFERROR(VLOOKUP(AF6,Schicht_Tabelle,16,0),99)-BV6,2)<Min_Ruhe)) -> 0
A7: =IF(Mitarbeitende!A7="","",Mitarbeitende!A7) | AH7: =IF(OR($A7="",N(Mitarbeitende!$C7)=0),"",IF(Soll_Modus="Kalendertagen",Mitarbeitende!$C7/7*COUNT($B$4:$AF$4),Mitarbeitende!$C7/5*SUM($B$43:$AF$43))) | AI7: =IF($A7="","",SUMPRODUCT(COUNTIF($B7:$AF7,Kuerzel_Liste)*Std_Liste)+SUMPRODUCT(COUNTIF($B7:$AF7,Kuerzel_Liste)*Bezahlt_Liste)*N(Mitarbeitende!$D7)) | AJ7: =IF(OR($A7="",AH7="",COUNTA($B7:$AF7)=0),"",AI7-AH7) | AK7: =IF(OR($A7="",AK$5=""),"",COUNTIF($B7:$AF7,AK$5)) | AL7: =IF(OR($A7="",AL$5=""),"",COUNTIF($B7:$AF7,AL$5)) | AM7: =IF(OR($A7="",AM$5=""),"",COUNTIF($B7:$AF7,AM$5)) | AN7: =IF(OR($A7="",AN$5=""),"",COUNTIF($B7:$AF7,AN$5)) | AO7: =IF(OR($A7="",AO$5=""),"",COUNTIF($B7:$AF7,AO$5)) | AP7: =IF($A7="","",SUMPRODUCT($B$42:$AF$42*(COUNTIF(Arbeit_Liste,$B7:$AF7)>0))) | AQ7: =IF($A7="","",IF(SUM(DC7:EG7)>0,SUM(DC7:EG7)&"x Ruhezeit","")&IF(AND(SUM(DC7:EG7)>0,MAX(BX7:DB7)>Max_Folge),", ","")&IF(MAX(BX7:DB7)>Max_Folge,MAX(BX7:DB7)&" Tage am Stück","")) | AR7: =IF(COUNTA($B7:$AF7)>0,N(AH7),0) -> 0 | AS7: =IF(B$4="",Feb!BW7,IFERROR(VLOOKUP(B7,Schicht_Tabelle,12,0),-999)) -> -999 | AT7: =IF(C$4="",AS7,IFERROR(VLOOKUP(C7,Schicht_Tabelle,12,0),-999)) -> -999 | AU7: =IF(D$4="",AT7,IFERROR(VLOOKUP(D7,Schicht_Tabelle,12,0),-999)) -> -999 | AV7: =IF(E$4="",AU7,IFERROR(VLOOKUP(E7,Schicht_Tabelle,12,0),-999)) -> -999 | AW7: =IF(F$4="",AV7,IFERROR(VLOOKUP(F7,Schicht_Tabelle,12,0),-999)) -> -999 | AX7: =IF(G$4="",AW7,IFERROR(VLOOKUP(G7,Schicht_Tabelle,12,0),-999)) -> -999 | AY7: =IF(H$4="",AX7,IFERROR(VLOOKUP(H7,Schicht_Tabelle,12,0),-999)) -> -999 | AZ7: =IF(I$4="",AY7,IFERROR(VLOOKUP(I7,Schicht_Tabelle,12,0),-999)) -> -999 | BA7: =IF(J$4="",AZ7,IFERROR(VLOOKUP(J7,Schicht_Tabelle,12,0),-999)) -> -999 | ... BW7: =IF(AF$4="",BV7,IFERROR(VLOOKUP(AF7,Schicht_Tabelle,12,0),-999)) -> -999 | BX7: =IF(B$4="",Feb!DB7,IF(IFERROR(VLOOKUP(B7,Schicht_Tabelle,13,0),0)=1,Feb!DB7+1,0)) -> 0 | BY7: =IF(C$4="",BX7,IF(IFERROR(VLOOKUP(C7,Schicht_Tabelle,13,0),0)=1,BX7+1,0)) -> 0 | BZ7: =IF(D$4="",BY7,IF(IFERROR(VLOOKUP(D7,Schicht_Tabelle,13,0),0)=1,BY7+1,0)) -> 0 | CA7: =IF(E$4="",BZ7,IF(IFERROR(VLOOKUP(E7,Schicht_Tabelle,13,0),0)=1,BZ7+1,0)) -> 0 | CB7: =IF(F$4="",CA7,IF(IFERROR(VLOOKUP(F7,Schicht_Tabelle,13,0),0)=1,CA7+1,0)) -> 0 | CC7: =IF(G$4="",CB7,IF(IFERROR(VLOOKUP(G7,Schicht_Tabelle,13,0),0)=1,CB7+1,0)) -> 0 | CD7: =IF(H$4="",CC7,IF(IFERROR(VLOOKUP(H7,Schicht_Tabelle,13,0),0)=1,CC7+1,0)) -> 0 | CE7: =IF(I$4="",CD7,IF(IFERROR(VLOOKUP(I7,Schicht_Tabelle,13,0),0)=1,CD7+1,0)) -> 0 | CF7: =IF(J$4="",CE7,IF(IFERROR(VLOOKUP(J7,Schicht_Tabelle,13,0),0)=1,CE7+1,0)) -> 0 | ... DB7: =IF(AF$4="",DA7,IF(IFERROR(VLOOKUP(AF7,Schicht_Tabelle,13,0),0)=1,DA7+1,0)) -> 0 | DC7: =IF(B$4="",0,N(ROUND(24+IFERROR(VLOOKUP(B7,Schicht_Tabelle,16,0),99)-Feb!BW7,2)<Min_Ruhe)) -> 0 | DD7: =IF(C$4="",0,N(ROUND(24+IFERROR(VLOOKUP(C7,Schicht_Tabelle,16,0),99)-AS7,2)<Min_Ruhe)) -> 0 | DE7: =IF(D$4="",0,N(ROUND(24+IFERROR(VLOOKUP(D7,Schicht_Tabelle,16,0),99)-AT7,2)<Min_Ruhe)) -> 0 | DF7: =IF(E$4="",0,N(ROUND(24+IFERROR(VLOOKUP(E7,Schicht_Tabelle,16,0),99)-AU7,2)<Min_Ruhe)) -> 0 | DG7: =IF(F$4="",0,N(ROUND(24+IFERROR(VLOOKUP(F7,Schicht_Tabelle,16,0),99)-AV7,2)<Min_Ruhe)) -> 0 | DH7: =IF(G$4="",0,N(ROUND(24+IFERROR(VLOOKUP(G7,Schicht_Tabelle,16,0),99)-AW7,2)<Min_Ruhe)) -> 0 | DI7: =IF(H$4="",0,N(ROUND(24+IFERROR(VLOOKUP(H7,Schicht_Tabelle,16,0),99)-AX7,2)<Min_Ruhe)) -> 0 | DJ7: =IF(I$4="",0,N(ROUND(24+IFERROR(VLOOKUP(I7,Schicht_Tabelle,16,0),99)-AY7,2)<Min_Ruhe)) -> 0 | DK7: =IF(J$4="",0,N(ROUND(24+IFERROR(VLOOKUP(J7,Schicht_Tabelle,16,0),99)-AZ7,2)<Min_Ruhe)) -> 0 | ... EG7: =IF(AF$4="",0,N(ROUND(24+IFERROR(VLOOKUP(AF7,Schicht_Tabelle,16,0),99)-BV7,2)<Min_Ruhe)) -> 0
A8: =IF(Mitarbeitende!A8="","",Mitarbeitende!A8) | AH8: =IF(OR($A8="",N(Mitarbeitende!$C8)=0),"",IF(Soll_Modus="Kalendertagen",Mitarbeitende!$C8/7*COUNT($B$4:$AF$4),Mitarbeitende!$C8/5*SUM($B$43:$AF$43))) | AI8: =IF($A8="","",SUMPRODUCT(COUNTIF($B8:$AF8,Kuerzel_Liste)*Std_Liste)+SUMPRODUCT(COUNTIF($B8:$AF8,Kuerzel_Liste)*Bezahlt_Liste)*N(Mitarbeitende!$D8)) | AJ8: =IF(OR($A8="",AH8="",COUNTA($B8:$AF8)=0),"",AI8-AH8) | AK8: =IF(OR($A8="",AK$5=""),"",COUNTIF($B8:$AF8,AK$5)) | AL8: =IF(OR($A8="",AL$5=""),"",COUNTIF($B8:$AF8,AL$5)) | AM8: =IF(OR($A8="",AM$5=""),"",COUNTIF($B8:$AF8,AM$5)) | AN8: =IF(OR($A8="",AN$5=""),"",COUNTIF($B8:$AF8,AN$5)) | AO8: =IF(OR($A8="",AO$5=""),"",COUNTIF($B8:$AF8,AO$5)) | AP8: =IF($A8="","",SUMPRODUCT($B$42:$AF$42*(COUNTIF(Arbeit_Liste,$B8:$AF8)>0))) | AQ8: =IF($A8="","",IF(SUM(DC8:EG8)>0,SUM(DC8:EG8)&"x Ruhezeit","")&IF(AND(SUM(DC8:EG8)>0,MAX(BX8:DB8)>Max_Folge),", ","")&IF(MAX(BX8:DB8)>Max_Folge,MAX(BX8:DB8)&" Tage am Stück","")) | AR8: =IF(COUNTA($B8:$AF8)>0,N(AH8),0) -> 0 | AS8: =IF(B$4="",Feb!BW8,IFERROR(VLOOKUP(B8,Schicht_Tabelle,12,0),-999)) -> -999 | AT8: =IF(C$4="",AS8,IFERROR(VLOOKUP(C8,Schicht_Tabelle,12,0),-999)) -> -999 | AU8: =IF(D$4="",AT8,IFERROR(VLOOKUP(D8,Schicht_Tabelle,12,0),-999)) -> -999 | AV8: =IF(E$4="",AU8,IFERROR(VLOOKUP(E8,Schicht_Tabelle,12,0),-999)) -> -999 | AW8: =IF(F$4="",AV8,IFERROR(VLOOKUP(F8,Schicht_Tabelle,12,0),-999)) -> -999 | AX8: =IF(G$4="",AW8,IFERROR(VLOOKUP(G8,Schicht_Tabelle,12,0),-999)) -> -999 | AY8: =IF(H$4="",AX8,IFERROR(VLOOKUP(H8,Schicht_Tabelle,12,0),-999)) -> -999 | AZ8: =IF(I$4="",AY8,IFERROR(VLOOKUP(I8,Schicht_Tabelle,12,0),-999)) -> -999 | BA8: =IF(J$4="",AZ8,IFERROR(VLOOKUP(J8,Schicht_Tabelle,12,0),-999)) -> -999 | ... BW8: =IF(AF$4="",BV8,IFERROR(VLOOKUP(AF8,Schicht_Tabelle,12,0),-999)) -> -999 | BX8: =IF(B$4="",Feb!DB8,IF(IFERROR(VLOOKUP(B8,Schicht_Tabelle,13,0),0)=1,Feb!DB8+1,0)) -> 0 | BY8: =IF(C$4="",BX8,IF(IFERROR(VLOOKUP(C8,Schicht_Tabelle,13,0),0)=1,BX8+1,0)) -> 0 | BZ8: =IF(D$4="",BY8,IF(IFERROR(VLOOKUP(D8,Schicht_Tabelle,13,0),0)=1,BY8+1,0)) -> 0 | CA8: =IF(E$4="",BZ8,IF(IFERROR(VLOOKUP(E8,Schicht_Tabelle,13,0),0)=1,BZ8+1,0)) -> 0 | CB8: =IF(F$4="",CA8,IF(IFERROR(VLOOKUP(F8,Schicht_Tabelle,13,0),0)=1,CA8+1,0)) -> 0 | CC8: =IF(G$4="",CB8,IF(IFERROR(VLOOKUP(G8,Schicht_Tabelle,13,0),0)=1,CB8+1,0)) -> 0 | CD8: =IF(H$4="",CC8,IF(IFERROR(VLOOKUP(H8,Schicht_Tabelle,13,0),0)=1,CC8+1,0)) -> 0 | CE8: =IF(I$4="",CD8,IF(IFERROR(VLOOKUP(I8,Schicht_Tabelle,13,0),0)=1,CD8+1,0)) -> 0 | CF8: =IF(J$4="",CE8,IF(IFERROR(VLOOKUP(J8,Schicht_Tabelle,13,0),0)=1,CE8+1,0)) -> 0 | ... DB8: =IF(AF$4="",DA8,IF(IFERROR(VLOOKUP(AF8,Schicht_Tabelle,13,0),0)=1,DA8+1,0)) -> 0 | DC8: =IF(B$4="",0,N(ROUND(24+IFERROR(VLOOKUP(B8,Schicht_Tabelle,16,0),99)-Feb!BW8,2)<Min_Ruhe)) -> 0 | DD8: =IF(C$4="",0,N(ROUND(24+IFERROR(VLOOKUP(C8,Schicht_Tabelle,16,0),99)-AS8,2)<Min_Ruhe)) -> 0 | DE8: =IF(D$4="",0,N(ROUND(24+IFERROR(VLOOKUP(D8,Schicht_Tabelle,16,0),99)-AT8,2)<Min_Ruhe)) -> 0 | DF8: =IF(E$4="",0,N(ROUND(24+IFERROR(VLOOKUP(E8,Schicht_Tabelle,16,0),99)-AU8,2)<Min_Ruhe)) -> 0 | DG8: =IF(F$4="",0,N(ROUND(24+IFERROR(VLOOKUP(F8,Schicht_Tabelle,16,0),99)-AV8,2)<Min_Ruhe)) -> 0 | DH8: =IF(G$4="",0,N(ROUND(24+IFERROR(VLOOKUP(G8,Schicht_Tabelle,16,0),99)-AW8,2)<Min_Ruhe)) -> 0 | DI8: =IF(H$4="",0,N(ROUND(24+IFERROR(VLOOKUP(H8,Schicht_Tabelle,16,0),99)-AX8,2)<Min_Ruhe)) -> 0 | DJ8: =IF(I$4="",0,N(ROUND(24+IFERROR(VLOOKUP(I8,Schicht_Tabelle,16,0),99)-AY8,2)<Min_Ruhe)) -> 0 | DK8: =IF(J$4="",0,N(ROUND(24+IFERROR(VLOOKUP(J8,Schicht_Tabelle,16,0),99)-AZ8,2)<Min_Ruhe)) -> 0 | ... EG8: =IF(AF$4="",0,N(ROUND(24+IFERROR(VLOOKUP(AF8,Schicht_Tabelle,16,0),99)-BV8,2)<Min_Ruhe)) -> 0
A9: =IF(Mitarbeitende!A9="","",Mitarbeitende!A9) | AH9: =IF(OR($A9="",N(Mitarbeitende!$C9)=0),"",IF(Soll_Modus="Kalendertagen",Mitarbeitende!$C9/7*COUNT($B$4:$AF$4),Mitarbeitende!$C9/5*SUM($B$43:$AF$43))) | AI9: =IF($A9="","",SUMPRODUCT(COUNTIF($B9:$AF9,Kuerzel_Liste)*Std_Liste)+SUMPRODUCT(COUNTIF($B9:$AF9,Kuerzel_Liste)*Bezahlt_Liste)*N(Mitarbeitende!$D9)) | AJ9: =IF(OR($A9="",AH9="",COUNTA($B9:$AF9)=0),"",AI9-AH9) | AK9: =IF(OR($A9="",AK$5=""),"",COUNTIF($B9:$AF9,AK$5)) | AL9: =IF(OR($A9="",AL$5=""),"",COUNTIF($B9:$AF9,AL$5)) | AM9: =IF(OR($A9="",AM$5=""),"",COUNTIF($B9:$AF9,AM$5)) | AN9: =IF(OR($A9="",AN$5=""),"",COUNTIF($B9:$AF9,AN$5)) | AO9: =IF(OR($A9="",AO$5=""),"",COUNTIF($B9:$AF9,AO$5)) | AP9: =IF($A9="","",SUMPRODUCT($B$42:$AF$42*(COUNTIF(Arbeit_Liste,$B9:$AF9)>0))) | AQ9: =IF($A9="","",IF(SUM(DC9:EG9)>0,SUM(DC9:EG9)&"x Ruhezeit","")&IF(AND(SUM(DC9:EG9)>0,MAX(BX9:DB9)>Max_Folge),", ","")&IF(MAX(BX9:DB9)>Max_Folge,MAX(BX9:DB9)&" Tage am Stück","")) | AR9: =IF(COUNTA($B9:$AF9)>0,N(AH9),0) -> 0 | AS9: =IF(B$4="",Feb!BW9,IFERROR(VLOOKUP(B9,Schicht_Tabelle,12,0),-999)) -> -999 | AT9: =IF(C$4="",AS9,IFERROR(VLOOKUP(C9,Schicht_Tabelle,12,0),-999)) -> -999 | AU9: =IF(D$4="",AT9,IFERROR(VLOOKUP(D9,Schicht_Tabelle,12,0),-999)) -> -999 | AV9: =IF(E$4="",AU9,IFERROR(VLOOKUP(E9,Schicht_Tabelle,12,0),-999)) -> -999 | AW9: =IF(F$4="",AV9,IFERROR(VLOOKUP(F9,Schicht_Tabelle,12,0),-999)) -> -999 | AX9: =IF(G$4="",AW9,IFERROR(VLOOKUP(G9,Schicht_Tabelle,12,0),-999)) -> -999 | AY9: =IF(H$4="",AX9,IFERROR(VLOOKUP(H9,Schicht_Tabelle,12,0),-999)) -> -999 | AZ9: =IF(I$4="",AY9,IFERROR(VLOOKUP(I9,Schicht_Tabelle,12,0),-999)) -> -999 | BA9: =IF(J$4="",AZ9,IFERROR(VLOOKUP(J9,Schicht_Tabelle,12,0),-999)) -> -999 | ... BW9: =IF(AF$4="",BV9,IFERROR(VLOOKUP(AF9,Schicht_Tabelle,12,0),-999)) -> -999 | BX9: =IF(B$4="",Feb!DB9,IF(IFERROR(VLOOKUP(B9,Schicht_Tabelle,13,0),0)=1,Feb!DB9+1,0)) -> 0 | BY9: =IF(C$4="",BX9,IF(IFERROR(VLOOKUP(C9,Schicht_Tabelle,13,0),0)=1,BX9+1,0)) -> 0 | BZ9: =IF(D$4="",BY9,IF(IFERROR(VLOOKUP(D9,Schicht_Tabelle,13,0),0)=1,BY9+1,0)) -> 0 | CA9: =IF(E$4="",BZ9,IF(IFERROR(VLOOKUP(E9,Schicht_Tabelle,13,0),0)=1,BZ9+1,0)) -> 0 | CB9: =IF(F$4="",CA9,IF(IFERROR(VLOOKUP(F9,Schicht_Tabelle,13,0),0)=1,CA9+1,0)) -> 0 | CC9: =IF(G$4="",CB9,IF(IFERROR(VLOOKUP(G9,Schicht_Tabelle,13,0),0)=1,CB9+1,0)) -> 0 | CD9: =IF(H$4="",CC9,IF(IFERROR(VLOOKUP(H9,Schicht_Tabelle,13,0),0)=1,CC9+1,0)) -> 0 | CE9: =IF(I$4="",CD9,IF(IFERROR(VLOOKUP(I9,Schicht_Tabelle,13,0),0)=1,CD9+1,0)) -> 0 | CF9: =IF(J$4="",CE9,IF(IFERROR(VLOOKUP(J9,Schicht_Tabelle,13,0),0)=1,CE9+1,0)) -> 0 | ... DB9: =IF(AF$4="",DA9,IF(IFERROR(VLOOKUP(AF9,Schicht_Tabelle,13,0),0)=1,DA9+1,0)) -> 0 | DC9: =IF(B$4="",0,N(ROUND(24+IFERROR(VLOOKUP(B9,Schicht_Tabelle,16,0),99)-Feb!BW9,2)<Min_Ruhe)) -> 0 | DD9: =IF(C$4="",0,N(ROUND(24+IFERROR(VLOOKUP(C9,Schicht_Tabelle,16,0),99)-AS9,2)<Min_Ruhe)) -> 0 | DE9: =IF(D$4="",0,N(ROUND(24+IFERROR(VLOOKUP(D9,Schicht_Tabelle,16,0),99)-AT9,2)<Min_Ruhe)) -> 0 | DF9: =IF(E$4="",0,N(ROUND(24+IFERROR(VLOOKUP(E9,Schicht_Tabelle,16,0),99)-AU9,2)<Min_Ruhe)) -> 0 | DG9: =IF(F$4="",0,N(ROUND(24+IFERROR(VLOOKUP(F9,Schicht_Tabelle,16,0),99)-AV9,2)<Min_Ruhe)) -> 0 | DH9: =IF(G$4="",0,N(ROUND(24+IFERROR(VLOOKUP(G9,Schicht_Tabelle,16,0),99)-AW9,2)<Min_Ruhe)) -> 0 | DI9: =IF(H$4="",0,N(ROUND(24+IFERROR(VLOOKUP(H9,Schicht_Tabelle,16,0),99)-AX9,2)<Min_Ruhe)) -> 0 | DJ9: =IF(I$4="",0,N(ROUND(24+IFERROR(VLOOKUP(I9,Schicht_Tabelle,16,0),99)-AY9,2)<Min_Ruhe)) -> 0 | DK9: =IF(J$4="",0,N(ROUND(24+IFERROR(VLOOKUP(J9,Schicht_Tabelle,16,0),99)-AZ9,2)<Min_Ruhe)) -> 0 | ... EG9: =IF(AF$4="",0,N(ROUND(24+IFERROR(VLOOKUP(AF9,Schicht_Tabelle,16,0),99)-BV9,2)<Min_Ruhe)) -> 0
A10: =IF(Mitarbeitende!A10="","",Mitarbeitende!A10) | AH10: =IF(OR($A10="",N(Mitarbeitende!$C10)=0),"",IF(Soll_Modus="Kalendertagen",Mitarbeitende!$C10/7*COUNT($B$4:$AF$4),Mitarbeitende!$C10/5*SUM($B$43:$AF$43))) | AI10: =IF($A10="","",SUMPRODUCT(COUNTIF($B10:$AF10,Kuerzel_Liste)*Std_Liste)+SUMPRODUCT(COUNTIF($B10:$AF10,Kuerzel_Liste)*Bezahlt_Liste)*N(Mitarbeitende!$D10)) | AJ10: =IF(OR($A10="",AH10="",COUNTA($B10:$AF10)=0),"",AI10-AH10) | AK10: =IF(OR($A10="",AK$5=""),"",COUNTIF($B10:$AF10,AK$5)) | AL10: =IF(OR($A10="",AL$5=""),"",COUNTIF($B10:$AF10,AL$5)) | AM10: =IF(OR($A10="",AM$5=""),"",COUNTIF($B10:$AF10,AM$5)) | AN10: =IF(OR($A10="",AN$5=""),"",COUNTIF($B10:$AF10,AN$5)) | AO10: =IF(OR($A10="",AO$5=""),"",COUNTIF($B10:$AF10,AO$5)) | AP10: =IF($A10="","",SUMPRODUCT($B$42:$AF$42*(COUNTIF(Arbeit_Liste,$B10:$AF10)>0))) | AQ10: =IF($A10="","",IF(SUM(DC10:EG10)>0,SUM(DC10:EG10)&"x Ruhezeit","")&IF(AND(SUM(DC10:EG10)>0,MAX(BX10:DB10)>Max_Folge),", ","")&IF(MAX(BX10:DB10)>Max_Folge,MAX(BX10:DB10)&" Tage am Stück","")) | AR10: =IF(COUNTA($B10:$AF10)>0,N(AH10),0) -> 0 | AS10: =IF(B$4="",Feb!BW10,IFERROR(VLOOKUP(B10,Schicht_Tabelle,12,0),-999)) -> -999 | AT10: =IF(C$4="",AS10,IFERROR(VLOOKUP(C10,Schicht_Tabelle,12,0),-999)) -> -999 | AU10: =IF(D$4="",AT10,IFERROR(VLOOKUP(D10,Schicht_Tabelle,12,0),-999)) -> -999 | AV10: =IF(E$4="",AU10,IFERROR(VLOOKUP(E10,Schicht_Tabelle,12,0),-999)) -> -999 | AW10: =IF(F$4="",AV10,IFERROR(VLOOKUP(F10,Schicht_Tabelle,12,0),-999)) -> -999 | AX10: =IF(G$4="",AW10,IFERROR(VLOOKUP(G10,Schicht_Tabelle,12,0),-999)) -> -999 | AY10: =IF(H$4="",AX10,IFERROR(VLOOKUP(H10,Schicht_Tabelle,12,0),-999)) -> -999 | AZ10: =IF(I$4="",AY10,IFERROR(VLOOKUP(I10,Schicht_Tabelle,12,0),-999)) -> -999 | BA10: =IF(J$4="",AZ10,IFERROR(VLOOKUP(J10,Schicht_Tabelle,12,0),-999)) -> -999 | ... BW10: =IF(AF$4="",BV10,IFERROR(VLOOKUP(AF10,Schicht_Tabelle,12,0),-999)) -> -999 | BX10: =IF(B$4="",Feb!DB10,IF(IFERROR(VLOOKUP(B10,Schicht_Tabelle,13,0),0)=1,Feb!DB10+1,0)) -> 0 | BY10: =IF(C$4="",BX10,IF(IFERROR(VLOOKUP(C10,Schicht_Tabelle,13,0),0)=1,BX10+1,0)) -> 0 | BZ10: =IF(D$4="",BY10,IF(IFERROR(VLOOKUP(D10,Schicht_Tabelle,13,0),0)=1,BY10+1,0)) -> 0 | CA10: =IF(E$4="",BZ10,IF(IFERROR(VLOOKUP(E10,Schicht_Tabelle,13,0),0)=1,BZ10+1,0)) -> 0 | CB10: =IF(F$4="",CA10,IF(IFERROR(VLOOKUP(F10,Schicht_Tabelle,13,0),0)=1,CA10+1,0)) -> 0 | CC10: =IF(G$4="",CB10,IF(IFERROR(VLOOKUP(G10,Schicht_Tabelle,13,0),0)=1,CB10+1,0)) -> 0 | CD10: =IF(H$4="",CC10,IF(IFERROR(VLOOKUP(H10,Schicht_Tabelle,13,0),0)=1,CC10+1,0)) -> 0 | CE10: =IF(I$4="",CD10,IF(IFERROR(VLOOKUP(I10,Schicht_Tabelle,13,0),0)=1,CD10+1,0)) -> 0 | CF10: =IF(J$4="",CE10,IF(IFERROR(VLOOKUP(J10,Schicht_Tabelle,13,0),0)=1,CE10+1,0)) -> 0 | ... DB10: =IF(AF$4="",DA10,IF(IFERROR(VLOOKUP(AF10,Schicht_Tabelle,13,0),0)=1,DA10+1,0)) -> 0 | DC10: =IF(B$4="",0,N(ROUND(24+IFERROR(VLOOKUP(B10,Schicht_Tabelle,16,0),99)-Feb!BW10,2)<Min_Ruhe)) -> 0 | DD10: =IF(C$4="",0,N(ROUND(24+IFERROR(VLOOKUP(C10,Schicht_Tabelle,16,0),99)-AS10,2)<Min_Ruhe)) -> 0 | DE10: =IF(D$4="",0,N(ROUND(24+IFERROR(VLOOKUP(D10,Schicht_Tabelle,16,0),99)-AT10,2)<Min_Ruhe)) -> 0 | DF10: =IF(E$4="",0,N(ROUND(24+IFERROR(VLOOKUP(E10,Schicht_Tabelle,16,0),99)-AU10,2)<Min_Ruhe)) -> 0 | DG10: =IF(F$4="",0,N(ROUND(24+IFERROR(VLOOKUP(F10,Schicht_Tabelle,16,0),99)-AV10,2)<Min_Ruhe)) -> 0 | DH10: =IF(G$4="",0,N(ROUND(24+IFERROR(VLOOKUP(G10,Schicht_Tabelle,16,0),99)-AW10,2)<Min_Ruhe)) -> 0 | DI10: =IF(H$4="",0,N(ROUND(24+IFERROR(VLOOKUP(H10,Schicht_Tabelle,16,0),99)-AX10,2)<Min_Ruhe)) -> 0 | DJ10: =IF(I$4="",0,N(ROUND(24+IFERROR(VLOOKUP(I10,Schicht_Tabelle,16,0),99)-AY10,2)<Min_Ruhe)) -> 0 | DK10: =IF(J$4="",0,N(ROUND(24+IFERROR(VLOOKUP(J10,Schicht_Tabelle,16,0),99)-AZ10,2)<Min_Ruhe)) -> 0 | ... EG10: =IF(AF$4="",0,N(ROUND(24+IFERROR(VLOOKUP(AF10,Schicht_Tabelle,16,0),99)-BV10,2)<Min_Ruhe)) -> 0
A11: =IF(Mitarbeitende!A11="","",Mitarbeitende!A11) | AH11: =IF(OR($A11="",N(Mitarbeitende!$C11)=0),"",IF(Soll_Modus="Kalendertagen",Mitarbeitende!$C11/7*COUNT($B$4:$AF$4),Mitarbeitende!$C11/5*SUM($B$43:$AF$43))) | AI11: =IF($A11="","",SUMPRODUCT(COUNTIF($B11:$AF11,Kuerzel_Liste)*Std_Liste)+SUMPRODUCT(COUNTIF($B11:$AF11,Kuerzel_Liste)*Bezahlt_Liste)*N(Mitarbeitende!$D11)) | AJ11: =IF(OR($A11="",AH11="",COUNTA($B11:$AF11)=0),"",AI11-AH11) | AK11: =IF(OR($A11="",AK$5=""),"",COUNTIF($B11:$AF11,AK$5)) | AL11: =IF(OR($A11="",AL$5=""),"",COUNTIF($B11:$AF11,AL$5)) | AM11: =IF(OR($A11="",AM$5=""),"",COUNTIF($B11:$AF11,AM$5)) | AN11: =IF(OR($A11="",AN$5=""),"",COUNTIF($B11:$AF11,AN$5)) | AO11: =IF(OR($A11="",AO$5=""),"",COUNTIF($B11:$AF11,AO$5)) | AP11: =IF($A11="","",SUMPRODUCT($B$42:$AF$42*(COUNTIF(Arbeit_Liste,$B11:$AF11)>0))) | AQ11: =IF($A11="","",IF(SUM(DC11:EG11)>0,SUM(DC11:EG11)&"x Ruhezeit","")&IF(AND(SUM(DC11:EG11)>0,MAX(BX11:DB11)>Max_Folge),", ","")&IF(MAX(BX11:DB11)>Max_Folge,MAX(BX11:DB11)&" Tage am Stück","")) | AR11: =IF(COUNTA($B11:$AF11)>0,N(AH11),0) -> 0 | AS11: =IF(B$4="",Feb!BW11,IFERROR(VLOOKUP(B11,Schicht_Tabelle,12,0),-999)) -> -999 | AT11: =IF(C$4="",AS11,IFERROR(VLOOKUP(C11,Schicht_Tabelle,12,0),-999)) -> -999 | AU11: =IF(D$4="",AT11,IFERROR(VLOOKUP(D11,Schicht_Tabelle,12,0),-999)) -> -999 | AV11: =IF(E$4="",AU11,IFERROR(VLOOKUP(E11,Schicht_Tabelle,12,0),-999)) -> -999 | AW11: =IF(F$4="",AV11,IFERROR(VLOOKUP(F11,Schicht_Tabelle,12,0),-999)) -> -999 | AX11: =IF(G$4="",AW11,IFERROR(VLOOKUP(G11,Schicht_Tabelle,12,0),-999)) -> -999 | AY11: =IF(H$4="",AX11,IFERROR(VLOOKUP(H11,Schicht_Tabelle,12,0),-999)) -> -999 | AZ11: =IF(I$4="",AY11,IFERROR(VLOOKUP(I11,Schicht_Tabelle,12,0),-999)) -> -999 | BA11: =IF(J$4="",AZ11,IFERROR(VLOOKUP(J11,Schicht_Tabelle,12,0),-999)) -> -999 | ... BW11: =IF(AF$4="",BV11,IFERROR(VLOOKUP(AF11,Schicht_Tabelle,12,0),-999)) -> -999 | BX11: =IF(B$4="",Feb!DB11,IF(IFERROR(VLOOKUP(B11,Schicht_Tabelle,13,0),0)=1,Feb!DB11+1,0)) -> 0 | BY11: =IF(C$4="",BX11,IF(IFERROR(VLOOKUP(C11,Schicht_Tabelle,13,0),0)=1,BX11+1,0)) -> 0 | BZ11: =IF(D$4="",BY11,IF(IFERROR(VLOOKUP(D11,Schicht_Tabelle,13,0),0)=1,BY11+1,0)) -> 0 | CA11: =IF(E$4="",BZ11,IF(IFERROR(VLOOKUP(E11,Schicht_Tabelle,13,0),0)=1,BZ11+1,0)) -> 0 | CB11: =IF(F$4="",CA11,IF(IFERROR(VLOOKUP(F11,Schicht_Tabelle,13,0),0)=1,CA11+1,0)) -> 0 | CC11: =IF(G$4="",CB11,IF(IFERROR(VLOOKUP(G11,Schicht_Tabelle,13,0),0)=1,CB11+1,0)) -> 0 | CD11: =IF(H$4="",CC11,IF(IFERROR(VLOOKUP(H11,Schicht_Tabelle,13,0),0)=1,CC11+1,0)) -> 0 | CE11: =IF(I$4="",CD11,IF(IFERROR(VLOOKUP(I11,Schicht_Tabelle,13,0),0)=1,CD11+1,0)) -> 0 | CF11: =IF(J$4="",CE11,IF(IFERROR(VLOOKUP(J11,Schicht_Tabelle,13,0),0)=1,CE11+1,0)) -> 0 | ... DB11: =IF(AF$4="",DA11,IF(IFERROR(VLOOKUP(AF11,Schicht_Tabelle,13,0),0)=1,DA11+1,0)) -> 0 | DC11: =IF(B$4="",0,N(ROUND(24+IFERROR(VLOOKUP(B11,Schicht_Tabelle,16,0),99)-Feb!BW11,2)<Min_Ruhe)) -> 0 | DD11: =IF(C$4="",0,N(ROUND(24+IFERROR(VLOOKUP(C11,Schicht_Tabelle,16,0),99)-AS11,2)<Min_Ruhe)) -> 0 | DE11: =IF(D$4="",0,N(ROUND(24+IFERROR(VLOOKUP(D11,Schicht_Tabelle,16,0),99)-AT11,2)<Min_Ruhe)) -> 0 | DF11: =IF(E$4="",0,N(ROUND(24+IFERROR(VLOOKUP(E11,Schicht_Tabelle,16,0),99)-AU11,2)<Min_Ruhe)) -> 0 | DG11: =IF(F$4="",0,N(ROUND(24+IFERROR(VLOOKUP(F11,Schicht_Tabelle,16,0),99)-AV11,2)<Min_Ruhe)) -> 0 | DH11: =IF(G$4="",0,N(ROUND(24+IFERROR(VLOOKUP(G11,Schicht_Tabelle,16,0),99)-AW11,2)<Min_Ruhe)) -> 0 | DI11: =IF(H$4="",0,N(ROUND(24+IFERROR(VLOOKUP(H11,Schicht_Tabelle,16,0),99)-AX11,2)<Min_Ruhe)) -> 0 | DJ11: =IF(I$4="",0,N(ROUND(24+IFERROR(VLOOKUP(I11,Schicht_Tabelle,16,0),99)-AY11,2)<Min_Ruhe)) -> 0 | DK11: =IF(J$4="",0,N(ROUND(24+IFERROR(VLOOKUP(J11,Schicht_Tabelle,16,0),99)-AZ11,2)<Min_Ruhe)) -> 0 | ... EG11: =IF(AF$4="",0,N(ROUND(24+IFERROR(VLOOKUP(AF11,Schicht_Tabelle,16,0),99)-BV11,2)<Min_Ruhe)) -> 0
A12: =IF(Mitarbeitende!A12="","",Mitarbeitende!A12) | AH12: =IF(OR($A12="",N(Mitarbeitende!$C12)=0),"",IF(Soll_Modus="Kalendertagen",Mitarbeitende!$C12/7*COUNT($B$4:$AF$4),Mitarbeitende!$C12/5*SUM($B$43:$AF$43))) | AI12: =IF($A12="","",SUMPRODUCT(COUNTIF($B12:$AF12,Kuerzel_Liste)*Std_Liste)+SUMPRODUCT(COUNTIF($B12:$AF12,Kuerzel_Liste)*Bezahlt_Liste)*N(Mitarbeitende!$D12)) | AJ12: =IF(OR($A12="",AH12="",COUNTA($B12:$AF12)=0),"",AI12-AH12) | AK12: =IF(OR($A12="",AK$5=""),"",COUNTIF($B12:$AF12,AK$5)) | AL12: =IF(OR($A12="",AL$5=""),"",COUNTIF($B12:$AF12,AL$5)) | AM12: =IF(OR($A12="",AM$5=""),"",COUNTIF($B12:$AF12,AM$5)) | AN12: =IF(OR($A12="",AN$5=""),"",COUNTIF($B12:$AF12,AN$5)) | AO12: =IF(OR($A12="",AO$5=""),"",COUNTIF($B12:$AF12,AO$5)) | AP12: =IF($A12="","",SUMPRODUCT($B$42:$AF$42*(COUNTIF(Arbeit_Liste,$B12:$AF12)>0))) | AQ12: =IF($A12="","",IF(SUM(DC12:EG12)>0,SUM(DC12:EG12)&"x Ruhezeit","")&IF(AND(SUM(DC12:EG12)>0,MAX(BX12:DB12)>Max_Folge),", ","")&IF(MAX(BX12:DB12)>Max_Folge,MAX(BX12:DB12)&" Tage am Stück","")) | AR12: =IF(COUNTA($B12:$AF12)>0,N(AH12),0) -> 0 | AS12: =IF(B$4="",Feb!BW12,IFERROR(VLOOKUP(B12,Schicht_Tabelle,12,0),-999)) -> -999 | AT12: =IF(C$4="",AS12,IFERROR(VLOOKUP(C12,Schicht_Tabelle,12,0),-999)) -> -999 | AU12: =IF(D$4="",AT12,IFERROR(VLOOKUP(D12,Schicht_Tabelle,12,0),-999)) -> -999 | AV12: =IF(E$4="",AU12,IFERROR(VLOOKUP(E12,Schicht_Tabelle,12,0),-999)) -> -999 | AW12: =IF(F$4="",AV12,IFERROR(VLOOKUP(F12,Schicht_Tabelle,12,0),-999)) -> -999 | AX12: =IF(G$4="",AW12,IFERROR(VLOOKUP(G12,Schicht_Tabelle,12,0),-999)) -> -999 | AY12: =IF(H$4="",AX12,IFERROR(VLOOKUP(H12,Schicht_Tabelle,12,0),-999)) -> -999 | AZ12: =IF(I$4="",AY12,IFERROR(VLOOKUP(I12,Schicht_Tabelle,12,0),-999)) -> -999 | BA12: =IF(J$4="",AZ12,IFERROR(VLOOKUP(J12,Schicht_Tabelle,12,0),-999)) -> -999 | ... BW12: =IF(AF$4="",BV12,IFERROR(VLOOKUP(AF12,Schicht_Tabelle,12,0),-999)) -> -999 | BX12: =IF(B$4="",Feb!DB12,IF(IFERROR(VLOOKUP(B12,Schicht_Tabelle,13,0),0)=1,Feb!DB12+1,0)) -> 0 | BY12: =IF(C$4="",BX12,IF(IFERROR(VLOOKUP(C12,Schicht_Tabelle,13,0),0)=1,BX12+1,0)) -> 0 | BZ12: =IF(D$4="",BY12,IF(IFERROR(VLOOKUP(D12,Schicht_Tabelle,13,0),0)=1,BY12+1,0)) -> 0 | CA12: =IF(E$4="",BZ12,IF(IFERROR(VLOOKUP(E12,Schicht_Tabelle,13,0),0)=1,BZ12+1,0)) -> 0 | CB12: =IF(F$4="",CA12,IF(IFERROR(VLOOKUP(F12,Schicht_Tabelle,13,0),0)=1,CA12+1,0)) -> 0 | CC12: =IF(G$4="",CB12,IF(IFERROR(VLOOKUP(G12,Schicht_Tabelle,13,0),0)=1,CB12+1,0)) -> 0 | CD12: =IF(H$4="",CC12,IF(IFERROR(VLOOKUP(H12,Schicht_Tabelle,13,0),0)=1,CC12+1,0)) -> 0 | CE12: =IF(I$4="",CD12,IF(IFERROR(VLOOKUP(I12,Schicht_Tabelle,13,0),0)=1,CD12+1,0)) -> 0 | CF12: =IF(J$4="",CE12,IF(IFERROR(VLOOKUP(J12,Schicht_Tabelle,13,0),0)=1,CE12+1,0)) -> 0 | ... DB12: =IF(AF$4="",DA12,IF(IFERROR(VLOOKUP(AF12,Schicht_Tabelle,13,0),0)=1,DA12+1,0)) -> 0 | DC12: =IF(B$4="",0,N(ROUND(24+IFERROR(VLOOKUP(B12,Schicht_Tabelle,16,0),99)-Feb!BW12,2)<Min_Ruhe)) -> 0 | DD12: =IF(C$4="",0,N(ROUND(24+IFERROR(VLOOKUP(C12,Schicht_Tabelle,16,0),99)-AS12,2)<Min_Ruhe)) -> 0 | DE12: =IF(D$4="",0,N(ROUND(24+IFERROR(VLOOKUP(D12,Schicht_Tabelle,16,0),99)-AT12,2)<Min_Ruhe)) -> 0 | DF12: =IF(E$4="",0,N(ROUND(24+IFERROR(VLOOKUP(E12,Schicht_Tabelle,16,0),99)-AU12,2)<Min_Ruhe)) -> 0 | DG12: =IF(F$4="",0,N(ROUND(24+IFERROR(VLOOKUP(F12,Schicht_Tabelle,16,0),99)-AV12,2)<Min_Ruhe)) -> 0 | DH12: =IF(G$4="",0,N(ROUND(24+IFERROR(VLOOKUP(G12,Schicht_Tabelle,16,0),99)-AW12,2)<Min_Ruhe)) -> 0 | DI12: =IF(H$4="",0,N(ROUND(24+IFERROR(VLOOKUP(H12,Schicht_Tabelle,16,0),99)-AX12,2)<Min_Ruhe)) -> 0 | DJ12: =IF(I$4="",0,N(ROUND(24+IFERROR(VLOOKUP(I12,Schicht_Tabelle,16,0),99)-AY12,2)<Min_Ruhe)) -> 0 | DK12: =IF(J$4="",0,N(ROUND(24+IFERROR(VLOOKUP(J12,Schicht_Tabelle,16,0),99)-AZ12,2)<Min_Ruhe)) -> 0 | ... EG12: =IF(AF$4="",0,N(ROUND(24+IFERROR(VLOOKUP(AF12,Schicht_Tabelle,16,0),99)-BV12,2)<Min_Ruhe)) -> 0
A13: =IF(Mitarbeitende!A13="","",Mitarbeitende!A13) | AH13: =IF(OR($A13="",N(Mitarbeitende!$C13)=0),"",IF(Soll_Modus="Kalendertagen",Mitarbeitende!$C13/7*COUNT($B$4:$AF$4),Mitarbeitende!$C13/5*SUM($B$43:$AF$43))) | AI13: =IF($A13="","",SUMPRODUCT(COUNTIF($B13:$AF13,Kuerzel_Liste)*Std_Liste)+SUMPRODUCT(COUNTIF($B13:$AF13,Kuerzel_Liste)*Bezahlt_Liste)*N(Mitarbeitende!$D13)) | AJ13: =IF(OR($A13="",AH13="",COUNTA($B13:$AF13)=0),"",AI13-AH13) | AK13: =IF(OR($A13="",AK$5=""),"",COUNTIF($B13:$AF13,AK$5)) | AL13: =IF(OR($A13="",AL$5=""),"",COUNTIF($B13:$AF13,AL$5)) | AM13: =IF(OR($A13="",AM$5=""),"",COUNTIF($B13:$AF13,AM$5)) | AN13: =IF(OR($A13="",AN$5=""),"",COUNTIF($B13:$AF13,AN$5)) | AO13: =IF(OR($A13="",AO$5=""),"",COUNTIF($B13:$AF13,AO$5)) | AP13: =IF($A13="","",SUMPRODUCT($B$42:$AF$42*(COUNTIF(Arbeit_Liste,$B13:$AF13)>0))) | AQ13: =IF($A13="","",IF(SUM(DC13:EG13)>0,SUM(DC13:EG13)&"x Ruhezeit","")&IF(AND(SUM(DC13:EG13)>0,MAX(BX13:DB13)>Max_Folge),", ","")&IF(MAX(BX13:DB13)>Max_Folge,MAX(BX13:DB13)&" Tage am Stück","")) | AR13: =IF(COUNTA($B13:$AF13)>0,N(AH13),0) -> 0 | AS13: =IF(B$4="",Feb!BW13,IFERROR(VLOOKUP(B13,Schicht_Tabelle,12,0),-999)) -> -999 | AT13: =IF(C$4="",AS13,IFERROR(VLOOKUP(C13,Schicht_Tabelle,12,0),-999)) -> -999 | AU13: =IF(D$4="",AT13,IFERROR(VLOOKUP(D13,Schicht_Tabelle,12,0),-999)) -> -999 | AV13: =IF(E$4="",AU13,IFERROR(VLOOKUP(E13,Schicht_Tabelle,12,0),-999)) -> -999 | AW13: =IF(F$4="",AV13,IFERROR(VLOOKUP(F13,Schicht_Tabelle,12,0),-999)) -> -999 | AX13: =IF(G$4="",AW13,IFERROR(VLOOKUP(G13,Schicht_Tabelle,12,0),-999)) -> -999 | AY13: =IF(H$4="",AX13,IFERROR(VLOOKUP(H13,Schicht_Tabelle,12,0),-999)) -> -999 | AZ13: =IF(I$4="",AY13,IFERROR(VLOOKUP(I13,Schicht_Tabelle,12,0),-999)) -> -999 | BA13: =IF(J$4="",AZ13,IFERROR(VLOOKUP(J13,Schicht_Tabelle,12,0),-999)) -> -999 | ... BW13: =IF(AF$4="",BV13,IFERROR(VLOOKUP(AF13,Schicht_Tabelle,12,0),-999)) -> -999 | BX13: =IF(B$4="",Feb!DB13,IF(IFERROR(VLOOKUP(B13,Schicht_Tabelle,13,0),0)=1,Feb!DB13+1,0)) -> 0 | BY13: =IF(C$4="",BX13,IF(IFERROR(VLOOKUP(C13,Schicht_Tabelle,13,0),0)=1,BX13+1,0)) -> 0 | BZ13: =IF(D$4="",BY13,IF(IFERROR(VLOOKUP(D13,Schicht_Tabelle,13,0),0)=1,BY13+1,0)) -> 0 | CA13: =IF(E$4="",BZ13,IF(IFERROR(VLOOKUP(E13,Schicht_Tabelle,13,0),0)=1,BZ13+1,0)) -> 0 | CB13: =IF(F$4="",CA13,IF(IFERROR(VLOOKUP(F13,Schicht_Tabelle,13,0),0)=1,CA13+1,0)) -> 0 | CC13: =IF(G$4="",CB13,IF(IFERROR(VLOOKUP(G13,Schicht_Tabelle,13,0),0)=1,CB13+1,0)) -> 0 | CD13: =IF(H$4="",CC13,IF(IFERROR(VLOOKUP(H13,Schicht_Tabelle,13,0),0)=1,CC13+1,0)) -> 0 | CE13: =IF(I$4="",CD13,IF(IFERROR(VLOOKUP(I13,Schicht_Tabelle,13,0),0)=1,CD13+1,0)) -> 0 | CF13: =IF(J$4="",CE13,IF(IFERROR(VLOOKUP(J13,Schicht_Tabelle,13,0),0)=1,CE13+1,0)) -> 0 | ... DB13: =IF(AF$4="",DA13,IF(IFERROR(VLOOKUP(AF13,Schicht_Tabelle,13,0),0)=1,DA13+1,0)) -> 0 | DC13: =IF(B$4="",0,N(ROUND(24+IFERROR(VLOOKUP(B13,Schicht_Tabelle,16,0),99)-Feb!BW13,2)<Min_Ruhe)) -> 0 | DD13: =IF(C$4="",0,N(ROUND(24+IFERROR(VLOOKUP(C13,Schicht_Tabelle,16,0),99)-AS13,2)<Min_Ruhe)) -> 0 | DE13: =IF(D$4="",0,N(ROUND(24+IFERROR(VLOOKUP(D13,Schicht_Tabelle,16,0),99)-AT13,2)<Min_Ruhe)) -> 0 | DF13: =IF(E$4="",0,N(ROUND(24+IFERROR(VLOOKUP(E13,Schicht_Tabelle,16,0),99)-AU13,2)<Min_Ruhe)) -> 0 | DG13: =IF(F$4="",0,N(ROUND(24+IFERROR(VLOOKUP(F13,Schicht_Tabelle,16,0),99)-AV13,2)<Min_Ruhe)) -> 0 | DH13: =IF(G$4="",0,N(ROUND(24+IFERROR(VLOOKUP(G13,Schicht_Tabelle,16,0),99)-AW13,2)<Min_Ruhe)) -> 0 | DI13: =IF(H$4="",0,N(ROUND(24+IFERROR(VLOOKUP(H13,Schicht_Tabelle,16,0),99)-AX13,2)<Min_Ruhe)) -> 0 | DJ13: =IF(I$4="",0,N(ROUND(24+IFERROR(VLOOKUP(I13,Schicht_Tabelle,16,0),99)-AY13,2)<Min_Ruhe)) -> 0 | DK13: =IF(J$4="",0,N(ROUND(24+IFERROR(VLOOKUP(J13,Schicht_Tabelle,16,0),99)-AZ13,2)<Min_Ruhe)) -> 0 | ... EG13: =IF(AF$4="",0,N(ROUND(24+IFERROR(VLOOKUP(AF13,Schicht_Tabelle,16,0),99)-BV13,2)<Min_Ruhe)) -> 0
A14: =IF(Mitarbeitende!A14="","",Mitarbeitende!A14) | AH14: =IF(OR($A14="",N(Mitarbeitende!$C14)=0),"",IF(Soll_Modus="Kalendertagen",Mitarbeitende!$C14/7*COUNT($B$4:$AF$4),Mitarbeitende!$C14/5*SUM($B$43:$AF$43))) | AI14: =IF($A14="","",SUMPRODUCT(COUNTIF($B14:$AF14,Kuerzel_Liste)*Std_Liste)+SUMPRODUCT(COUNTIF($B14:$AF14,Kuerzel_Liste)*Bezahlt_Liste)*N(Mitarbeitende!$D14)) | AJ14: =IF(OR($A14="",AH14="",COUNTA($B14:$AF14)=0),"",AI14-AH14) | AK14: =IF(OR($A14="",AK$5=""),"",COUNTIF($B14:$AF14,AK$5)) | AL14: =IF(OR($A14="",AL$5=""),"",COUNTIF($B14:$AF14,AL$5)) | AM14: =IF(OR($A14="",AM$5=""),"",COUNTIF($B14:$AF14,AM$5)) | AN14: =IF(OR($A14="",AN$5=""),"",COUNTIF($B14:$AF14,AN$5)) | AO14: =IF(OR($A14="",AO$5=""),"",COUNTIF($B14:$AF14,AO$5)) | AP14: =IF($A14="","",SUMPRODUCT($B$42:$AF$42*(COUNTIF(Arbeit_Liste,$B14:$AF14)>0))) | AQ14: =IF($A14="","",IF(SUM(DC14:EG14)>0,SUM(DC14:EG14)&"x Ruhezeit","")&IF(AND(SUM(DC14:EG14)>0,MAX(BX14:DB14)>Max_Folge),", ","")&IF(MAX(BX14:DB14)>Max_Folge,MAX(BX14:DB14)&" Tage am Stück","")) | AR14: =IF(COUNTA($B14:$AF14)>0,N(AH14),0) -> 0 | AS14: =IF(B$4="",Feb!BW14,IFERROR(VLOOKUP(B14,Schicht_Tabelle,12,0),-999)) -> -999 | AT14: =IF(C$4="",AS14,IFERROR(VLOOKUP(C14,Schicht_Tabelle,12,0),-999)) -> -999 | AU14: =IF(D$4="",AT14,IFERROR(VLOOKUP(D14,Schicht_Tabelle,12,0),-999)) -> -999 | AV14: =IF(E$4="",AU14,IFERROR(VLOOKUP(E14,Schicht_Tabelle,12,0),-999)) -> -999 | AW14: =IF(F$4="",AV14,IFERROR(VLOOKUP(F14,Schicht_Tabelle,12,0),-999)) -> -999 | AX14: =IF(G$4="",AW14,IFERROR(VLOOKUP(G14,Schicht_Tabelle,12,0),-999)) -> -999 | AY14: =IF(H$4="",AX14,IFERROR(VLOOKUP(H14,Schicht_Tabelle,12,0),-999)) -> -999 | AZ14: =IF(I$4="",AY14,IFERROR(VLOOKUP(I14,Schicht_Tabelle,12,0),-999)) -> -999 | BA14: =IF(J$4="",AZ14,IFERROR(VLOOKUP(J14,Schicht_Tabelle,12,0),-999)) -> -999 | ... BW14: =IF(AF$4="",BV14,IFERROR(VLOOKUP(AF14,Schicht_Tabelle,12,0),-999)) -> -999 | BX14: =IF(B$4="",Feb!DB14,IF(IFERROR(VLOOKUP(B14,Schicht_Tabelle,13,0),0)=1,Feb!DB14+1,0)) -> 0 | BY14: =IF(C$4="",BX14,IF(IFERROR(VLOOKUP(C14,Schicht_Tabelle,13,0),0)=1,BX14+1,0)) -> 0 | BZ14: =IF(D$4="",BY14,IF(IFERROR(VLOOKUP(D14,Schicht_Tabelle,13,0),0)=1,BY14+1,0)) -> 0 | CA14: =IF(E$4="",BZ14,IF(IFERROR(VLOOKUP(E14,Schicht_Tabelle,13,0),0)=1,BZ14+1,0)) -> 0 | CB14: =IF(F$4="",CA14,IF(IFERROR(VLOOKUP(F14,Schicht_Tabelle,13,0),0)=1,CA14+1,0)) -> 0 | CC14: =IF(G$4="",CB14,IF(IFERROR(VLOOKUP(G14,Schicht_Tabelle,13,0),0)=1,CB14+1,0)) -> 0 | CD14: =IF(H$4="",CC14,IF(IFERROR(VLOOKUP(H14,Schicht_Tabelle,13,0),0)=1,CC14+1,0)) -> 0 | CE14: =IF(I$4="",CD14,IF(IFERROR(VLOOKUP(I14,Schicht_Tabelle,13,0),0)=1,CD14+1,0)) -> 0 | CF14: =IF(J$4="",CE14,IF(IFERROR(VLOOKUP(J14,Schicht_Tabelle,13,0),0)=1,CE14+1,0)) -> 0 | ... DB14: =IF(AF$4="",DA14,IF(IFERROR(VLOOKUP(AF14,Schicht_Tabelle,13,0),0)=1,DA14+1,0)) -> 0 | DC14: =IF(B$4="",0,N(ROUND(24+IFERROR(VLOOKUP(B14,Schicht_Tabelle,16,0),99)-Feb!BW14,2)<Min_Ruhe)) -> 0 | DD14: =IF(C$4="",0,N(ROUND(24+IFERROR(VLOOKUP(C14,Schicht_Tabelle,16,0),99)-AS14,2)<Min_Ruhe)) -> 0 | DE14: =IF(D$4="",0,N(ROUND(24+IFERROR(VLOOKUP(D14,Schicht_Tabelle,16,0),99)-AT14,2)<Min_Ruhe)) -> 0 | DF14: =IF(E$4="",0,N(ROUND(24+IFERROR(VLOOKUP(E14,Schicht_Tabelle,16,0),99)-AU14,2)<Min_Ruhe)) -> 0 | DG14: =IF(F$4="",0,N(ROUND(24+IFERROR(VLOOKUP(F14,Schicht_Tabelle,16,0),99)-AV14,2)<Min_Ruhe)) -> 0 | DH14: =IF(G$4="",0,N(ROUND(24+IFERROR(VLOOKUP(G14,Schicht_Tabelle,16,0),99)-AW14,2)<Min_Ruhe)) -> 0 | DI14: =IF(H$4="",0,N(ROUND(24+IFERROR(VLOOKUP(H14,Schicht_Tabelle,16,0),99)-AX14,2)<Min_Ruhe)) -> 0 | DJ14: =IF(I$4="",0,N(ROUND(24+IFERROR(VLOOKUP(I14,Schicht_Tabelle,16,0),99)-AY14,2)<Min_Ruhe)) -> 0 | DK14: =IF(J$4="",0,N(ROUND(24+IFERROR(VLOOKUP(J14,Schicht_Tabelle,16,0),99)-AZ14,2)<Min_Ruhe)) -> 0 | ... EG14: =IF(AF$4="",0,N(ROUND(24+IFERROR(VLOOKUP(AF14,Schicht_Tabelle,16,0),99)-BV14,2)<Min_Ruhe)) -> 0
A15: =IF(Mitarbeitende!A15="","",Mitarbeitende!A15) | AH15: =IF(OR($A15="",N(Mitarbeitende!$C15)=0),"",IF(Soll_Modus="Kalendertagen",Mitarbeitende!$C15/7*COUNT($B$4:$AF$4),Mitarbeitende!$C15/5*SUM($B$43:$AF$43))) | AI15: =IF($A15="","",SUMPRODUCT(COUNTIF($B15:$AF15,Kuerzel_Liste)*Std_Liste)+SUMPRODUCT(COUNTIF($B15:$AF15,Kuerzel_Liste)*Bezahlt_Liste)*N(Mitarbeitende!$D15)) | AJ15: =IF(OR($A15="",AH15="",COUNTA($B15:$AF15)=0),"",AI15-AH15) | AK15: =IF(OR($A15="",AK$5=""),"",COUNTIF($B15:$AF15,AK$5)) | AL15: =IF(OR($A15="",AL$5=""),"",COUNTIF($B15:$AF15,AL$5)) | AM15: =IF(OR($A15="",AM$5=""),"",COUNTIF($B15:$AF15,AM$5)) | AN15: =IF(OR($A15="",AN$5=""),"",COUNTIF($B15:$AF15,AN$5)) | AO15: =IF(OR($A15="",AO$5=""),"",COUNTIF($B15:$AF15,AO$5)) | AP15: =IF($A15="","",SUMPRODUCT($B$42:$AF$42*(COUNTIF(Arbeit_Liste,$B15:$AF15)>0))) | AQ15: =IF($A15="","",IF(SUM(DC15:EG15)>0,SUM(DC15:EG15)&"x Ruhezeit","")&IF(AND(SUM(DC15:EG15)>0,MAX(BX15:DB15)>Max_Folge),", ","")&IF(MAX(BX15:DB15)>Max_Folge,MAX(BX15:DB15)&" Tage am Stück","")) | AR15: =IF(COUNTA($B15:$AF15)>0,N(AH15),0) -> 0 | AS15: =IF(B$4="",Feb!BW15,IFERROR(VLOOKUP(B15,Schicht_Tabelle,12,0),-999)) -> -999 | AT15: =IF(C$4="",AS15,IFERROR(VLOOKUP(C15,Schicht_Tabelle,12,0),-999)) -> -999 | AU15: =IF(D$4="",AT15,IFERROR(VLOOKUP(D15,Schicht_Tabelle,12,0),-999)) -> -999 | AV15: =IF(E$4="",AU15,IFERROR(VLOOKUP(E15,Schicht_Tabelle,12,0),-999)) -> -999 | AW15: =IF(F$4="",AV15,IFERROR(VLOOKUP(F15,Schicht_Tabelle,12,0),-999)) -> -999 | AX15: =IF(G$4="",AW15,IFERROR(VLOOKUP(G15,Schicht_Tabelle,12,0),-999)) -> -999 | AY15: =IF(H$4="",AX15,IFERROR(VLOOKUP(H15,Schicht_Tabelle,12,0),-999)) -> -999 | AZ15: =IF(I$4="",AY15,IFERROR(VLOOKUP(I15,Schicht_Tabelle,12,0),-999)) -> -999 | BA15: =IF(J$4="",AZ15,IFERROR(VLOOKUP(J15,Schicht_Tabelle,12,0),-999)) -> -999 | ... BW15: =IF(AF$4="",BV15,IFERROR(VLOOKUP(AF15,Schicht_Tabelle,12,0),-999)) -> -999 | BX15: =IF(B$4="",Feb!DB15,IF(IFERROR(VLOOKUP(B15,Schicht_Tabelle,13,0),0)=1,Feb!DB15+1,0)) -> 0 | BY15: =IF(C$4="",BX15,IF(IFERROR(VLOOKUP(C15,Schicht_Tabelle,13,0),0)=1,BX15+1,0)) -> 0 | BZ15: =IF(D$4="",BY15,IF(IFERROR(VLOOKUP(D15,Schicht_Tabelle,13,0),0)=1,BY15+1,0)) -> 0 | CA15: =IF(E$4="",BZ15,IF(IFERROR(VLOOKUP(E15,Schicht_Tabelle,13,0),0)=1,BZ15+1,0)) -> 0 | CB15: =IF(F$4="",CA15,IF(IFERROR(VLOOKUP(F15,Schicht_Tabelle,13,0),0)=1,CA15+1,0)) -> 0 | CC15: =IF(G$4="",CB15,IF(IFERROR(VLOOKUP(G15,Schicht_Tabelle,13,0),0)=1,CB15+1,0)) -> 0 | CD15: =IF(H$4="",CC15,IF(IFERROR(VLOOKUP(H15,Schicht_Tabelle,13,0),0)=1,CC15+1,0)) -> 0 | CE15: =IF(I$4="",CD15,IF(IFERROR(VLOOKUP(I15,Schicht_Tabelle,13,0),0)=1,CD15+1,0)) -> 0 | CF15: =IF(J$4="",CE15,IF(IFERROR(VLOOKUP(J15,Schicht_Tabelle,13,0),0)=1,CE15+1,0)) -> 0 | ... DB15: =IF(AF$4="",DA15,IF(IFERROR(VLOOKUP(AF15,Schicht_Tabelle,13,0),0)=1,DA15+1,0)) -> 0 | DC15: =IF(B$4="",0,N(ROUND(24+IFERROR(VLOOKUP(B15,Schicht_Tabelle,16,0),99)-Feb!BW15,2)<Min_Ruhe)) -> 0 | DD15: =IF(C$4="",0,N(ROUND(24+IFERROR(VLOOKUP(C15,Schicht_Tabelle,16,0),99)-AS15,2)<Min_Ruhe)) -> 0 | DE15: =IF(D$4="",0,N(ROUND(24+IFERROR(VLOOKUP(D15,Schicht_Tabelle,16,0),99)-AT15,2)<Min_Ruhe)) -> 0 | DF15: =IF(E$4="",0,N(ROUND(24+IFERROR(VLOOKUP(E15,Schicht_Tabelle,16,0),99)-AU15,2)<Min_Ruhe)) -> 0 | DG15: =IF(F$4="",0,N(ROUND(24+IFERROR(VLOOKUP(F15,Schicht_Tabelle,16,0),99)-AV15,2)<Min_Ruhe)) -> 0 | DH15: =IF(G$4="",0,N(ROUND(24+IFERROR(VLOOKUP(G15,Schicht_Tabelle,16,0),99)-AW15,2)<Min_Ruhe)) -> 0 | DI15: =IF(H$4="",0,N(ROUND(24+IFERROR(VLOOKUP(H15,Schicht_Tabelle,16,0),99)-AX15,2)<Min_Ruhe)) -> 0 | DJ15: =IF(I$4="",0,N(ROUND(24+IFERROR(VLOOKUP(I15,Schicht_Tabelle,16,0),99)-AY15,2)<Min_Ruhe)) -> 0 | DK15: =IF(J$4="",0,N(ROUND(24+IFERROR(VLOOKUP(J15,Schicht_Tabelle,16,0),99)-AZ15,2)<Min_Ruhe)) -> 0 | ... EG15: =IF(AF$4="",0,N(ROUND(24+IFERROR(VLOOKUP(AF15,Schicht_Tabelle,16,0),99)-BV15,2)<Min_Ruhe)) -> 0
A16: =IF(Mitarbeitende!A16="","",Mitarbeitende!A16) | AH16: =IF(OR($A16="",N(Mitarbeitende!$C16)=0),"",IF(Soll_Modus="Kalendertagen",Mitarbeitende!$C16/7*COUNT($B$4:$AF$4),Mitarbeitende!$C16/5*SUM($B$43:$AF$43))) | AI16: =IF($A16="","",SUMPRODUCT(COUNTIF($B16:$AF16,Kuerzel_Liste)*Std_Liste)+SUMPRODUCT(COUNTIF($B16:$AF16,Kuerzel_Liste)*Bezahlt_Liste)*N(Mitarbeitende!$D16)) | AJ16: =IF(OR($A16="",AH16="",COUNTA($B16:$AF16)=0),"",AI16-AH16) | AK16: =IF(OR($A16="",AK$5=""),"",COUNTIF($B16:$AF16,AK$5)) | AL16: =IF(OR($A16="",AL$5=""),"",COUNTIF($B16:$AF16,AL$5)) | AM16: =IF(OR($A16="",AM$5=""),"",COUNTIF($B16:$AF16,AM$5)) | AN16: =IF(OR($A16="",AN$5=""),"",COUNTIF($B16:$AF16,AN$5)) | AO16: =IF(OR($A16="",AO$5=""),"",COUNTIF($B16:$AF16,AO$5)) | AP16: =IF($A16="","",SUMPRODUCT($B$42:$AF$42*(COUNTIF(Arbeit_Liste,$B16:$AF16)>0))) | AQ16: =IF($A16="","",IF(SUM(DC16:EG16)>0,SUM(DC16:EG16)&"x Ruhezeit","")&IF(AND(SUM(DC16:EG16)>0,MAX(BX16:DB16)>Max_Folge),", ","")&IF(MAX(BX16:DB16)>Max_Folge,MAX(BX16:DB16)&" Tage am Stück","")) | AR16: =IF(COUNTA($B16:$AF16)>0,N(AH16),0) -> 0 | AS16: =IF(B$4="",Feb!BW16,IFERROR(VLOOKUP(B16,Schicht_Tabelle,12,0),-999)) -> -999 | AT16: =IF(C$4="",AS16,IFERROR(VLOOKUP(C16,Schicht_Tabelle,12,0),-999)) -> -999 | AU16: =IF(D$4="",AT16,IFERROR(VLOOKUP(D16,Schicht_Tabelle,12,0),-999)) -> -999 | AV16: =IF(E$4="",AU16,IFERROR(VLOOKUP(E16,Schicht_Tabelle,12,0),-999)) -> -999 | AW16: =IF(F$4="",AV16,IFERROR(VLOOKUP(F16,Schicht_Tabelle,12,0),-999)) -> -999 | AX16: =IF(G$4="",AW16,IFERROR(VLOOKUP(G16,Schicht_Tabelle,12,0),-999)) -> -999 | AY16: =IF(H$4="",AX16,IFERROR(VLOOKUP(H16,Schicht_Tabelle,12,0),-999)) -> -999 | AZ16: =IF(I$4="",AY16,IFERROR(VLOOKUP(I16,Schicht_Tabelle,12,0),-999)) -> -999 | BA16: =IF(J$4="",AZ16,IFERROR(VLOOKUP(J16,Schicht_Tabelle,12,0),-999)) -> -999 | ... BW16: =IF(AF$4="",BV16,IFERROR(VLOOKUP(AF16,Schicht_Tabelle,12,0),-999)) -> -999 | BX16: =IF(B$4="",Feb!DB16,IF(IFERROR(VLOOKUP(B16,Schicht_Tabelle,13,0),0)=1,Feb!DB16+1,0)) -> 0 | BY16: =IF(C$4="",BX16,IF(IFERROR(VLOOKUP(C16,Schicht_Tabelle,13,0),0)=1,BX16+1,0)) -> 0 | BZ16: =IF(D$4="",BY16,IF(IFERROR(VLOOKUP(D16,Schicht_Tabelle,13,0),0)=1,BY16+1,0)) -> 0 | CA16: =IF(E$4="",BZ16,IF(IFERROR(VLOOKUP(E16,Schicht_Tabelle,13,0),0)=1,BZ16+1,0)) -> 0 | CB16: =IF(F$4="",CA16,IF(IFERROR(VLOOKUP(F16,Schicht_Tabelle,13,0),0)=1,CA16+1,0)) -> 0 | CC16: =IF(G$4="",CB16,IF(IFERROR(VLOOKUP(G16,Schicht_Tabelle,13,0),0)=1,CB16+1,0)) -> 0 | CD16: =IF(H$4="",CC16,IF(IFERROR(VLOOKUP(H16,Schicht_Tabelle,13,0),0)=1,CC16+1,0)) -> 0 | CE16: =IF(I$4="",CD16,IF(IFERROR(VLOOKUP(I16,Schicht_Tabelle,13,0),0)=1,CD16+1,0)) -> 0 | CF16: =IF(J$4="",CE16,IF(IFERROR(VLOOKUP(J16,Schicht_Tabelle,13,0),0)=1,CE16+1,0)) -> 0 | ... DB16: =IF(AF$4="",DA16,IF(IFERROR(VLOOKUP(AF16,Schicht_Tabelle,13,0),0)=1,DA16+1,0)) -> 0 | DC16: =IF(B$4="",0,N(ROUND(24+IFERROR(VLOOKUP(B16,Schicht_Tabelle,16,0),99)-Feb!BW16,2)<Min_Ruhe)) -> 0 | DD16: =IF(C$4="",0,N(ROUND(24+IFERROR(VLOOKUP(C16,Schicht_Tabelle,16,0),99)-AS16,2)<Min_Ruhe)) -> 0 | DE16: =IF(D$4="",0,N(ROUND(24+IFERROR(VLOOKUP(D16,Schicht_Tabelle,16,0),99)-AT16,2)<Min_Ruhe)) -> 0 | DF16: =IF(E$4="",0,N(ROUND(24+IFERROR(VLOOKUP(E16,Schicht_Tabelle,16,0),99)-AU16,2)<Min_Ruhe)) -> 0 | DG16: =IF(F$4="",0,N(ROUND(24+IFERROR(VLOOKUP(F16,Schicht_Tabelle,16,0),99)-AV16,2)<Min_Ruhe)) -> 0 | DH16: =IF(G$4="",0,N(ROUND(24+IFERROR(VLOOKUP(G16,Schicht_Tabelle,16,0),99)-AW16,2)<Min_Ruhe)) -> 0 | DI16: =IF(H$4="",0,N(ROUND(24+IFERROR(VLOOKUP(H16,Schicht_Tabelle,16,0),99)-AX16,2)<Min_Ruhe)) -> 0 | DJ16: =IF(I$4="",0,N(ROUND(24+IFERROR(VLOOKUP(I16,Schicht_Tabelle,16,0),99)-AY16,2)<Min_Ruhe)) -> 0 | DK16: =IF(J$4="",0,N(ROUND(24+IFERROR(VLOOKUP(J16,Schicht_Tabelle,16,0),99)-AZ16,2)<Min_Ruhe)) -> 0 | ... EG16: =IF(AF$4="",0,N(ROUND(24+IFERROR(VLOOKUP(AF16,Schicht_Tabelle,16,0),99)-BV16,2)<Min_Ruhe)) -> 0
A17: =IF(Mitarbeitende!A17="","",Mitarbeitende!A17) | AH17: =IF(OR($A17="",N(Mitarbeitende!$C17)=0),"",IF(Soll_Modus="Kalendertagen",Mitarbeitende!$C17/7*COUNT($B$4:$AF$4),Mitarbeitende!$C17/5*SUM($B$43:$AF$43))) | AI17: =IF($A17="","",SUMPRODUCT(COUNTIF($B17:$AF17,Kuerzel_Liste)*Std_Liste)+SUMPRODUCT(COUNTIF($B17:$AF17,Kuerzel_Liste)*Bezahlt_Liste)*N(Mitarbeitende!$D17)) | AJ17: =IF(OR($A17="",AH17="",COUNTA($B17:$AF17)=0),"",AI17-AH17) | AK17: =IF(OR($A17="",AK$5=""),"",COUNTIF($B17:$AF17,AK$5)) | AL17: =IF(OR($A17="",AL$5=""),"",COUNTIF($B17:$AF17,AL$5)) | AM17: =IF(OR($A17="",AM$5=""),"",COUNTIF($B17:$AF17,AM$5)) | AN17: =IF(OR($A17="",AN$5=""),"",COUNTIF($B17:$AF17,AN$5)) | AO17: =IF(OR($A17="",AO$5=""),"",COUNTIF($B17:$AF17,AO$5)) | AP17: =IF($A17="","",SUMPRODUCT($B$42:$AF$42*(COUNTIF(Arbeit_Liste,$B17:$AF17)>0))) | AQ17: =IF($A17="","",IF(SUM(DC17:EG17)>0,SUM(DC17:EG17)&"x Ruhezeit","")&IF(AND(SUM(DC17:EG17)>0,MAX(BX17:DB17)>Max_Folge),", ","")&IF(MAX(BX17:DB17)>Max_Folge,MAX(BX17:DB17)&" Tage am Stück","")) | AR17: =IF(COUNTA($B17:$AF17)>0,N(AH17),0) -> 0 | AS17: =IF(B$4="",Feb!BW17,IFERROR(VLOOKUP(B17,Schicht_Tabelle,12,0),-999)) -> -999 | AT17: =IF(C$4="",AS17,IFERROR(VLOOKUP(C17,Schicht_Tabelle,12,0),-999)) -> -999 | AU17: =IF(D$4="",AT17,IFERROR(VLOOKUP(D17,Schicht_Tabelle,12,0),-999)) -> -999 | AV17: =IF(E$4="",AU17,IFERROR(VLOOKUP(E17,Schicht_Tabelle,12,0),-999)) -> -999 | AW17: =IF(F$4="",AV17,IFERROR(VLOOKUP(F17,Schicht_Tabelle,12,0),-999)) -> -999 | AX17: =IF(G$4="",AW17,IFERROR(VLOOKUP(G17,Schicht_Tabelle,12,0),-999)) -> -999 | AY17: =IF(H$4="",AX17,IFERROR(VLOOKUP(H17,Schicht_Tabelle,12,0),-999)) -> -999 | AZ17: =IF(I$4="",AY17,IFERROR(VLOOKUP(I17,Schicht_Tabelle,12,0),-999)) -> -999 | BA17: =IF(J$4="",AZ17,IFERROR(VLOOKUP(J17,Schicht_Tabelle,12,0),-999)) -> -999 | ... BW17: =IF(AF$4="",BV17,IFERROR(VLOOKUP(AF17,Schicht_Tabelle,12,0),-999)) -> -999 | BX17: =IF(B$4="",Feb!DB17,IF(IFERROR(VLOOKUP(B17,Schicht_Tabelle,13,0),0)=1,Feb!DB17+1,0)) -> 0 | BY17: =IF(C$4="",BX17,IF(IFERROR(VLOOKUP(C17,Schicht_Tabelle,13,0),0)=1,BX17+1,0)) -> 0 | BZ17: =IF(D$4="",BY17,IF(IFERROR(VLOOKUP(D17,Schicht_Tabelle,13,0),0)=1,BY17+1,0)) -> 0 | CA17: =IF(E$4="",BZ17,IF(IFERROR(VLOOKUP(E17,Schicht_Tabelle,13,0),0)=1,BZ17+1,0)) -> 0 | CB17: =IF(F$4="",CA17,IF(IFERROR(VLOOKUP(F17,Schicht_Tabelle,13,0),0)=1,CA17+1,0)) -> 0 | CC17: =IF(G$4="",CB17,IF(IFERROR(VLOOKUP(G17,Schicht_Tabelle,13,0),0)=1,CB17+1,0)) -> 0 | CD17: =IF(H$4="",CC17,IF(IFERROR(VLOOKUP(H17,Schicht_Tabelle,13,0),0)=1,CC17+1,0)) -> 0 | CE17: =IF(I$4="",CD17,IF(IFERROR(VLOOKUP(I17,Schicht_Tabelle,13,0),0)=1,CD17+1,0)) -> 0 | CF17: =IF(J$4="",CE17,IF(IFERROR(VLOOKUP(J17,Schicht_Tabelle,13,0),0)=1,CE17+1,0)) -> 0 | ... DB17: =IF(AF$4="",DA17,IF(IFERROR(VLOOKUP(AF17,Schicht_Tabelle,13,0),0)=1,DA17+1,0)) -> 0 | DC17: =IF(B$4="",0,N(ROUND(24+IFERROR(VLOOKUP(B17,Schicht_Tabelle,16,0),99)-Feb!BW17,2)<Min_Ruhe)) -> 0 | DD17: =IF(C$4="",0,N(ROUND(24+IFERROR(VLOOKUP(C17,Schicht_Tabelle,16,0),99)-AS17,2)<Min_Ruhe)) -> 0 | DE17: =IF(D$4="",0,N(ROUND(24+IFERROR(VLOOKUP(D17,Schicht_Tabelle,16,0),99)-AT17,2)<Min_Ruhe)) -> 0 | DF17: =IF(E$4="",0,N(ROUND(24+IFERROR(VLOOKUP(E17,Schicht_Tabelle,16,0),99)-AU17,2)<Min_Ruhe)) -> 0 | DG17: =IF(F$4="",0,N(ROUND(24+IFERROR(VLOOKUP(F17,Schicht_Tabelle,16,0),99)-AV17,2)<Min_Ruhe)) -> 0 | DH17: =IF(G$4="",0,N(ROUND(24+IFERROR(VLOOKUP(G17,Schicht_Tabelle,16,0),99)-AW17,2)<Min_Ruhe)) -> 0 | DI17: =IF(H$4="",0,N(ROUND(24+IFERROR(VLOOKUP(H17,Schicht_Tabelle,16,0),99)-AX17,2)<Min_Ruhe)) -> 0 | DJ17: =IF(I$4="",0,N(ROUND(24+IFERROR(VLOOKUP(I17,Schicht_Tabelle,16,0),99)-AY17,2)<Min_Ruhe)) -> 0 | DK17: =IF(J$4="",0,N(ROUND(24+IFERROR(VLOOKUP(J17,Schicht_Tabelle,16,0),99)-AZ17,2)<Min_Ruhe)) -> 0 | ... EG17: =IF(AF$4="",0,N(ROUND(24+IFERROR(VLOOKUP(AF17,Schicht_Tabelle,16,0),99)-BV17,2)<Min_Ruhe)) -> 0
... A30: =IF(Mitarbeitende!A30="","",Mitarbeitende!A30) | AH30: =IF(OR($A30="",N(Mitarbeitende!$C30)=0),"",IF(Soll_Modus="Kalendertagen",Mitarbeitende!$C30/7*COUNT($B$4:$AF$4),Mitarbeitende!$C30/5*SUM($B$43:$AF$43))) | AI30: =IF($A30="","",SUMPRODUCT(COUNTIF($B30:$AF30,Kuerzel_Liste)*Std_Liste)+SUMPRODUCT(COUNTIF($B30:$AF30,Kuerzel_Liste)*Bezahlt_Liste)*N(Mitarbeitende!$D30)) | AJ30: =IF(OR($A30="",AH30="",COUNTA($B30:$AF30)=0),"",AI30-AH30) | AK30: =IF(OR($A30="",AK$5=""),"",COUNTIF($B30:$AF30,AK$5)) | AL30: =IF(OR($A30="",AL$5=""),"",COUNTIF($B30:$AF30,AL$5)) | AM30: =IF(OR($A30="",AM$5=""),"",COUNTIF($B30:$AF30,AM$5)) | AN30: =IF(OR($A30="",AN$5=""),"",COUNTIF($B30:$AF30,AN$5)) | AO30: =IF(OR($A30="",AO$5=""),"",COUNTIF($B30:$AF30,AO$5)) | AP30: =IF($A30="","",SUMPRODUCT($B$42:$AF$42*(COUNTIF(Arbeit_Liste,$B30:$AF30)>0))) | AQ30: =IF($A30="","",IF(SUM(DC30:EG30)>0,SUM(DC30:EG30)&"x Ruhezeit","")&IF(AND(SUM(DC30:EG30)>0,MAX(BX30:DB30)>Max_Folge),", ","")&IF(MAX(BX30:DB30)>Max_Folge,MAX(BX30:DB30)&" Tage am Stück","")) | AR30: =IF(COUNTA($B30:$AF30)>0,N(AH30),0) -> 0 | AS30: =IF(B$4="",Feb!BW30,IFERROR(VLOOKUP(B30,Schicht_Tabelle,12,0),-999)) -> -999 | AT30: =IF(C$4="",AS30,IFERROR(VLOOKUP(C30,Schicht_Tabelle,12,0),-999)) -> -999 | AU30: =IF(D$4="",AT30,IFERROR(VLOOKUP(D30,Schicht_Tabelle,12,0),-999)) -> -999 | AV30: =IF(E$4="",AU30,IFERROR(VLOOKUP(E30,Schicht_Tabelle,12,0),-999)) -> -999 | AW30: =IF(F$4="",AV30,IFERROR(VLOOKUP(F30,Schicht_Tabelle,12,0),-999)) -> -999 | AX30: =IF(G$4="",AW30,IFERROR(VLOOKUP(G30,Schicht_Tabelle,12,0),-999)) -> -999 | AY30: =IF(H$4="",AX30,IFERROR(VLOOKUP(H30,Schicht_Tabelle,12,0),-999)) -> -999 | AZ30: =IF(I$4="",AY30,IFERROR(VLOOKUP(I30,Schicht_Tabelle,12,0),-999)) -> -999 | BA30: =IF(J$4="",AZ30,IFERROR(VLOOKUP(J30,Schicht_Tabelle,12,0),-999)) -> -999 | ... BW30: =IF(AF$4="",BV30,IFERROR(VLOOKUP(AF30,Schicht_Tabelle,12,0),-999)) -> -999 | BX30: =IF(B$4="",Feb!DB30,IF(IFERROR(VLOOKUP(B30,Schicht_Tabelle,13,0),0)=1,Feb!DB30+1,0)) -> 0 | BY30: =IF(C$4="",BX30,IF(IFERROR(VLOOKUP(C30,Schicht_Tabelle,13,0),0)=1,BX30+1,0)) -> 0 | BZ30: =IF(D$4="",BY30,IF(IFERROR(VLOOKUP(D30,Schicht_Tabelle,13,0),0)=1,BY30+1,0)) -> 0 | CA30: =IF(E$4="",BZ30,IF(IFERROR(VLOOKUP(E30,Schicht_Tabelle,13,0),0)=1,BZ30+1,0)) -> 0 | CB30: =IF(F$4="",CA30,IF(IFERROR(VLOOKUP(F30,Schicht_Tabelle,13,0),0)=1,CA30+1,0)) -> 0 | CC30: =IF(G$4="",CB30,IF(IFERROR(VLOOKUP(G30,Schicht_Tabelle,13,0),0)=1,CB30+1,0)) -> 0 | CD30: =IF(H$4="",CC30,IF(IFERROR(VLOOKUP(H30,Schicht_Tabelle,13,0),0)=1,CC30+1,0)) -> 0 | CE30: =IF(I$4="",CD30,IF(IFERROR(VLOOKUP(I30,Schicht_Tabelle,13,0),0)=1,CD30+1,0)) -> 0 | CF30: =IF(J$4="",CE30,IF(IFERROR(VLOOKUP(J30,Schicht_Tabelle,13,0),0)=1,CE30+1,0)) -> 0 | ... DB30: =IF(AF$4="",DA30,IF(IFERROR(VLOOKUP(AF30,Schicht_Tabelle,13,0),0)=1,DA30+1,0)) -> 0 | DC30: =IF(B$4="",0,N(ROUND(24+IFERROR(VLOOKUP(B30,Schicht_Tabelle,16,0),99)-Feb!BW30,2)<Min_Ruhe)) -> 0 | DD30: =IF(C$4="",0,N(ROUND(24+IFERROR(VLOOKUP(C30,Schicht_Tabelle,16,0),99)-AS30,2)<Min_Ruhe)) -> 0 | DE30: =IF(D$4="",0,N(ROUND(24+IFERROR(VLOOKUP(D30,Schicht_Tabelle,16,0),99)-AT30,2)<Min_Ruhe)) -> 0 | DF30: =IF(E$4="",0,N(ROUND(24+IFERROR(VLOOKUP(E30,Schicht_Tabelle,16,0),99)-AU30,2)<Min_Ruhe)) -> 0 | DG30: =IF(F$4="",0,N(ROUND(24+IFERROR(VLOOKUP(F30,Schicht_Tabelle,16,0),99)-AV30,2)<Min_Ruhe)) -> 0 | DH30: =IF(G$4="",0,N(ROUND(24+IFERROR(VLOOKUP(G30,Schicht_Tabelle,16,0),99)-AW30,2)<Min_Ruhe)) -> 0 | DI30: =IF(H$4="",0,N(ROUND(24+IFERROR(VLOOKUP(H30,Schicht_Tabelle,16,0),99)-AX30,2)<Min_Ruhe)) -> 0 | DJ30: =IF(I$4="",0,N(ROUND(24+IFERROR(VLOOKUP(I30,Schicht_Tabelle,16,0),99)-AY30,2)<Min_Ruhe)) -> 0 | DK30: =IF(J$4="",0,N(ROUND(24+IFERROR(VLOOKUP(J30,Schicht_Tabelle,16,0),99)-AZ30,2)<Min_Ruhe)) -> 0 | ... EG30: =IF(AF$4="",0,N(ROUND(24+IFERROR(VLOOKUP(AF30,Schicht_Tabelle,16,0),99)-BV30,2)<Min_Ruhe)) -> 0
A32: Besetzung je Schicht | AH32: Min. Mo bis Fr | AI32: Min. Sa, So, Ft
A33: =IF(Start!$B$14="","",Start!$B$14&" "&IFERROR(VLOOKUP(Start!$B$14,Schicht_Tabelle,2,FALSE),"")) -> F Früh | B33: =IF(OR(B$4="",Start!$B$14=""),"",COUNTIF(B$6:B$30,Start!$B$14)) -> 0 | C33: =IF(OR(C$4="",Start!$B$14=""),"",COUNTIF(C$6:C$30,Start!$B$14)) -> 0 | D33: =IF(OR(D$4="",Start!$B$14=""),"",COUNTIF(D$6:D$30,Start!$B$14)) -> 0 | E33: =IF(OR(E$4="",Start!$B$14=""),"",COUNTIF(E$6:E$30,Start!$B$14)) -> 0 | F33: =IF(OR(F$4="",Start!$B$14=""),"",COUNTIF(F$6:F$30,Start!$B$14)) -> 0 | G33: =IF(OR(G$4="",Start!$B$14=""),"",COUNTIF(G$6:G$30,Start!$B$14)) -> 0 | H33: =IF(OR(H$4="",Start!$B$14=""),"",COUNTIF(H$6:H$30,Start!$B$14)) -> 0 | I33: =IF(OR(I$4="",Start!$B$14=""),"",COUNTIF(I$6:I$30,Start!$B$14)) -> 0 | ... AF33: =IF(OR(AF$4="",Start!$B$14=""),"",COUNTIF(AF$6:AF$30,Start!$B$14)) -> 0 | AH33: =IF(Start!$B$14="","",N(Start!$C$14)) -> 2 | AI33: =IF(Start!$B$14="","",N(Start!$D$14)) -> 2
A34: =IF(Start!$B$15="","",Start!$B$15&" "&IFERROR(VLOOKUP(Start!$B$15,Schicht_Tabelle,2,FALSE),"")) -> S Spät | B34: =IF(OR(B$4="",Start!$B$15=""),"",COUNTIF(B$6:B$30,Start!$B$15)) -> 0 | C34: =IF(OR(C$4="",Start!$B$15=""),"",COUNTIF(C$6:C$30,Start!$B$15)) -> 0 | D34: =IF(OR(D$4="",Start!$B$15=""),"",COUNTIF(D$6:D$30,Start!$B$15)) -> 0 | E34: =IF(OR(E$4="",Start!$B$15=""),"",COUNTIF(E$6:E$30,Start!$B$15)) -> 0 | F34: =IF(OR(F$4="",Start!$B$15=""),"",COUNTIF(F$6:F$30,Start!$B$15)) -> 0 | G34: =IF(OR(G$4="",Start!$B$15=""),"",COUNTIF(G$6:G$30,Start!$B$15)) -> 0 | H34: =IF(OR(H$4="",Start!$B$15=""),"",COUNTIF(H$6:H$30,Start!$B$15)) -> 0 | I34: =IF(OR(I$4="",Start!$B$15=""),"",COUNTIF(I$6:I$30,Start!$B$15)) -> 0 | ... AF34: =IF(OR(AF$4="",Start!$B$15=""),"",COUNTIF(AF$6:AF$30,Start!$B$15)) -> 0 | AH34: =IF(Start!$B$15="","",N(Start!$C$15)) -> 2 | AI34: =IF(Start!$B$15="","",N(Start!$D$15)) -> 2
A35: =IF(Start!$B$16="","",Start!$B$16&" "&IFERROR(VLOOKUP(Start!$B$16,Schicht_Tabelle,2,FALSE),"")) -> N Nacht | B35: =IF(OR(B$4="",Start!$B$16=""),"",COUNTIF(B$6:B$30,Start!$B$16)) -> 0 | C35: =IF(OR(C$4="",Start!$B$16=""),"",COUNTIF(C$6:C$30,Start!$B$16)) -> 0 | D35: =IF(OR(D$4="",Start!$B$16=""),"",COUNTIF(D$6:D$30,Start!$B$16)) -> 0 | E35: =IF(OR(E$4="",Start!$B$16=""),"",COUNTIF(E$6:E$30,Start!$B$16)) -> 0 | F35: =IF(OR(F$4="",Start!$B$16=""),"",COUNTIF(F$6:F$30,Start!$B$16)) -> 0 | G35: =IF(OR(G$4="",Start!$B$16=""),"",COUNTIF(G$6:G$30,Start!$B$16)) -> 0 | H35: =IF(OR(H$4="",Start!$B$16=""),"",COUNTIF(H$6:H$30,Start!$B$16)) -> 0 | I35: =IF(OR(I$4="",Start!$B$16=""),"",COUNTIF(I$6:I$30,Start!$B$16)) -> 0 | ... AF35: =IF(OR(AF$4="",Start!$B$16=""),"",COUNTIF(AF$6:AF$30,Start!$B$16)) -> 0 | AH35: =IF(Start!$B$16="","",N(Start!$C$16)) -> 2 | AI35: =IF(Start!$B$16="","",N(Start!$D$16)) -> 2
A36: =IF(Start!$B$17="","",Start!$B$17&" "&IFERROR(VLOOKUP(Start!$B$17,Schicht_Tabelle,2,FALSE),"")) -> T Tag | B36: =IF(OR(B$4="",Start!$B$17=""),"",COUNTIF(B$6:B$30,Start!$B$17)) -> 0 | C36: =IF(OR(C$4="",Start!$B$17=""),"",COUNTIF(C$6:C$30,Start!$B$17)) -> 0 | D36: =IF(OR(D$4="",Start!$B$17=""),"",COUNTIF(D$6:D$30,Start!$B$17)) -> 0 | E36: =IF(OR(E$4="",Start!$B$17=""),"",COUNTIF(E$6:E$30,Start!$B$17)) -> 0 | F36: =IF(OR(F$4="",Start!$B$17=""),"",COUNTIF(F$6:F$30,Start!$B$17)) -> 0 | G36: =IF(OR(G$4="",Start!$B$17=""),"",COUNTIF(G$6:G$30,Start!$B$17)) -> 0 | H36: =IF(OR(H$4="",Start!$B$17=""),"",COUNTIF(H$6:H$30,Start!$B$17)) -> 0 | I36: =IF(OR(I$4="",Start!$B$17=""),"",COUNTIF(I$6:I$30,Start!$B$17)) -> 0 | ... AF36: =IF(OR(AF$4="",Start!$B$17=""),"",COUNTIF(AF$6:AF$30,Start!$B$17)) -> 0 | AH36: =IF(Start!$B$17="","",N(Start!$C$17)) -> 1 | AI36: =IF(Start!$B$17="","",N(Start!$D$17)) -> 0
A37: =IF(Start!$B$18="","",Start!$B$18&" "&IFERROR(VLOOKUP(Start!$B$18,Schicht_Tabelle,2,FALSE),"")) | B37: =IF(OR(B$4="",Start!$B$18=""),"",COUNTIF(B$6:B$30,Start!$B$18)) | C37: =IF(OR(C$4="",Start!$B$18=""),"",COUNTIF(C$6:C$30,Start!$B$18)) | D37: =IF(OR(D$4="",Start!$B$18=""),"",COUNTIF(D$6:D$30,Start!$B$18)) | E37: =IF(OR(E$4="",Start!$B$18=""),"",COUNTIF(E$6:E$30,Start!$B$18)) | F37: =IF(OR(F$4="",Start!$B$18=""),"",COUNTIF(F$6:F$30,Start!$B$18)) | G37: =IF(OR(G$4="",Start!$B$18=""),"",COUNTIF(G$6:G$30,Start!$B$18)) | H37: =IF(OR(H$4="",Start!$B$18=""),"",COUNTIF(H$6:H$30,Start!$B$18)) | I37: =IF(OR(I$4="",Start!$B$18=""),"",COUNTIF(I$6:I$30,Start!$B$18)) | ... AF37: =IF(OR(AF$4="",Start!$B$18=""),"",COUNTIF(AF$6:AF$30,Start!$B$18)) | AH37: =IF(Start!$B$18="","",N(Start!$C$18)) | AI37: =IF(Start!$B$18="","",N(Start!$D$18))
A39: ="Rot hinterlegt: Ruhezeit unter "&Min_Ruhe&" Std. zum Vortag · Schwarz-gelb: mehr als "&Max_Folge&" Arbeitstage am Stück · Besetzung grün: Minimum erreicht, rot: zu wenig · So.: Schichten am Sonntag" -> Rot hinterlegt: Ruhezeit unter 11 Std. zum Vortag · Schwarz-gelb: mehr als 6 Arbeitstage am Stück · Besetzung grün: Minimum erreicht, rot: zu wenig · So.: Schichten am Sonntag
A40: ="Wochenenden blaugrau, Feiertage ("&Bundesland&") rosa. Soll-Stunden nach "&Soll_Modus&". Urlaub und krank zählen mit den Stunden aus dem Blatt Mitarbeitende." -> Wochenenden blaugrau, Feiertage (Nordrhein-Westfalen) rosa. Soll-Stunden nach Arbeitstagen Mo bis Fr. Urlaub und krank zählen mit den Stunden aus dem Blatt Mitarbeitende.
A41: Hilfszeilen (ausgeblendet), bitte nicht ändern
A42: Sonntag | B42: =IF(B4="",0,IF(WEEKDAY(B4,2)=7,1,0)) -> 0 | C42: =IF(C4="",0,IF(WEEKDAY(C4,2)=7,1,0)) -> 0 | D42: =IF(D4="",0,IF(WEEKDAY(D4,2)=7,1,0)) -> 0 | E42: =IF(E4="",0,IF(WEEKDAY(E4,2)=7,1,0)) -> 0 | F42: =IF(F4="",0,IF(WEEKDAY(F4,2)=7,1,0)) -> 0 | G42: =IF(G4="",0,IF(WEEKDAY(G4,2)=7,1,0)) -> 0 | H42: =IF(H4="",0,IF(WEEKDAY(H4,2)=7,1,0)) -> 1 | I42: =IF(I4="",0,IF(WEEKDAY(I4,2)=7,1,0)) -> 0 | ... AF42: =IF(AF4="",0,IF(WEEKDAY(AF4,2)=7,1,0)) -> 0
